BEGIN:VCALENDAR
VERSION:2.0
PRODID:-//Eventi in Toscana By Toscana Tascabile - ECPv6.15.12.2//NONSGML v1.0//EN
CALSCALE:GREGORIAN
METHOD:PUBLISH
X-WR-CALNAME:Eventi in Toscana By Toscana Tascabile
X-ORIGINAL-URL:https://www.eventiintoscana.it
X-WR-CALDESC:Eventi per Eventi in Toscana By Toscana Tascabile
REFRESH-INTERVAL;VALUE=DURATION:PT1H
X-Robots-Tag:noindex
X-PUBLISHED-TTL:PT1H
BEGIN:VTIMEZONE
TZID:Europe/Rome
BEGIN:DAYLIGHT
TZOFFSETFROM:+0100
TZOFFSETTO:+0200
TZNAME:CEST
DTSTART:20160327T010000
END:DAYLIGHT
BEGIN:STANDARD
TZOFFSETFROM:+0200
TZOFFSETTO:+0100
TZNAME:CET
DTSTART:20161030T010000
END:STANDARD
BEGIN:DAYLIGHT
TZOFFSETFROM:+0100
TZOFFSETTO:+0200
TZNAME:CEST
DTSTART:20170326T010000
END:DAYLIGHT
BEGIN:STANDARD
TZOFFSETFROM:+0200
TZOFFSETTO:+0100
TZNAME:CET
DTSTART:20171029T010000
END:STANDARD
BEGIN:DAYLIGHT
TZOFFSETFROM:+0100
TZOFFSETTO:+0200
TZNAME:CEST
DTSTART:20180325T010000
END:DAYLIGHT
BEGIN:STANDARD
TZOFFSETFROM:+0200
TZOFFSETTO:+0100
TZNAME:CET
DTSTART:20181028T010000
END:STANDARD
END:VTIMEZONE
BEGIN:VEVENT
DTSTART;TZID=Europe/Rome:20170205T000000
DTEND;TZID=Europe/Rome:20170305T000000
DTSTAMP:20260421T200652
CREATED:20170119T101403Z
LAST-MODIFIED:20170221T095400Z
UID:232748-1486252800-1488672000@www.eventiintoscana.it
SUMMARY:Il Carnevale di Viareggio - Viareggio (Lucca)
DESCRIPTION:Il Carnevale di Viareggio 5\, 12\, 18\, 26\, 28 febbraio\, 5 marzo 2017\nA causa della pioggia il primo corso mascherato è stato rimandato al 12 febbraio e l’ultimo corso sarà eccezionalmente domenica 5 marzo! \nDomenica 5 febbraio il triplice colpo di cannone lancerà l’inequivocabile segno che a Viareggio inizia il grande spettacolo delle macchine allegoriche. Come per magia i giganteschi mascheroni prenderanno vita tra movimenti\, musica e balli. Uno spettacolo sempre nuovo\, affascinante\, emozionante e molto coinvolgente che stupisce il pubblico di ogni età. Frutto di una tradizione artistica e culturale che Viareggio custodisce da 144 anni. I corsi mascherati 2017 si svolgeranno come da tradizione sui viali a mare. Per un mese\, la città si trasforma nella fabbrica del divertimento tra sfilate di giganti di cartapesta\, feste notturne\, spettacoli pirotecnici\, veglioni\, rassegne teatrali\, appuntamenti gastronomici e grandi eventi sportivi mondiali. Sabato 18 dalle ore 17 al termine del terzo corso mascherato in programma il grande spettacolo pirotecnico. La proclamazione dei vincitori 2017 avverrà invece il 28 in occasione del Martedì Grasso. Anche in questo caso la serata si concluderà con uno spettacolo pirotecnico da non perdere! \nGUARDA LA GALLERY FOTOGRAFICA
URL:https://www.eventiintoscana.it/evento/il-carnevale-di-viareggio-2017-lucca
LOCATION:Viareggio\, Viareggio\, Toscana\, Italia
CATEGORIES:Lucca
ATTACH;FMTTYPE=image/jpeg:https://www.eventiintoscana.it/wp-content/uploads/2017/01/19736__carnevalediviareggio-3.jpg
END:VEVENT
END:VCALENDAR