BEGIN:VCALENDAR
VERSION:2.0
PRODID:-//Eventi in Toscana By Toscana Tascabile - ECPv6.15.12.2//NONSGML v1.0//EN
CALSCALE:GREGORIAN
METHOD:PUBLISH
X-WR-CALNAME:Eventi in Toscana By Toscana Tascabile
X-ORIGINAL-URL:https://www.eventiintoscana.it
X-WR-CALDESC:Eventi per Eventi in Toscana By Toscana Tascabile
REFRESH-INTERVAL;VALUE=DURATION:PT1H
X-Robots-Tag:noindex
X-PUBLISHED-TTL:PT1H
BEGIN:VTIMEZONE
TZID:Europe/Rome
BEGIN:DAYLIGHT
TZOFFSETFROM:+0100
TZOFFSETTO:+0200
TZNAME:CEST
DTSTART:20190331T010000
END:DAYLIGHT
BEGIN:STANDARD
TZOFFSETFROM:+0200
TZOFFSETTO:+0100
TZNAME:CET
DTSTART:20191027T010000
END:STANDARD
BEGIN:DAYLIGHT
TZOFFSETFROM:+0100
TZOFFSETTO:+0200
TZNAME:CEST
DTSTART:20200329T010000
END:DAYLIGHT
BEGIN:STANDARD
TZOFFSETFROM:+0200
TZOFFSETTO:+0100
TZNAME:CET
DTSTART:20201025T010000
END:STANDARD
BEGIN:DAYLIGHT
TZOFFSETFROM:+0100
TZOFFSETTO:+0200
TZNAME:CEST
DTSTART:20210328T010000
END:DAYLIGHT
BEGIN:STANDARD
TZOFFSETFROM:+0200
TZOFFSETTO:+0100
TZNAME:CET
DTSTART:20211031T010000
END:STANDARD
END:VTIMEZONE
BEGIN:VEVENT
DTSTART;TZID=Europe/Rome:20200222T150000
DTEND;TZID=Europe/Rome:20200222T190000
DTSTAMP:20260420T024810
CREATED:20200214T074344Z
LAST-MODIFIED:20200214T074344Z
UID:285511-1582383600-1582398000@www.eventiintoscana.it
SUMMARY:Carnevale Vadese - Vada (Rosignano M.mo\, Livorno)
DESCRIPTION:Sabato 22 febbraio si tiene a Vada il Carnevale Vadese.\nI carri partono alle ore 15 dal parcheggio Conad\, per arrivare in Piazza alle ore 16. \nQui si troveranno anche gonfiabili\, jump e banchi di dolci per un pomeriggio di piena allegria.
URL:https://www.eventiintoscana.it/evento/carnevale-vadese-vada-rosignano-m-mo-livorno
CATEGORIES:Feste e Folklore,Livorno
ATTACH;FMTTYPE=image/jpeg:https://www.eventiintoscana.it/wp-content/uploads/2020/02/carnevale-vadese.jpg
END:VEVENT
END:VCALENDAR