BEGIN:VCALENDAR
VERSION:2.0
PRODID:-//Eventi in Toscana By Toscana Tascabile - ECPv6.15.12.2//NONSGML v1.0//EN
CALSCALE:GREGORIAN
METHOD:PUBLISH
X-WR-CALNAME:Eventi in Toscana By Toscana Tascabile
X-ORIGINAL-URL:https://www.eventiintoscana.it
X-WR-CALDESC:Eventi per Eventi in Toscana By Toscana Tascabile
REFRESH-INTERVAL;VALUE=DURATION:PT1H
X-Robots-Tag:noindex
X-PUBLISHED-TTL:PT1H
BEGIN:VTIMEZONE
TZID:Europe/Rome
BEGIN:DAYLIGHT
TZOFFSETFROM:+0100
TZOFFSETTO:+0200
TZNAME:CEST
DTSTART:20160327T010000
END:DAYLIGHT
BEGIN:STANDARD
TZOFFSETFROM:+0200
TZOFFSETTO:+0100
TZNAME:CET
DTSTART:20161030T010000
END:STANDARD
BEGIN:DAYLIGHT
TZOFFSETFROM:+0100
TZOFFSETTO:+0200
TZNAME:CEST
DTSTART:20170326T010000
END:DAYLIGHT
BEGIN:STANDARD
TZOFFSETFROM:+0200
TZOFFSETTO:+0100
TZNAME:CET
DTSTART:20171029T010000
END:STANDARD
BEGIN:DAYLIGHT
TZOFFSETFROM:+0100
TZOFFSETTO:+0200
TZNAME:CEST
DTSTART:20180325T010000
END:DAYLIGHT
BEGIN:STANDARD
TZOFFSETFROM:+0200
TZOFFSETTO:+0100
TZNAME:CET
DTSTART:20181028T010000
END:STANDARD
BEGIN:DAYLIGHT
TZOFFSETFROM:+0100
TZOFFSETTO:+0200
TZNAME:CEST
DTSTART:20190331T010000
END:DAYLIGHT
BEGIN:STANDARD
TZOFFSETFROM:+0200
TZOFFSETTO:+0100
TZNAME:CET
DTSTART:20191027T010000
END:STANDARD
BEGIN:DAYLIGHT
TZOFFSETFROM:+0100
TZOFFSETTO:+0200
TZNAME:CEST
DTSTART:20200329T010000
END:DAYLIGHT
BEGIN:STANDARD
TZOFFSETFROM:+0200
TZOFFSETTO:+0100
TZNAME:CET
DTSTART:20201025T010000
END:STANDARD
BEGIN:DAYLIGHT
TZOFFSETFROM:+0100
TZOFFSETTO:+0200
TZNAME:CEST
DTSTART:20210328T010000
END:DAYLIGHT
BEGIN:STANDARD
TZOFFSETFROM:+0200
TZOFFSETTO:+0100
TZNAME:CET
DTSTART:20211031T010000
END:STANDARD
BEGIN:DAYLIGHT
TZOFFSETFROM:+0100
TZOFFSETTO:+0200
TZNAME:CEST
DTSTART:20220327T010000
END:DAYLIGHT
BEGIN:STANDARD
TZOFFSETFROM:+0200
TZOFFSETTO:+0100
TZNAME:CET
DTSTART:20221030T010000
END:STANDARD
BEGIN:DAYLIGHT
TZOFFSETFROM:+0100
TZOFFSETTO:+0200
TZNAME:CEST
DTSTART:20230326T010000
END:DAYLIGHT
BEGIN:STANDARD
TZOFFSETFROM:+0200
TZOFFSETTO:+0100
TZNAME:CET
DTSTART:20231029T010000
END:STANDARD
BEGIN:DAYLIGHT
TZOFFSETFROM:+0100
TZOFFSETTO:+0200
TZNAME:CEST
DTSTART:20240331T010000
END:DAYLIGHT
BEGIN:STANDARD
TZOFFSETFROM:+0200
TZOFFSETTO:+0100
TZNAME:CET
DTSTART:20241027T010000
END:STANDARD
END:VTIMEZONE
BEGIN:VEVENT
DTSTART;TZID=Europe/Rome:20230212T143000
DTEND;TZID=Europe/Rome:20230212T190000
DTSTAMP:20260420T161722
CREATED:20230125T102047Z
LAST-MODIFIED:20230210T083116Z
UID:232997-1676212200-1676228400@www.eventiintoscana.it
SUMMARY:Carnevale dei bambini - Vitolini (Vinci\, Firenze)
DESCRIPTION:Domenica 12 febbraio 2023 ultima data a Vitolini per il Carnevale dei bambini. \nLe sfilate del Carnevale dei bambini cominciano alle ore 14.30. \nTroveremo carri allegorici e pentolaccia in piazza. \n\nFonte: Pagina Facebook
URL:https://www.eventiintoscana.it/evento/carnevale-dei-bambini-vitolini-vitolini-firenze
LOCATION:Vitolini\, Vinci\, Toscana\, IT
CATEGORIES:Feste e Folklore,Firenze
ATTACH;FMTTYPE=image/jpeg:https://www.eventiintoscana.it/wp-content/uploads/2017/01/Carnevale-bambini-Vitolini.jpg
END:VEVENT
BEGIN:VEVENT
DTSTART;TZID=Europe/Rome:20170228T000000
DTEND;TZID=Europe/Rome:20170228T000000
DTSTAMP:20260420T161722
CREATED:20170121T102042Z
LAST-MODIFIED:20170127T163843Z
UID:232993-1488240000-1488240000@www.eventiintoscana.it
SUMMARY:Carnevale di Certaldo - Certaldo (Firenze)
DESCRIPTION:A Certaldo si festeggia il Martedì grasso\, 28 febbraio 2017\nPartenza alle 14.30 dall’Istituto comprensivo di Certaldo Basso in via Leopardi e arrivo a Certaldo Alto accompagnati dalla banda e dai trampolieri per il concentramento degli alunni delle scuole e di tutti coloro che vorranno prendervi parte (la partecipazione è gratuita). \nUna volta arrivato nella parte alta del bel comune della Valdelsa\, il corteo proseguirà per tutto il pomeriggio tra animazoni\, giochi e banchi di dolciumi.
URL:https://www.eventiintoscana.it/evento/carnevale-di-certaldo-certaldo-certaldo-firenze
LOCATION:Certaldo\, Certaldo\, Firenze\, 50052\, Italia
CATEGORIES:Firenze
ATTACH;FMTTYPE=image/jpeg:https://www.eventiintoscana.it/wp-content/uploads/2017/01/19767__carnevale2_650x300.jpg
END:VEVENT
BEGIN:VEVENT
DTSTART;TZID=Europe/Rome:20170223T000000
DTEND;TZID=Europe/Rome:20170228T000000
DTSTAMP:20260420T161722
CREATED:20170120T123346Z
LAST-MODIFIED:20170131T155508Z
UID:232875-1487808000-1488240000@www.eventiintoscana.it
SUMMARY:Carnevale Piombinese - Piombino (Livorno)
DESCRIPTION:Due date per il Carnevale piombinese: giovedì grasso e martedì grasso\nInizio dei festeggiamenti del Carnevale il 23 febbraio\, giovedì grasso\, quando al Rivellino cominceranno la festa e l’animazione per ragazzi; domenica 26\, poi\, alle 15 comincia la sfilata di Carnevale per le vie del centro a cura della Pro Loco di Piombino. \nIl Carnevale piombinese termina nella giornata del martedì grasso\, il 28 febbraio\, con la sfilata di Carnevale con i carri e Cicciolo\, il fantoccio di cartapesta che verrà bruciato al termine dei festeggiamenti.
URL:https://www.eventiintoscana.it/evento/carnevale-piombinese-piombino-piombino-livorno
LOCATION:Piombino\, Piombino\, Toscana\, Italia
CATEGORIES:Livorno
ATTACH;FMTTYPE=image/jpeg:https://www.eventiintoscana.it/wp-content/uploads/2017/01/19631__carnevalepiombinese-1.jpg
END:VEVENT
BEGIN:VEVENT
DTSTART;TZID=Europe/Rome:20170219T080000
DTEND;TZID=Europe/Rome:20170228T170000
DTSTAMP:20260420T161722
CREATED:20170127T172410Z
LAST-MODIFIED:20170127T172410Z
UID:233618-1487491200-1488301200@www.eventiintoscana.it
SUMMARY:Carnevale dei Ragazzi\, Montevarchi (AR)
DESCRIPTION:Appuntamento a Montevarchi (AR) il 19\, 26 e 28 febbraio \nLe due domeniche 19 e 26 febbraio e il martedì grasso\, 28\, torna la 63ª edizione dei corsi mascherati nel centro storico a partire dalle 15. Durante la manifestazione\, in piazza Varchi\, saranno presenti stand con cenci e brighelle di Pinocchio\, mentre nel centro storico sarà allestito un parco giochi. \nMolte le iniziative collegate: dal 21 al 28 febbraio mostra dedicata al 63° Carnevale dei ragazzi presso il Centro polivalente La Bartolea; il 18 febbraio in piazza Garibaldi ecco il ‘Pinocchio d’oro’\, il concorso per la Miglior Voce\, mentre il 5 marzo alla Coop Pestello 29° Concorso per la migliore Mascherina\, manifestazione dedicata a tutti i bambini del Valdarno. \nFeste di Carnevale anche a Mercatale Valdarno (il 28)\, a Ricasoli (il 18)\, a Moncioni (il 18)\, a Levane (18\, 25 e 16 febbraio).
URL:https://www.eventiintoscana.it/evento/montevarchi-ar-19-26-28-febbraio
LOCATION:Montevarchi\, Montevarchi
CATEGORIES:arezzo,Rassegne e Sagre
ATTACH;FMTTYPE=image/png:https://www.eventiintoscana.it/wp-content/uploads/2017/01/Schermata-2017-01-27-a-18.23.13.png
END:VEVENT
BEGIN:VEVENT
DTSTART;TZID=Europe/Rome:20170219T080000
DTEND;TZID=Europe/Rome:20170226T170000
DTSTAMP:20260420T161722
CREATED:20170131T164551Z
LAST-MODIFIED:20170131T164551Z
UID:233765-1487491200-1488128400@www.eventiintoscana.it
SUMMARY:Carnevale di Stia - Stia (AR)
DESCRIPTION:Arriva a Stia l’atteso appuntamento con il Carnevale nelle due domeniche del 19 e 26 febbraio 2017\nOrganizzata dalla Società del Carnevale di Stia\,  la festa torna nelle due date di domenica 19 febbraio e di domenica 26 febbraio\, dalle ore 15 alle ore 19: la sfilata partirà da via Montalbano (la pace) fino ad arrivare in Piazza Tanucci\, tradizionale e bellissima location dell’evento. \nQuest’anno la grande novità sarà il ritorno della ‘Maschera D’oro’\, la storica sfilata in costume che si articola in due sessioni\, domenica 19 febbraio e domenica 26 febbraio. Il Contest Cosplay avrà luogo domenica 26 febbraio ed i costumi indossati dai partecipanti alla gara dovranno essere attinenti al mondo dell’animazione\, del fumetto\, del cinema\, dei telefilm\, della musica\, dei videogiochi e dei libri. \nDurante il percorso e all’interno della piazza stessa i partecipanti potranno esibirsi nelle forme ritenute opportune in modo tale che la giuria possa esprimere il proprio voto compiutamente. \nI vincitori dei due concorsi saranno decretati Domenica 26 alla ore 18 da una giuria composta da esperti e appassionati competenti nelle varie tipologie di costumi\, che assegnerà i seguenti premi: maschera d’oro\, maschera d’argento e maschera di bronzo ai primi tre classificati di ogni categoria (gruppo\, maschera singola). \nTra i due vincitori della maschera d’oro verrà eletto un primo assoluto al quale verranno assegnati\, come premio speciale\, 400 euro. \nPer partecipare alla gara è necessaria l’iscrizione on-line tramite e-mail\, carnevale.stia@gmail.com\, o tramite fax\, 0575/581171\, inviando il modulo di iscrizione scaricabile al seguente link http://www.logicacacomunicazione.it/carnevalecosplaystia2017/iscrizioneconcorso.zip.
URL:https://www.eventiintoscana.it/evento/carnevale-stia-stia-ar
LOCATION:Stia\, Arezzo
CATEGORIES:Firenze,Rassegne e Sagre
ATTACH;FMTTYPE=image/jpeg:https://www.eventiintoscana.it/wp-content/uploads/2017/01/carnevale-stia.jpg
ORGANIZER;CN="Societ%C3%A0 del Carnevale di Stia":MAILTO:carnevale.stia@gmail.com,
END:VEVENT
BEGIN:VEVENT
DTSTART;TZID=Europe/Rome:20170219T000000
DTEND;TZID=Europe/Rome:20170228T000000
DTSTAMP:20260420T161722
CREATED:20170120T123354Z
LAST-MODIFIED:20170127T173756Z
UID:232881-1487462400-1488240000@www.eventiintoscana.it
SUMMARY:Carnevale Sangiovannese - San Giovanni Valdarno (Arezzo)
DESCRIPTION:Tre appuntamenti per il Carnevale Sangiovannese: 19\, 26 e 28 febbraio 2017\nTre i carri allegorici realizzati quest’anno dai volontari della Società del Carnevale di San Giovanni Valdarno\, due di satira politica e uno dedicato al tema dell’accoglienza verso i bambini e i migranti: quest’ultimo\, dal doppio titolo ‘Re Giocondo con i bimbi’ e ‘Pace e coriandoli’\, rappresenta l’accoglienza\, grazie alla figura di Re Giocondo che abbraccia il mondo. \nIl primo dei carri di satira  si intitola ‘Onesti cercasi’ e rappresenta un mare con due delfini che a rappresentare gli uscieri del Parlamento e una piovra\, la politica; il secondo è ‘La banda larga’ e i soggetti principali sono… una banda di ladri. Presente anche un carro dedicato ai bambini\, quel quale i più piccoli potranno salire. \nLe sfilate partono alle 15 e le giornate di festa saranno allietate anche da due bande folkloristiche della provincia di Pisa; si terrà inoltre la premiazione per la maschera più bella sia per i bambini che per gli adulti\,e verrà anche premiato il miglior gruppo mascherato.
URL:https://www.eventiintoscana.it/evento/carnevale-sangiovannese-san-giovanni-valdarno-san-giovanni-valdarno-arezzo
LOCATION:San Giovanni Valdarno\, San Giovanni Valdarno\, Toscana\, Italia
CATEGORIES:arezzo
ATTACH;FMTTYPE=image/jpeg:https://www.eventiintoscana.it/wp-content/uploads/2017/01/19634__carnevale.jpg
END:VEVENT
BEGIN:VEVENT
DTSTART;TZID=Europe/Rome:20170212T000000
DTEND;TZID=Europe/Rome:20170228T000000
DTSTAMP:20260420T161722
CREATED:20170124T203931Z
LAST-MODIFIED:20170127T162232Z
UID:233420-1486857600-1488240000@www.eventiintoscana.it
SUMMARY:Carnevale Pietrasantino - Pietrasanta\, (Lucca)
DESCRIPTION:Carnevale Pietrasantino 12\, 19\, 26\, 28 febbraio 2017\nDodici contrade pronte a darsi battaglia a colpi di scenette in dialetto e canzonette. Tutto pronto per lo Sprocco e la Scartocciata edizione 2017 che apre la stagione delle sfide tra i contradaioli che quest’anno avranno un concorrente in più da temere: la contrada Il Tiglio-La Beca rientrata dopo tre anni di assenze. Il programma prevede tre corsi mascherati (12\, 19 e 26 febbraio) e il carnevale dei bambini in piazza Matteotti (28 febbraio). Tra le novità\, oltre alla conduzione affidata al giornalista e conduttore televisivo\, Federico Conti\, il ritorno ad una programmazione più organica che concentra nella serata finale del sabato premiazioni\, gioia e lacrime sia di scenetta che canzonetta. Sul palco protagoniste saranno Miss Carnevale 2017 Maria Benedetta Bosi e le due maschere ufficiali Sprocco e Scalpellina. Dodici\, come anticipato\, le contrade in gara per la canzonetta che tenteranno di aggiudicarsi lo scettro. Dodici anche le scenette\, quattro ogni sera: il divertimento è garantito.
URL:https://www.eventiintoscana.it/evento/carnevale-pietrasantino-12-19-26-28-febbraio-2017
LOCATION:Pietrasanta\, Pietrasanta\, Toscana\, Italia
CATEGORIES:Lucca
ATTACH;FMTTYPE=image/jpeg:https://www.eventiintoscana.it/wp-content/uploads/2017/01/19785__carnevalepietrasantino.jpg
END:VEVENT
BEGIN:VEVENT
DTSTART;TZID=Europe/Rome:20170212T000000
DTEND;TZID=Europe/Rome:20170226T000000
DTSTAMP:20260420T161722
CREATED:20170125T094133Z
LAST-MODIFIED:20170130T162719Z
UID:233487-1486857600-1488067200@www.eventiintoscana.it
SUMMARY:Carnevale follonichese - Follonica (Grosseto)
DESCRIPTION:Appuntamento a Follonica il 12\, 19 e 26 febbraio 2017\nLa partenza del Carnevale è prevista tutte le domeniche alle 14.30; il 12 si comincia con la prima sfilata dei carri allegorici e delle mascherate a terra sul circuito cittadino sul lungomare Carducci\, mentre il 19 si prosegue anche in serata con la cena libera-giro pizza alle 19.30 e il veglionissimo delle Reginette alle 21 all’Hotel Letizia. \nSi chiude il 26\, con anche la partecipazione della Filarmonica ‘G. Puccini’ di Follonica\, del Gruppo Follonichese ‘Carnevalando’ e con la premiazione del miglior carro e migliore mascherata a terra; alle 17.30 arriva anche il rogo di Re Carnevale sul Mare e alle 18.30 spettacolo pirotecnico della 50ª edizione alla foce della Gora. In caso di maltempo si terrà una sfilata supplementare il 5 marzo (o nelle domeniche successive).
URL:https://www.eventiintoscana.it/evento/carnevale-follonichese-follonica-follonica-grosseto
LOCATION:Follonica\, Follonica\, Toscana\, Italia
CATEGORIES:Grosseto
ATTACH;FMTTYPE=image/jpeg:https://www.eventiintoscana.it/wp-content/uploads/2017/01/19800__carnevalefollonica.jpg
END:VEVENT
BEGIN:VEVENT
DTSTART;TZID=Europe/Rome:20170205T000000
DTEND;TZID=Europe/Rome:20170305T000000
DTSTAMP:20260420T161722
CREATED:20170120T123331Z
LAST-MODIFIED:20170127T170409Z
UID:232869-1486252800-1488672000@www.eventiintoscana.it
SUMMARY:Carnevale di Foiano - Foiano della Chiana (Arezzo)
DESCRIPTION:Al via in Toscana dal 5 febbraio al 5 marzo la 478esima edizione del più antico carnevale d’Italia Carnevale\nA Foiano della Chiana (Ar) domenica torna il più antico d’Italia 5\, 12\, 19\, 26 Febbraio e 5 marzo: sono queste le date in cui il piccolo borgo toscano\, cuore della Valdichiana\, porterà in piazza l’arte della cartapesta. Tante le novità in programma e gli eventi collaterali che faranno da sfondo alla 478esima edizione \nSono in fermento i quattro cantieri dove i mastri cartapestai stanno dando vita ai mastodontici carri allegorici che saranno i protagonisti dell’edizione 2017 del Carnevale di Foiano della Chiana\, il piccolo borgo toscano in provincia di Arezzo che ospita il carnevale più antico d’Italia giunto quest’anno alla sua 478 esima edizione. Cinque domeniche di festa\, dal 5 febbraio al 5 marzo\, durante le quali le vie del paese saranno teatro dei festeggiamenti in onore di Re Giocondo\, il patrono della manifestazione\, e in attesa del verdetto finale per decretare il vincitore tra i quattro cantieri in gara con vere e proprie opere di cartapesta. \nQuattro i carri allegorici in gara rispettivamente realizzati dai quattro “cantieri” come si chiamano a Foiano della Chiana\, che dalla prima domenica daranno vita a veri e propri spettacoli che avranno come palcoscenico le piccole vie del centro storico di Foiano. Azzurri\, Bombolo\, Nottambuli e Rustici: questi i nomi delle quattro fazioni che da secoli ormai si sfidano ogni anno a colpi di coriandoli e cartapesta realizzando imponenti opere artistiche apprezzate in tutto il mondo.  Attesa\, da parte del pubblico\, per scoprire quali saranno i colori e i soggetti rappresentati in forma allegorica da veri e propri maestri della cartapesta e della meccanica. \nLe novità. Dopo il successo degli scorsi anni si ripeteranno le sfilate per il Viale Umberto I nelle domeniche 19 e 26 febbraio. La grande novità sarà l’area pensata per i più piccoli\, “Carnevalandia”\, uno spazio completamente nuovo con spettacoli di burattini\, teatro\, giocolieri\, gonfiabili\, giostre\, parata disney tutto gratuito con animazioni e spettacoli dalla mattina. Da quest’anno parte la collaborazione speciale con la Fondazione Meyer con presenza della parata Disney presso le corsie dell’ospedale (date ancora da definire) e la presenza della Fondazione con uno stand durante le giornate di Carnevale. Prosegue la collaborazione anche con l’Outlet Village Valdichiana che durante le giornate dei sabati precedenti le sfilate ospiterà parate e spettacoli a cura dell’Associazione Carnevale. Durante le domeniche sono confermati gli appuntamenti con il lancio di coriandoli e gadget\, mentre tutti i sabato pomeriggio e tutte le domeniche mattina la Pro Loco organizzerà dei trekking urbani per scoprire le bellezze artistiche e architettoniche del borgo toscano. Il sabato un ricco programma con degustazioni e corsi di cucina con i prodotti tipici della Valdichiana promossi dalla Pro Loco presso la nuova sede dedicata a queste eccellenze. Per tutte le settimane di Carnevale la mostra delle opere partecipanti alla decima edizione del Premio Biennale di Pittura del Carnevale con la partecipazione straordinaria della scultrice Vittoria Marziari. \nIl Carnevale di Foiano della Chiana\, il più antico d’Italia giunto con il 2017 alla 478esima edizione\, è considerato tra le più importanti manifestazioni del genere in Italia\, sia per le spettacolari coreografie sia per la sua tradizione storiografica.  Quattro mastodontici carri allegorici realizzati da veri maestri della cartapesta e da tecnici della meccanica. \nDurante il periodo carnevalesco alcuni ristoranti del territorio proporranno dei menu tematici a prezzi speciali\, mentre le strutture agrituristiche e alberghiere proporranno dei pacchetti per i fine settimana del carnevale. Il programma completo della manifestazione e altre informazioni sul sito www.carnevaledifoiano.it
URL:https://www.eventiintoscana.it/evento/carnevale-di-foiano-foiano-della-chiana-foiano-della-chiana-arezzo
LOCATION:Foiano della Chiana\, Foiano della Chiana\, Toscana\, 52045\, Italia
CATEGORIES:arezzo
ATTACH;FMTTYPE=image/jpeg:https://www.eventiintoscana.it/wp-content/uploads/2017/01/19630__carnevaledifoiano2.jpg
END:VEVENT
BEGIN:VEVENT
DTSTART;TZID=Europe/Rome:20170205T000000
DTEND;TZID=Europe/Rome:20170305T000000
DTSTAMP:20260420T161722
CREATED:20170119T101403Z
LAST-MODIFIED:20170221T095400Z
UID:232748-1486252800-1488672000@www.eventiintoscana.it
SUMMARY:Il Carnevale di Viareggio - Viareggio (Lucca)
DESCRIPTION:Il Carnevale di Viareggio 5\, 12\, 18\, 26\, 28 febbraio\, 5 marzo 2017\nA causa della pioggia il primo corso mascherato è stato rimandato al 12 febbraio e l’ultimo corso sarà eccezionalmente domenica 5 marzo! \nDomenica 5 febbraio il triplice colpo di cannone lancerà l’inequivocabile segno che a Viareggio inizia il grande spettacolo delle macchine allegoriche. Come per magia i giganteschi mascheroni prenderanno vita tra movimenti\, musica e balli. Uno spettacolo sempre nuovo\, affascinante\, emozionante e molto coinvolgente che stupisce il pubblico di ogni età. Frutto di una tradizione artistica e culturale che Viareggio custodisce da 144 anni. I corsi mascherati 2017 si svolgeranno come da tradizione sui viali a mare. Per un mese\, la città si trasforma nella fabbrica del divertimento tra sfilate di giganti di cartapesta\, feste notturne\, spettacoli pirotecnici\, veglioni\, rassegne teatrali\, appuntamenti gastronomici e grandi eventi sportivi mondiali. Sabato 18 dalle ore 17 al termine del terzo corso mascherato in programma il grande spettacolo pirotecnico. La proclamazione dei vincitori 2017 avverrà invece il 28 in occasione del Martedì Grasso. Anche in questo caso la serata si concluderà con uno spettacolo pirotecnico da non perdere! \nGUARDA LA GALLERY FOTOGRAFICA
URL:https://www.eventiintoscana.it/evento/il-carnevale-di-viareggio-2017-lucca
LOCATION:Viareggio\, Viareggio\, Toscana\, Italia
CATEGORIES:Lucca
ATTACH;FMTTYPE=image/jpeg:https://www.eventiintoscana.it/wp-content/uploads/2017/01/19736__carnevalediviareggio-3.jpg
END:VEVENT
BEGIN:VEVENT
DTSTART;TZID=Europe/Rome:20170205T000000
DTEND;TZID=Europe/Rome:20170228T000000
DTSTAMP:20260420T161722
CREATED:20170124T203952Z
LAST-MODIFIED:20170130T165734Z
UID:233436-1486252800-1488240000@www.eventiintoscana.it
SUMMARY:Carnevale dei Ragazzi - Vicopisano\, (Pisa)
DESCRIPTION:Carnevale dei Ragazzi – Vicopisano 5\, 12\, 19\, 26\, 28 febbraio 2017\nQuattro domeniche e il Martedì Grasso\, questi gli appuntamenti imperdibili a Vicopisano per la nuova edizione del Carnevale dei Ragazzi. Nella piazza centrale G.Cavalca la novità di quest’anno sarà un nuovo carro con protagonista il simpatico e giallissimo SpongeBob. I bambini oltre che con tutte le attrazioni tipiche del carnevale potranno divertirsi con uno spazio dedicato esclusivamente ai gonfiabili!
URL:https://www.eventiintoscana.it/evento/carnevale-dei-ragazzi-vicopisano-pisa
LOCATION:Vicopisano\, Vicopisano\, Toscana\, IT
CATEGORIES:Pisa
ATTACH;FMTTYPE=image/jpeg:https://www.eventiintoscana.it/wp-content/uploads/2017/01/19793__carnevale8.jpg
END:VEVENT
BEGIN:VEVENT
DTSTART;TZID=Europe/Rome:20170205T000000
DTEND;TZID=Europe/Rome:20170219T000000
DTSTAMP:20260420T161722
CREATED:20170124T203949Z
LAST-MODIFIED:20170130T165334Z
UID:233434-1486252800-1487462400@www.eventiintoscana.it
SUMMARY:Carnevale Santacrocese - Santa Croce sull'Arno\, (Pisa)
DESCRIPTION:Carnevale Santacrocese 5\, 12\, 19 febbraio 2017\nSarà la compagnia il Trio Fio a presentare le sfilate 2017 del Carnevale Santacrocese mentre l’intrattenimento sarà a cura di Dj Set by Cioffa. Non mancheranno neanche artisti di strada con giocolerai itinerante\, mercatini e spazio giochi. Sabato 18 a Villa Pacchiani Gran Veglione di Carnevale mentre domenica 19 alle 15 in piazza Matteotti sfilata in maschera degli alunni delle scuole. A seguire estrazione dei biglietti vincenti della lotteria di carnevale. In occasione del Giovedì Grasso (23) mascherata libera con premiazione della maschera più buffa. Alle ore 23 gran finale con lo spettacolo pirotecnico.
URL:https://www.eventiintoscana.it/evento/carnevale-santacrocese-santa-croce-sullarno-pisa
LOCATION:Santa Croce sull’Arno\, Pisa\, Toscana\, Italia
CATEGORIES:Pisa
ATTACH;FMTTYPE=image/jpeg:https://www.eventiintoscana.it/wp-content/uploads/2017/01/19792__carnevalesantacrocese.jpg
END:VEVENT
BEGIN:VEVENT
DTSTART;TZID=Europe/Rome:20170205T000000
DTEND;TZID=Europe/Rome:20170219T000000
DTSTAMP:20260420T161722
CREATED:20170124T203943Z
LAST-MODIFIED:20170130T164858Z
UID:233430-1486252800-1487462400@www.eventiintoscana.it
SUMMARY:Carnevale Sanromanese - San Romano\, Montopoli (Pisa)
DESCRIPTION:Carnevale Sanromanese\, 5\, 12\, 19 febbraio 2017\nPer i festeggiamenti della 25esima edizione del carnevale a San Romano viene organizzato un viaggio nei ricordi di Fiorellino (storica mascotte del carnevale). Quattro carri sfileranno insieme all’immancabile trenino lungo il Lungarno Pacinotti. Saranno quindi riprese tematiche del passato come il Farwest e la Strega per ripercorrere anni di storia. A coronare i pomeriggi di festa la Baby Band composta da bambini di 5 anni e la sfilata con costumi tipici dell’Associazione Senegalesi che in occasione del carnevale omaggerà le tradizioni locali. Orario 15-18.
URL:https://www.eventiintoscana.it/evento/carnevale-sanromanese-san-romano-montopoli-pisa
LOCATION:San Romano\, Montopoli\, Toscana\, 56020\, Italia
CATEGORIES:Pisa
ATTACH;FMTTYPE=image/jpeg:https://www.eventiintoscana.it/wp-content/uploads/2017/01/19790__carnevale5.jpg
END:VEVENT
BEGIN:VEVENT
DTSTART;TZID=Europe/Rome:20170204T080000
DTEND;TZID=Europe/Rome:20170225T170000
DTSTAMP:20260420T161722
CREATED:20170127T150229Z
LAST-MODIFIED:20170209T152635Z
UID:233528-1486195200-1488042000@www.eventiintoscana.it
SUMMARY:Carnevale al Valdichiana Outlet Village - Foiano della Chiana (AR)
DESCRIPTION:Il Carnevale arriva al Valdichiana Outlet Village: una mostra fotografica che ripercorre la storia del Carnevale di Foiano e tante iniziative per le strade del Village!\nIn occasione del Carnevale 2017\, il Valdichiana Outlet Village ha stretto una collaborazione importante con il Carnevale di Foiano della Chiana\, tra i più antichi d’Italia\, organizzando per la prima volta in assoluto una mostra (in collaborazione con il Comitato organizzatore\, i cantieri e l’Amministrazione Comunale) dal titolo ‘Viaggio nel Carnevale\, dal 1900 ad oggi’: un allestimento scenografico d’eccezione che comprende 15 strutture bifacciali alte 2\,5 metri\, sulle quali verrà ripercorsa la storia del Carnevale di Foiano attraverso una serie di scatti storici che partono dall’inizio del XX secolo. \nLa mostra\, visibile dal 4 al 25 febbraio\, darà evidenza anche ai costumi delle mascherate dei cantieri\, ai bozzetti e ai plastici dei carri\, ai mascheroni e alle figure in cartapesta\, ai documento audio-visivi. Importanti critici nazionali hanno già annunciato la propria presenza. \n \n \nInoltre\, alcuni Appuntamenti del Carnevale di Foiano sono ospitati all’interno dell’Outlet della Valdichiana:  \n\n[passato] domenica 29 gennaio (dalle ore 16)\, Parata Disney. La Parata animerà il Valdichiana Outlet Village con sessanta personaggi delle fiabe. Grandi e bambini che porteranno per le vie del centro commerciale la magia delle favole Disney. Nata da un’idea del Comitato Organizzatore del Carnevale di Foiano della Chiana (Ar)\nsabato 18 febbraio (dalle ore 16)\, Le Cirque. La parata di Farfalle su trampoli rappresenta uno dei più scenografici spettacoli di animazione itinerante di artisti di strada del panorama italiano degli ultimi tempi. Leggere coloratissime farfalle su trampoli\, regaleranno al pubblico di grandi e piccoli uno spettacolo acrobatico di straordinaria scenograficità e di grande emozione con passaggi leggiadri ed eleganti lungo vie del Village.\nsabato 25 febbraio (dalle ore 16)\, Contest Mascherate dei Cantieri. Le Mascherate sono 4 una per ogni Cantiere (Azzurri\, Bombolo\, Nottambuli e Rustici\,). Maschere e vestiti realizzati rigorosamente a mano che ogni anno sposano il tema del carro in gara. Si esibiscono in una sfilata arricchita da coreografie ogni anno diverse e sempre più complesse realizzando un’atmosfera unica ed uno spettacolo incredibilmente coinvolgente.\n\nIl Valdichiana Outlet Village nasce nel 2005 e conta ad oggi 140 negozi e circa 4 milioni e mezzo di visitatori all’anno. E’ aperto tutti i giorni\, dal lunedì alla domenica\, dalle 10 alle 20. Questo il sito
URL:https://www.eventiintoscana.it/evento/carnevale-al-valdichiana-outlet-village-foiano-della-chiana-ar
LOCATION:Valdichiana Outlet Village\, Via Enzo Ferrari\, 5\, Foiano della Chiana (Arezzo)
CATEGORIES:arezzo,Rassegne e Sagre
ATTACH;FMTTYPE=image/png:https://www.eventiintoscana.it/wp-content/uploads/2017/01/ValdichianaOutlet-Village_650x300.png
END:VEVENT
END:VCALENDAR