BEGIN:VCALENDAR
VERSION:2.0
PRODID:-//Eventi in Toscana By Toscana Tascabile - ECPv6.15.12.2//NONSGML v1.0//EN
CALSCALE:GREGORIAN
METHOD:PUBLISH
X-ORIGINAL-URL:https://www.eventiintoscana.it
X-WR-CALDESC:Eventi per Eventi in Toscana By Toscana Tascabile
REFRESH-INTERVAL;VALUE=DURATION:PT1H
X-Robots-Tag:noindex
X-PUBLISHED-TTL:PT1H
BEGIN:VTIMEZONE
TZID:Europe/Rome
BEGIN:DAYLIGHT
TZOFFSETFROM:+0100
TZOFFSETTO:+0200
TZNAME:CEST
DTSTART:20160327T010000
END:DAYLIGHT
BEGIN:STANDARD
TZOFFSETFROM:+0200
TZOFFSETTO:+0100
TZNAME:CET
DTSTART:20161030T010000
END:STANDARD
BEGIN:DAYLIGHT
TZOFFSETFROM:+0100
TZOFFSETTO:+0200
TZNAME:CEST
DTSTART:20170326T010000
END:DAYLIGHT
BEGIN:STANDARD
TZOFFSETFROM:+0200
TZOFFSETTO:+0100
TZNAME:CET
DTSTART:20171029T010000
END:STANDARD
BEGIN:DAYLIGHT
TZOFFSETFROM:+0100
TZOFFSETTO:+0200
TZNAME:CEST
DTSTART:20180325T010000
END:DAYLIGHT
BEGIN:STANDARD
TZOFFSETFROM:+0200
TZOFFSETTO:+0100
TZNAME:CET
DTSTART:20181028T010000
END:STANDARD
END:VTIMEZONE
BEGIN:VEVENT
DTSTART;TZID=Europe/Rome:20170226T000000
DTEND;TZID=Europe/Rome:20170228T000000
DTSTAMP:20260422T004737
CREATED:20170119T091557Z
LAST-MODIFIED:20170127T172759Z
UID:232557-1488067200-1488240000@www.eventiintoscana.it
SUMMARY:Carnevale Storico - Bibbiena (AR)
DESCRIPTION:Due date per il Carnevale storico di Bibbiena: il 26 e il 28 febbraio 2017\nIl Carnevale storico di Bibbiena si celebra in due giornate\, a partire dal pomeriggio di domenica 26 febbraio quando i presenti posson oassistere ad animazione e rievocazione degli antichi mestieri\, seguiti dal corteggio storico con il rapimento della Mea. \nIl giorno del martedì grasso\, ovvero il 28 febbraio\, nel pomeriggio viene bruciato il bello pomo\, ovvero un ginepro. Si segnala anche\, domenica 26 presso il Museo archeologico del Casentino\, visita al museo e laboratorio sul tema ‘La Mea tra storia e leggenda’ (orario 15.30-18\, prenotazione obbligatoria al 335.6244537 – 0575.595486).
URL:https://www.eventiintoscana.it/evento/il-carnvale-di-bibbiena-bibbiena-bibbiena-arezzo
LOCATION:Bibbiena\, Bibbiena\, Toscana\, 52011\, Italia
CATEGORIES:arezzo
ATTACH;FMTTYPE=image/jpeg:https://www.eventiintoscana.it/wp-content/uploads/2017/01/19648__carnevaledibibbiena-2.jpg
END:VEVENT
BEGIN:VEVENT
DTSTART;TZID=Europe/Rome:20170225T150000
DTEND;TZID=Europe/Rome:20170225T200000
DTSTAMP:20260422T004737
CREATED:20170119T101359Z
LAST-MODIFIED:20180216T160732Z
UID:232745-1488034800-1488052800@www.eventiintoscana.it
SUMMARY:Carnevale ForteBambino - Piazza Garibaldi\, Forte dei Marmi (Lucca)
DESCRIPTION:La festa del Carneval Fortebambino 2018 “Musica Maestro”\, prevista per domenica 18 Febbraio alle ore 15\,00 in Piazza Garibaldi\, è stata rinviata alla stessa ora di domenica 25 Febbraio a causa delle avverse condizioni meteorologiche.
URL:https://www.eventiintoscana.it/evento/carnevale-piazza-garibaldi-forte-dei-marmi-lucca
LOCATION:Piazza Garibaldi\, Forte dei Marmi\, Toscana\, 55042\, Italia
CATEGORIES:Lucca
ATTACH;FMTTYPE=image/jpeg:https://www.eventiintoscana.it/wp-content/uploads/2017/01/19735__carnevale5.jpg
END:VEVENT
BEGIN:VEVENT
DTSTART;TZID=Europe/Rome:20170223T000000
DTEND;TZID=Europe/Rome:20170228T000000
DTSTAMP:20260422T004737
CREATED:20170120T123346Z
LAST-MODIFIED:20170131T155508Z
UID:232875-1487808000-1488240000@www.eventiintoscana.it
SUMMARY:Carnevale Piombinese - Piombino (Livorno)
DESCRIPTION:Due date per il Carnevale piombinese: giovedì grasso e martedì grasso\nInizio dei festeggiamenti del Carnevale il 23 febbraio\, giovedì grasso\, quando al Rivellino cominceranno la festa e l’animazione per ragazzi; domenica 26\, poi\, alle 15 comincia la sfilata di Carnevale per le vie del centro a cura della Pro Loco di Piombino. \nIl Carnevale piombinese termina nella giornata del martedì grasso\, il 28 febbraio\, con la sfilata di Carnevale con i carri e Cicciolo\, il fantoccio di cartapesta che verrà bruciato al termine dei festeggiamenti.
URL:https://www.eventiintoscana.it/evento/carnevale-piombinese-piombino-piombino-livorno
LOCATION:Piombino\, Piombino\, Toscana\, Italia
CATEGORIES:Livorno
ATTACH;FMTTYPE=image/jpeg:https://www.eventiintoscana.it/wp-content/uploads/2017/01/19631__carnevalepiombinese-1.jpg
END:VEVENT
BEGIN:VEVENT
DTSTART;TZID=Europe/Rome:20170219T000000
DTEND;TZID=Europe/Rome:20170226T000000
DTSTAMP:20260422T004737
CREATED:20170125T094113Z
LAST-MODIFIED:20170127T164825Z
UID:233478-1487462400-1488067200@www.eventiintoscana.it
SUMMARY:Carnevale di Castelfiorentino - Castelfiorentino (Firenze)
DESCRIPTION:Due domeniche di festa: il 19 e il 26 febbraio 2017\nTorna il Carnevale che il comune della Val d’Elsa dedica ad ‘Alice nel paese delle meraviglie’: una vera e  propria festa itinerante che parte alle 14.30 da piazza Kennedy e che si snoda nel corso del pomeriggio per le vie principali\, attraversando via Bovio\, via Ferruccio Costa\, piazza del Popolo\, via Tilli\, piazza delle Stanze Operaie e approda infine in piazza Gramsci. \nLa sfilata itinerante si ferma appunto via via attraverso vari punti di sosta dove sarà possibile assistere a vari momenti evocativi del classico della Disney. Il Carnevale è organizzato dalle associazioni locali e dai singoli cittadini.
URL:https://www.eventiintoscana.it/evento/carnevale-di-castelfiorentino-castelfiorentino-castelfiorentino-firenze
LOCATION:Castelfiorentino\, Castelfiorentino\, Toscana\, 50051\, Italia
CATEGORIES:Firenze
ATTACH;FMTTYPE=image/jpeg:https://www.eventiintoscana.it/wp-content/uploads/2017/01/19798__carnevale3.jpg
END:VEVENT
BEGIN:VEVENT
DTSTART;TZID=Europe/Rome:20170212T140000
DTEND;TZID=Europe/Rome:20170305T140000
DTSTAMP:20260422T004737
CREATED:20170119T101341Z
LAST-MODIFIED:20170127T163500Z
UID:232735-1486908000-1488722400@www.eventiintoscana.it
SUMMARY:CarnevalMarlia - Marlia (Lucca)
DESCRIPTION:CarnevalMarlia\, 5\, 12\, 19\, 26 febbraio e 5 marzo 2017\nIl carnevale inizia il 5 a Marlia\, dove alle 14.30 partirà il primo corso mascherato e l’animazione di ‘Adele Group’.  Il 12 si prosegue con il secondo corso mascherato e l’animazione di ‘Mara e Egidio’\, truccabimbi\, magia e bolle di sapone che animeranno il pomeriggio. Il 19 terzo corso mascherato e animazione musicale con ‘Sabrina’\, mentre per il quarto corso del 26 tornano sul palco ‘Mara e Egidio’. Infine il 5 marzo chiusura con il quinto corso mascherato\, i carri allegorici saluteranno il carnevale con l’animazione di ‘Adele Group’. I ragazzi potranno salire sui carri e giocare con gli animatori.  Alle ore 17 le giornate si concluderanno con l’estrazione dei biglietti per l’assegnazione di tre biciclette.
URL:https://www.eventiintoscana.it/evento/carnevalmarlia-5-12-19-26-febbraio-e-5-marzo-2017
LOCATION:Marlia\, Capannori\, Toscana\, 55012\, Italia
CATEGORIES:Lucca
ATTACH;FMTTYPE=image/jpeg:https://www.eventiintoscana.it/wp-content/uploads/2017/01/carnevalmarlia.jpg
END:VEVENT
BEGIN:VEVENT
DTSTART;TZID=Europe/Rome:20170212T000000
DTEND;TZID=Europe/Rome:20170228T000000
DTSTAMP:20260422T004737
CREATED:20170120T123632Z
LAST-MODIFIED:20170206T120000Z
UID:232895-1486857600-1488240000@www.eventiintoscana.it
SUMMARY:Carnevale di Paperino - Paperino\, (Prato)
DESCRIPTION:Carnevale di Paperino\, 12\, 19\, 26\, 28 febbraio 2017\nIl Carnevale di Paperino compie 40 anni! Nata nel 1977 come riscoperta della maschera per adulti la manifestazione si è evoluta negli anni e si conferma come l’iniziativa più importante sul territorio. I laboratori sono frequentati da soci del Circolo Arci\, singoli cittadini di Paperino e di Prato\, gruppi teatrali e di danza\, genitori e insegnanti delle scuole elementari e materne della città. I laboratori sono in grande fermento già dall’autunno e lavorano alla realizzazione delle maschere (circa  250 come ogni anno)\, dei quattro carri e delle piccole strutture viaggianti che corredano le sfilate. \n \nMa le novità per celebrare i 40 anni non si fermano alla sfilata. Ogni domenica\, infatti\, ci sarà un’iniziativa speciale con ospiti di prestigio\, che caratterizzeranno la giornata di festa. Di seguito il programma: \n \n 
URL:https://www.eventiintoscana.it/evento/carnevale-di-paperino-po-12-19-26-28-febbraio-2017
LOCATION:Paperino\, Prato\, Toscana\, 59100\, Italia
CATEGORIES:Prato
ATTACH;FMTTYPE=image/jpeg:https://www.eventiintoscana.it/wp-content/uploads/2017/01/CSCF2732.jpg
END:VEVENT
BEGIN:VEVENT
DTSTART;TZID=Europe/Rome:20170205T000000
DTEND;TZID=Europe/Rome:20170305T000000
DTSTAMP:20260422T004737
CREATED:20170120T123331Z
LAST-MODIFIED:20170127T170409Z
UID:232869-1486252800-1488672000@www.eventiintoscana.it
SUMMARY:Carnevale di Foiano - Foiano della Chiana (Arezzo)
DESCRIPTION:Al via in Toscana dal 5 febbraio al 5 marzo la 478esima edizione del più antico carnevale d’Italia Carnevale\nA Foiano della Chiana (Ar) domenica torna il più antico d’Italia 5\, 12\, 19\, 26 Febbraio e 5 marzo: sono queste le date in cui il piccolo borgo toscano\, cuore della Valdichiana\, porterà in piazza l’arte della cartapesta. Tante le novità in programma e gli eventi collaterali che faranno da sfondo alla 478esima edizione \nSono in fermento i quattro cantieri dove i mastri cartapestai stanno dando vita ai mastodontici carri allegorici che saranno i protagonisti dell’edizione 2017 del Carnevale di Foiano della Chiana\, il piccolo borgo toscano in provincia di Arezzo che ospita il carnevale più antico d’Italia giunto quest’anno alla sua 478 esima edizione. Cinque domeniche di festa\, dal 5 febbraio al 5 marzo\, durante le quali le vie del paese saranno teatro dei festeggiamenti in onore di Re Giocondo\, il patrono della manifestazione\, e in attesa del verdetto finale per decretare il vincitore tra i quattro cantieri in gara con vere e proprie opere di cartapesta. \nQuattro i carri allegorici in gara rispettivamente realizzati dai quattro “cantieri” come si chiamano a Foiano della Chiana\, che dalla prima domenica daranno vita a veri e propri spettacoli che avranno come palcoscenico le piccole vie del centro storico di Foiano. Azzurri\, Bombolo\, Nottambuli e Rustici: questi i nomi delle quattro fazioni che da secoli ormai si sfidano ogni anno a colpi di coriandoli e cartapesta realizzando imponenti opere artistiche apprezzate in tutto il mondo.  Attesa\, da parte del pubblico\, per scoprire quali saranno i colori e i soggetti rappresentati in forma allegorica da veri e propri maestri della cartapesta e della meccanica. \nLe novità. Dopo il successo degli scorsi anni si ripeteranno le sfilate per il Viale Umberto I nelle domeniche 19 e 26 febbraio. La grande novità sarà l’area pensata per i più piccoli\, “Carnevalandia”\, uno spazio completamente nuovo con spettacoli di burattini\, teatro\, giocolieri\, gonfiabili\, giostre\, parata disney tutto gratuito con animazioni e spettacoli dalla mattina. Da quest’anno parte la collaborazione speciale con la Fondazione Meyer con presenza della parata Disney presso le corsie dell’ospedale (date ancora da definire) e la presenza della Fondazione con uno stand durante le giornate di Carnevale. Prosegue la collaborazione anche con l’Outlet Village Valdichiana che durante le giornate dei sabati precedenti le sfilate ospiterà parate e spettacoli a cura dell’Associazione Carnevale. Durante le domeniche sono confermati gli appuntamenti con il lancio di coriandoli e gadget\, mentre tutti i sabato pomeriggio e tutte le domeniche mattina la Pro Loco organizzerà dei trekking urbani per scoprire le bellezze artistiche e architettoniche del borgo toscano. Il sabato un ricco programma con degustazioni e corsi di cucina con i prodotti tipici della Valdichiana promossi dalla Pro Loco presso la nuova sede dedicata a queste eccellenze. Per tutte le settimane di Carnevale la mostra delle opere partecipanti alla decima edizione del Premio Biennale di Pittura del Carnevale con la partecipazione straordinaria della scultrice Vittoria Marziari. \nIl Carnevale di Foiano della Chiana\, il più antico d’Italia giunto con il 2017 alla 478esima edizione\, è considerato tra le più importanti manifestazioni del genere in Italia\, sia per le spettacolari coreografie sia per la sua tradizione storiografica.  Quattro mastodontici carri allegorici realizzati da veri maestri della cartapesta e da tecnici della meccanica. \nDurante il periodo carnevalesco alcuni ristoranti del territorio proporranno dei menu tematici a prezzi speciali\, mentre le strutture agrituristiche e alberghiere proporranno dei pacchetti per i fine settimana del carnevale. Il programma completo della manifestazione e altre informazioni sul sito www.carnevaledifoiano.it
URL:https://www.eventiintoscana.it/evento/carnevale-di-foiano-foiano-della-chiana-foiano-della-chiana-arezzo
LOCATION:Foiano della Chiana\, Foiano della Chiana\, Toscana\, 52045\, Italia
CATEGORIES:arezzo
ATTACH;FMTTYPE=image/jpeg:https://www.eventiintoscana.it/wp-content/uploads/2017/01/19630__carnevaledifoiano2.jpg
END:VEVENT
END:VCALENDAR