BEGIN:VCALENDAR
VERSION:2.0
PRODID:-//Eventi in Toscana By Toscana Tascabile - ECPv6.15.12.2//NONSGML v1.0//EN
CALSCALE:GREGORIAN
METHOD:PUBLISH
X-ORIGINAL-URL:https://www.eventiintoscana.it
X-WR-CALDESC:Eventi per Eventi in Toscana By Toscana Tascabile
REFRESH-INTERVAL;VALUE=DURATION:PT1H
X-Robots-Tag:noindex
X-PUBLISHED-TTL:PT1H
BEGIN:VTIMEZONE
TZID:Europe/Rome
BEGIN:DAYLIGHT
TZOFFSETFROM:+0100
TZOFFSETTO:+0200
TZNAME:CEST
DTSTART:20200329T010000
END:DAYLIGHT
BEGIN:STANDARD
TZOFFSETFROM:+0200
TZOFFSETTO:+0100
TZNAME:CET
DTSTART:20201025T010000
END:STANDARD
BEGIN:DAYLIGHT
TZOFFSETFROM:+0100
TZOFFSETTO:+0200
TZNAME:CEST
DTSTART:20210328T010000
END:DAYLIGHT
BEGIN:STANDARD
TZOFFSETFROM:+0200
TZOFFSETTO:+0100
TZNAME:CET
DTSTART:20211031T010000
END:STANDARD
BEGIN:DAYLIGHT
TZOFFSETFROM:+0100
TZOFFSETTO:+0200
TZNAME:CEST
DTSTART:20220327T010000
END:DAYLIGHT
BEGIN:STANDARD
TZOFFSETFROM:+0200
TZOFFSETTO:+0100
TZNAME:CET
DTSTART:20221030T010000
END:STANDARD
END:VTIMEZONE
BEGIN:VEVENT
DTSTART;VALUE=DATE:20210214
DTEND;VALUE=DATE:20210217
DTSTAMP:20260420T021013
CREATED:20210207T091446Z
LAST-MODIFIED:20210207T091446Z
UID:288729-1613260800-1613519999@www.eventiintoscana.it
SUMMARY:Carnevale in Mascherina + Concerto di San Valentino - Lastra a Signa (Firenze)
DESCRIPTION:Domenica 14 e martedì 16 febbraio appuntamento a Lastra a Signa con due divertenti iniziative.\nDomenica 14 febbraio\nore 10 – 13 : Lastra a Signa\nCorteo di Carnevale per le strade con Il Re del Carnevale accompagnati dalla Banda di Malmantile \nore 18.00 : in streaming dal Teatro delle Arti\n“A come Amore” Concerto di San Valentino con gli auguri in diretta dell’amministrazione comunale e canzoni eseguite dal vivo da Francesco Giorgi\, Marlene Fuochi e Bob Jay \nMartedì 16 febbraio\nore 18.00 : in streaming dal Teatro delle Arti\n“Il Carnevale dei Ragazzi” con D’Artagnan Il Mago delle Bolle\n+\nPremiazione del concorso “Carnevale in Mascherina” presentata da Roberto Caccavo \n\nCONCORSO ONLINE “Carnevale in Mascherina”\na cura del Teatro delle Arti in collaborazione con Biblioteca Comunale\, Lastra Shopping\, Gruppo Fratres\, Parrocchia della Natività\, Circolo ARCI LE DUE STRADE APS\, Misericordia\, Gruppo Storico dei Castelli di Lastra e Malmantile. \nIl Re del Carnevale indice un concorso per premiare la maschera… ops! La MASCHERINA più bella e ben realizzata.\nPrendete una mascherina sanitaria (NUOVA!) e decoratela Con ornamenti\, colori\, alettoni da macchina sportiva\, ali da fata o di drago; deve diventare bellissima. \nIl Re del Carnevale ha deciso 3 filoni da seguire per decorare le mascherine:\n1) ispirate ai vostri libri preferiti\, storie e racconti\n2) ispirate al mondo degli animali e della natura\n3) ispirate ai vostri fumetti e cartoni preferiti \nInfo: \nTeatro delle Arti / Teatro popolare d’arte\nViale Matteotti\, 8 50055 Lastra a Signa (Fi)\nTel. +39.055.8720058 / pubblico@tparte.it\nwww.tparte.it \n\n 
URL:https://www.eventiintoscana.it/evento/carnevale-in-mascherina-concerto-di-san-valentino-lastra-a-signa-firenze
CATEGORIES:Feste e Folklore,Firenze
ATTACH;FMTTYPE=image/jpeg:https://www.eventiintoscana.it/wp-content/uploads/2021/02/Carnevale-in-Mascherina-Lastra-a-Signa.jpg
END:VEVENT
END:VCALENDAR