BEGIN:VCALENDAR
VERSION:2.0
PRODID:-//Eventi in Toscana By Toscana Tascabile - ECPv6.15.12.2//NONSGML v1.0//EN
CALSCALE:GREGORIAN
METHOD:PUBLISH
X-ORIGINAL-URL:https://www.eventiintoscana.it
X-WR-CALDESC:Eventi per Eventi in Toscana By Toscana Tascabile
REFRESH-INTERVAL;VALUE=DURATION:PT1H
X-Robots-Tag:noindex
X-PUBLISHED-TTL:PT1H
BEGIN:VTIMEZONE
TZID:Europe/Rome
BEGIN:DAYLIGHT
TZOFFSETFROM:+0100
TZOFFSETTO:+0200
TZNAME:CEST
DTSTART:20160327T010000
END:DAYLIGHT
BEGIN:STANDARD
TZOFFSETFROM:+0200
TZOFFSETTO:+0100
TZNAME:CET
DTSTART:20161030T010000
END:STANDARD
BEGIN:DAYLIGHT
TZOFFSETFROM:+0100
TZOFFSETTO:+0200
TZNAME:CEST
DTSTART:20170326T010000
END:DAYLIGHT
BEGIN:STANDARD
TZOFFSETFROM:+0200
TZOFFSETTO:+0100
TZNAME:CET
DTSTART:20171029T010000
END:STANDARD
BEGIN:DAYLIGHT
TZOFFSETFROM:+0100
TZOFFSETTO:+0200
TZNAME:CEST
DTSTART:20180325T010000
END:DAYLIGHT
BEGIN:STANDARD
TZOFFSETFROM:+0200
TZOFFSETTO:+0100
TZNAME:CET
DTSTART:20181028T010000
END:STANDARD
END:VTIMEZONE
BEGIN:VEVENT
DTSTART;TZID=Europe/Rome:20170205T000000
DTEND;TZID=Europe/Rome:20170305T000000
DTSTAMP:20260423T004958
CREATED:20170125T094119Z
LAST-MODIFIED:20170130T164033Z
UID:233481-1486252800-1488672000@www.eventiintoscana.it
SUMMARY:Carnevaletto da tre soldi - Orbetello (Grosseto)
DESCRIPTION:Appuntamento a Orbetello il 5\, 12\, 19\, 26 febbraio e 5 marzo 2017\nSi parte il 5 febbraio con l’arrivo di Re Carnevale: in questa occasione verranno presentate le reginette del Carnevaletto 2017 e si terrà uno spettacolo di Carioca con ballerine brasiliane. Le domeniche successive vedranno sfilare i corsi mascherati con i carri allegorici (quest’anno è prevista anche la partecipazione del nuovo carro di Orbetello Centro; i carri di prima categoria sono quelli di Albinia\, Neghelli\, Stazione e Fonteblanda). \nIl giorno del martedì grasso\, 28 febbraio\, si terrà un corso mascherato in notturna\, a partire dalle 20.30. In occasione dell’ultima sfilata\, quella del 5 marzo\, si terranno le premiazioni\, con la proclamazione del ‘Carrissimo 2017’; si chiude alle 19.45 con uno spettacolo pirotecnico.
URL:https://www.eventiintoscana.it/evento/carnevaletto-da-tre-soldi-orbetello-orbetello-grosseto
LOCATION:Orbetello\, Orbetello\, Toscana\, Italia
CATEGORIES:Grosseto
ATTACH;FMTTYPE=image/jpeg:https://www.eventiintoscana.it/wp-content/uploads/2017/01/19799__carnevalettodatresoldi.jpg
END:VEVENT
END:VCALENDAR