BEGIN:VCALENDAR
VERSION:2.0
PRODID:-//Eventi in Toscana By Toscana Tascabile - ECPv6.15.12.2//NONSGML v1.0//EN
CALSCALE:GREGORIAN
METHOD:PUBLISH
X-WR-CALNAME:Eventi in Toscana By Toscana Tascabile
X-ORIGINAL-URL:https://www.eventiintoscana.it
X-WR-CALDESC:Eventi per Eventi in Toscana By Toscana Tascabile
REFRESH-INTERVAL;VALUE=DURATION:PT1H
X-Robots-Tag:noindex
X-PUBLISHED-TTL:PT1H
BEGIN:VTIMEZONE
TZID:Europe/Rome
BEGIN:DAYLIGHT
TZOFFSETFROM:+0100
TZOFFSETTO:+0200
TZNAME:CEST
DTSTART:20160327T010000
END:DAYLIGHT
BEGIN:STANDARD
TZOFFSETFROM:+0200
TZOFFSETTO:+0100
TZNAME:CET
DTSTART:20161030T010000
END:STANDARD
BEGIN:DAYLIGHT
TZOFFSETFROM:+0100
TZOFFSETTO:+0200
TZNAME:CEST
DTSTART:20170326T010000
END:DAYLIGHT
BEGIN:STANDARD
TZOFFSETFROM:+0200
TZOFFSETTO:+0100
TZNAME:CET
DTSTART:20171029T010000
END:STANDARD
BEGIN:DAYLIGHT
TZOFFSETFROM:+0100
TZOFFSETTO:+0200
TZNAME:CEST
DTSTART:20180325T010000
END:DAYLIGHT
BEGIN:STANDARD
TZOFFSETFROM:+0200
TZOFFSETTO:+0100
TZNAME:CET
DTSTART:20181028T010000
END:STANDARD
END:VTIMEZONE
BEGIN:VEVENT
DTSTART;TZID=Europe/Rome:20170205T000000
DTEND;TZID=Europe/Rome:20170212T000000
DTSTAMP:20260424T075942
CREATED:20170120T091836Z
LAST-MODIFIED:20170130T170237Z
UID:232808-1486252800-1486857600@www.eventiintoscana.it
SUMMARY:Carnevale di Veneri - Località Veneri\, Pescia (Pistoia)
DESCRIPTION:Carnevale di Veneri\, 5\, 12 febbraio 2017\nProsegue con altre due date la 36° edizione del  Carnevale a Veneri che propone due nuovi carri\, il primo dedicato alla Formula Uno e il secondo invece al fumetto di Masha e Orso. Non mancheranno neanche per quest’anno i Minions. In totale sono dieci i carri che sfileranno per le vie del paese di cui sei con vari temi che richiamano le favole\, le maschere e i cartoni animati. Sui carri potranno salire e giocare i ragazzi che vengono trasportati per tutto il percorso. Spazio anche al a Magico Trenino caratterizzato dalle tantissime luci e grazie al quale i bambini potranno giocare insieme alla fantasiosa locomotiva. Durante la festa si alterneranno gruppi di animatori\, trucca bimbi e giocoleria. Da provare anche lo stand gastronomico che sforna squisitezze per tutti i palati e per tutti i gusti: torte\, bomboloni\, pizze\, cenci\, panini il tutto annaffiato da buon vino.
URL:https://www.eventiintoscana.it/evento/carnevale-di-veneri-localita-veneri-pescia-pistoia
LOCATION:Località Veneri\, Pescia\, Toscana\, 51017\, Italia
CATEGORIES:Pistoia
ATTACH;FMTTYPE=image/jpeg:https://www.eventiintoscana.it/wp-content/uploads/2017/01/19744__carnevalediveneri.jpg
END:VEVENT
END:VCALENDAR