BEGIN:VCALENDAR
VERSION:2.0
PRODID:-//Eventi in Toscana By Toscana Tascabile - ECPv6.15.12.2//NONSGML v1.0//EN
CALSCALE:GREGORIAN
METHOD:PUBLISH
X-WR-CALNAME:Eventi in Toscana By Toscana Tascabile
X-ORIGINAL-URL:https://www.eventiintoscana.it
X-WR-CALDESC:Eventi per Eventi in Toscana By Toscana Tascabile
REFRESH-INTERVAL;VALUE=DURATION:PT1H
X-Robots-Tag:noindex
X-PUBLISHED-TTL:PT1H
BEGIN:VTIMEZONE
TZID:Europe/Rome
BEGIN:DAYLIGHT
TZOFFSETFROM:+0100
TZOFFSETTO:+0200
TZNAME:CEST
DTSTART:20190331T010000
END:DAYLIGHT
BEGIN:STANDARD
TZOFFSETFROM:+0200
TZOFFSETTO:+0100
TZNAME:CET
DTSTART:20191027T010000
END:STANDARD
BEGIN:DAYLIGHT
TZOFFSETFROM:+0100
TZOFFSETTO:+0200
TZNAME:CEST
DTSTART:20200329T010000
END:DAYLIGHT
BEGIN:STANDARD
TZOFFSETFROM:+0200
TZOFFSETTO:+0100
TZNAME:CET
DTSTART:20201025T010000
END:STANDARD
BEGIN:DAYLIGHT
TZOFFSETFROM:+0100
TZOFFSETTO:+0200
TZNAME:CEST
DTSTART:20210328T010000
END:DAYLIGHT
BEGIN:STANDARD
TZOFFSETFROM:+0200
TZOFFSETTO:+0100
TZNAME:CET
DTSTART:20211031T010000
END:STANDARD
END:VTIMEZONE
BEGIN:VEVENT
DTSTART;TZID=Europe/Rome:20200216T150000
DTEND;TZID=Europe/Rome:20200225T200000
DTSTAMP:20260423T033817
CREATED:20200127T081000Z
LAST-MODIFIED:20200127T081000Z
UID:284115-1581865200-1582660800@www.eventiintoscana.it
SUMMARY:Carnevale dei Ragazzi - Montevarchi (Arezzo)
DESCRIPTION:Nelle due domeniche del 16 e 23 febbraio e il Martedì Grasso\, 25 febbraio\, si tiene la 66ª edizione del Carnevale dei Ragazzi di Montevarchi.\nOltre ai corsi mascherati\, che cominciano alle 15 nel centro storico\, il Carnevale propone molte iniziative: \n\nstand di cenci e brighelle di Pinocchio presso il Parco giochi in Piazza Varchi;\nsabato 22 febbraio ore 21 si tiene il concorso ‘La migliore voce’ (Circolo Stanze Ulivieri\, Piazza Garibaldi)\nda sabato 22 a martedì 25 si tiene la Mostra dedicata al 66° Carnevale dei Ragazzi\n\nDue gli appuntamenti in zona Pestello domenica 1 marzo alle ore 15.30: il 32° concorso ‘La migliore mascherina’ e Addio al Carnevale\, manifestazione dedicata a tutti i bambini del Valdarno  (Circolo Coop Pestello di Via Mincio). \nA Levane l’apppuntamento è invece domenica 1 marzo alle ore 14.30 con la 19ª edizione del Carnevale a Levane\, con spettacoli di animazione\, giochi e stand gastronomici (Via Leona e Pizza del Secco). \n 
URL:https://www.eventiintoscana.it/evento/carnevale-dei-ragazzi-montevarchi-arezzo
CATEGORIES:arezzo,Feste e Folklore
ATTACH;FMTTYPE=image/jpeg:https://www.eventiintoscana.it/wp-content/uploads/2020/01/carnevale-dei-ragazzi-montevarchi.jpg
END:VEVENT
END:VCALENDAR