BEGIN:VCALENDAR
VERSION:2.0
PRODID:-//Eventi in Toscana By Toscana Tascabile - ECPv6.15.12.2//NONSGML v1.0//EN
CALSCALE:GREGORIAN
METHOD:PUBLISH
X-ORIGINAL-URL:https://www.eventiintoscana.it
X-WR-CALDESC:Eventi per Eventi in Toscana By Toscana Tascabile
REFRESH-INTERVAL;VALUE=DURATION:PT1H
X-Robots-Tag:noindex
X-PUBLISHED-TTL:PT1H
BEGIN:VTIMEZONE
TZID:Europe/Rome
BEGIN:DAYLIGHT
TZOFFSETFROM:+0100
TZOFFSETTO:+0200
TZNAME:CEST
DTSTART:20160327T010000
END:DAYLIGHT
BEGIN:STANDARD
TZOFFSETFROM:+0200
TZOFFSETTO:+0100
TZNAME:CET
DTSTART:20161030T010000
END:STANDARD
BEGIN:DAYLIGHT
TZOFFSETFROM:+0100
TZOFFSETTO:+0200
TZNAME:CEST
DTSTART:20170326T010000
END:DAYLIGHT
BEGIN:STANDARD
TZOFFSETFROM:+0200
TZOFFSETTO:+0100
TZNAME:CET
DTSTART:20171029T010000
END:STANDARD
BEGIN:DAYLIGHT
TZOFFSETFROM:+0100
TZOFFSETTO:+0200
TZNAME:CEST
DTSTART:20180325T010000
END:DAYLIGHT
BEGIN:STANDARD
TZOFFSETFROM:+0200
TZOFFSETTO:+0100
TZNAME:CET
DTSTART:20181028T010000
END:STANDARD
END:VTIMEZONE
BEGIN:VEVENT
DTSTART;TZID=Europe/Rome:20170205T000000
DTEND;TZID=Europe/Rome:20170228T000000
DTSTAMP:20260422T062658
CREATED:20170124T203938Z
LAST-MODIFIED:20170130T163615Z
UID:233426-1486252800-1488240000@www.eventiintoscana.it
SUMMARY:Carnevale Bientinese - Bientina\, (Pisa)
DESCRIPTION:Carnevale Bientinese\, 5\, 12\, 19\, 28 febbraio 2017\nDomenica 5 il carnevale di Bientina apre i battenti con la Banda Spettacolo ‘La Campagnola’ (ore 15)\, mentre il 12 il corso mascherato vedrà protagonista il Gruppo Folkloristico ‘La Filibusta’. Terza domenica il 19 con la partecipazione del Gruppo Folkloristico ‘Del Bravo’. Partenza alle ore 14\, il 26\, questa volta con il Gruppo Folkloristico ‘La Castellana’. Il Martedì Grasso (28) in programma alle 9 il Carnevale per le Scuole Elementari e Medie al piazzale Stadio comunale con la partecipazione dell’Istituto Comprensivo Iqbal Masih di Bientina; alle 15 Carnevale dei Ragazzi con premiazione degli elaborati: il disegno vincente\, realizzato dai ragazzi delle Scuole\, verrà riprodotto nel manifesto del Carnevale Bientinese 2018. Infine alle ore 17 estrazione della Lotteria!
URL:https://www.eventiintoscana.it/evento/carnevale-bientinese-bientina-pisa
LOCATION:Bientina\, Bientina\, Toscana\, Italia
CATEGORIES:Pisa
ATTACH;FMTTYPE=image/jpeg:https://www.eventiintoscana.it/wp-content/uploads/2017/01/19788__carnevalebientinese.jpg
END:VEVENT
END:VCALENDAR