BEGIN:VCALENDAR
VERSION:2.0
PRODID:-//Eventi in Toscana By Toscana Tascabile - ECPv6.15.12.2//NONSGML v1.0//EN
CALSCALE:GREGORIAN
METHOD:PUBLISH
X-WR-CALNAME:Eventi in Toscana By Toscana Tascabile
X-ORIGINAL-URL:https://www.eventiintoscana.it
X-WR-CALDESC:Eventi per Eventi in Toscana By Toscana Tascabile
REFRESH-INTERVAL;VALUE=DURATION:PT1H
X-Robots-Tag:noindex
X-PUBLISHED-TTL:PT1H
BEGIN:VTIMEZONE
TZID:Europe/Rome
BEGIN:DAYLIGHT
TZOFFSETFROM:+0100
TZOFFSETTO:+0200
TZNAME:CEST
DTSTART:20160327T010000
END:DAYLIGHT
BEGIN:STANDARD
TZOFFSETFROM:+0200
TZOFFSETTO:+0100
TZNAME:CET
DTSTART:20161030T010000
END:STANDARD
BEGIN:DAYLIGHT
TZOFFSETFROM:+0100
TZOFFSETTO:+0200
TZNAME:CEST
DTSTART:20170326T010000
END:DAYLIGHT
BEGIN:STANDARD
TZOFFSETFROM:+0200
TZOFFSETTO:+0100
TZNAME:CET
DTSTART:20171029T010000
END:STANDARD
BEGIN:DAYLIGHT
TZOFFSETFROM:+0100
TZOFFSETTO:+0200
TZNAME:CEST
DTSTART:20180325T010000
END:DAYLIGHT
BEGIN:STANDARD
TZOFFSETFROM:+0200
TZOFFSETTO:+0100
TZNAME:CET
DTSTART:20181028T010000
END:STANDARD
END:VTIMEZONE
BEGIN:VEVENT
DTSTART;TZID=Europe/Rome:20170225T000000
DTEND;TZID=Europe/Rome:20170225T170000
DTSTAMP:20260423T101121
CREATED:20170221T092242Z
LAST-MODIFIED:20170227T090044Z
UID:234729-1487980800-1488042000@www.eventiintoscana.it
SUMMARY:Carnevale al Castello di Meleto\, Gaiole in Chianti\, Siena
DESCRIPTION:Carnevale al Castello di Meleto\nIl Castello di Meleto\, dopo i successi degli ultimi eventi\, per il 25 febbraio 2017 organizza il Carnevale al Castello con il TORNEO CARNEVALESCO per le maschere più originali!Programma:Dalle 20:00: Cena a buffet e intrattenimento musicale.Dalle 22:00: Contest per La Maschera più originale\, La Miglior Coppia Mascherata e Il Miglior Gruppo Mascherato! In palio premi speciali del Castello di Meleto e Photo Booth nel Teatro dell’Accademia degli Accesi.Dalle 23:00: DJ Set nelle Sale del Piano Nobile del CastelloBiglietti e Disponibilità:Cena a Buffet e ingresso al ballo: 30\,00 euro a personaCena a Buffet\, ingresso al ballo e soggiorno in camera doppia: 85\,00 euro a personaBallo in Maschera e drink: 20\,00 euro a personaBallo in Maschera\, drink e soggiorno in camera doppia: 75\,00 euro a persona \nNon è obbligatorio vestirsi in costume per partecipare all’evento. Info e Prenotazioni: 0577.749.129 e booking@castellomeleto.it  \n 
URL:https://www.eventiintoscana.it/evento/il-carnevale-al-castello-sabato-25-febbraio-2017
LOCATION:Castello di Meleto\, Gaiole in Chianti \, Siena 
CATEGORIES:Rassegne e Sagre,Siena
ATTACH;FMTTYPE=image/png:https://www.eventiintoscana.it/wp-content/uploads/2017/02/Carnevale-al-castello-di-meleto_2.png
ORGANIZER;CN="Castello di Meleto":MAILTO:booking@castellomeleto.it 
END:VEVENT
END:VCALENDAR