BEGIN:VCALENDAR
VERSION:2.0
PRODID:-//Eventi in Toscana By Toscana Tascabile - ECPv6.15.12.2//NONSGML v1.0//EN
CALSCALE:GREGORIAN
METHOD:PUBLISH
X-WR-CALNAME:Eventi in Toscana By Toscana Tascabile
X-ORIGINAL-URL:https://www.eventiintoscana.it
X-WR-CALDESC:Eventi per Eventi in Toscana By Toscana Tascabile
REFRESH-INTERVAL;VALUE=DURATION:PT1H
X-Robots-Tag:noindex
X-PUBLISHED-TTL:PT1H
BEGIN:VTIMEZONE
TZID:Europe/Rome
BEGIN:DAYLIGHT
TZOFFSETFROM:+0100
TZOFFSETTO:+0200
TZNAME:CEST
DTSTART:20150329T010000
END:DAYLIGHT
BEGIN:STANDARD
TZOFFSETFROM:+0200
TZOFFSETTO:+0100
TZNAME:CET
DTSTART:20151025T010000
END:STANDARD
BEGIN:DAYLIGHT
TZOFFSETFROM:+0100
TZOFFSETTO:+0200
TZNAME:CEST
DTSTART:20160327T010000
END:DAYLIGHT
BEGIN:STANDARD
TZOFFSETFROM:+0200
TZOFFSETTO:+0100
TZNAME:CET
DTSTART:20161030T010000
END:STANDARD
BEGIN:DAYLIGHT
TZOFFSETFROM:+0100
TZOFFSETTO:+0200
TZNAME:CEST
DTSTART:20170326T010000
END:DAYLIGHT
BEGIN:STANDARD
TZOFFSETFROM:+0200
TZOFFSETTO:+0100
TZNAME:CET
DTSTART:20171029T010000
END:STANDARD
BEGIN:DAYLIGHT
TZOFFSETFROM:+0100
TZOFFSETTO:+0200
TZNAME:CEST
DTSTART:20180325T010000
END:DAYLIGHT
BEGIN:STANDARD
TZOFFSETFROM:+0200
TZOFFSETTO:+0100
TZNAME:CET
DTSTART:20181028T010000
END:STANDARD
END:VTIMEZONE
BEGIN:VEVENT
DTSTART;TZID=Europe/Rome:20161231T100000
DTEND;TZID=Europe/Rome:20170101T170000
DTSTAMP:20260421T011253
CREATED:20161228T095630Z
LAST-MODIFIED:20161228T095630Z
UID:230735-1483178400-1483290000@www.eventiintoscana.it
SUMMARY:Capodanno sotto il Fortino - Forte dei Marmi (LU)
DESCRIPTION:A Forte dei Marmi (LU) si festeggia il 31 dicembre con la grande festa  organizzata dal Comune  in Piazza Garibaldi\, all’interno del calendario di ‘Natale a Forte dei Marmi’ e  in collaborazione con l’associazione Fortemarmini nel mondo. \nDiversi gli appuntamenti che si avvicenderanno sul palco\, appositamente allestito nella piazza\, a cominciare dalle 10.00\, quando aprirà i festeggiamenti il mercatino\, a cura delle donne creative della Versilia. Alle 14.30 seguiranno i giochi\, i trucca bimbi e l’animazione per i più piccoli. Dalle 18.00 partirà la musica con le esibizioni dei giovani emergenti e dalle 21.00 sarà di scena il grande concerto Rytmblues con la band Le nuove luci. \nSeguirà la musica dal vivo pop\,rock e dance\, con gli Hollywood Garage e  quindi il gran finale con DJ Ago\, che proporrà brano i vinile di musica anni 80. La serata sarà presentata da Patrizia e saranno presenti stand gastronomici e street food  con piatti tipici.
URL:https://www.eventiintoscana.it/evento/capodanno-fortino-forte-dei-marmi-lu
LOCATION:Luogo Senza Nome\, Piazza Garibaldi\, Forte dei Marmi
CATEGORIES:Lucca,Rassegne e Sagre
ATTACH;FMTTYPE=image/jpeg:https://www.eventiintoscana.it/wp-content/uploads/2016/12/capodanno-forte-dei-marmi.jpg
END:VEVENT
END:VCALENDAR