BEGIN:VCALENDAR
VERSION:2.0
PRODID:-//Eventi in Toscana By Toscana Tascabile - ECPv6.15.12.2//NONSGML v1.0//EN
CALSCALE:GREGORIAN
METHOD:PUBLISH
X-ORIGINAL-URL:https://www.eventiintoscana.it
X-WR-CALDESC:Eventi per Eventi in Toscana By Toscana Tascabile
REFRESH-INTERVAL;VALUE=DURATION:PT1H
X-Robots-Tag:noindex
X-PUBLISHED-TTL:PT1H
BEGIN:VTIMEZONE
TZID:Europe/Rome
BEGIN:DAYLIGHT
TZOFFSETFROM:+0100
TZOFFSETTO:+0200
TZNAME:CEST
DTSTART:20150329T010000
END:DAYLIGHT
BEGIN:STANDARD
TZOFFSETFROM:+0200
TZOFFSETTO:+0100
TZNAME:CET
DTSTART:20151025T010000
END:STANDARD
BEGIN:DAYLIGHT
TZOFFSETFROM:+0100
TZOFFSETTO:+0200
TZNAME:CEST
DTSTART:20160327T010000
END:DAYLIGHT
BEGIN:STANDARD
TZOFFSETFROM:+0200
TZOFFSETTO:+0100
TZNAME:CET
DTSTART:20161030T010000
END:STANDARD
BEGIN:DAYLIGHT
TZOFFSETFROM:+0100
TZOFFSETTO:+0200
TZNAME:CEST
DTSTART:20170326T010000
END:DAYLIGHT
BEGIN:STANDARD
TZOFFSETFROM:+0200
TZOFFSETTO:+0100
TZNAME:CET
DTSTART:20171029T010000
END:STANDARD
BEGIN:DAYLIGHT
TZOFFSETFROM:+0100
TZOFFSETTO:+0200
TZNAME:CEST
DTSTART:20180325T010000
END:DAYLIGHT
BEGIN:STANDARD
TZOFFSETFROM:+0200
TZOFFSETTO:+0100
TZNAME:CET
DTSTART:20181028T010000
END:STANDARD
END:VTIMEZONE
BEGIN:VEVENT
DTSTART;TZID=Europe/Rome:20161231T220000
DTEND;TZID=Europe/Rome:20170101T060000
DTSTAMP:20260421T211544
CREATED:20161228T112006Z
LAST-MODIFIED:20161228T112006Z
UID:230752-1483221600-1483250400@www.eventiintoscana.it
SUMMARY:Capodanno a Montevarchi (AR)
DESCRIPTION:Notte di San Silvestro in piazza Varchi\nDalle 22.00 fino alle 02.00 Spettacolo Musicale Rock and Roll anni ‘50 con Angeli in Blue Jeans e DJ Betto\n\nDalle 22.30 alle 00.30 L’angolo dei piccoli con bolle e palloncini.\n\nAlle 24.00 il Sindaco e gli Assessori  accolgono il nuovo anno offrendo un brindisi alla cittadinanza
URL:https://www.eventiintoscana.it/evento/capodanno-montevarchi-ar
LOCATION:Luogo Senza Nome\, Montevarchi
CATEGORIES:arezzo,Rassegne e Sagre
ATTACH;FMTTYPE=image/png:https://www.eventiintoscana.it/wp-content/uploads/2016/12/Schermata-2016-12-28-a-12.18.50.png
END:VEVENT
END:VCALENDAR