BEGIN:VCALENDAR
VERSION:2.0
PRODID:-//Eventi in Toscana By Toscana Tascabile - ECPv6.15.12.2//NONSGML v1.0//EN
CALSCALE:GREGORIAN
METHOD:PUBLISH
X-WR-CALNAME:Eventi in Toscana By Toscana Tascabile
X-ORIGINAL-URL:https://www.eventiintoscana.it
X-WR-CALDESC:Eventi per Eventi in Toscana By Toscana Tascabile
REFRESH-INTERVAL;VALUE=DURATION:PT1H
X-Robots-Tag:noindex
X-PUBLISHED-TTL:PT1H
BEGIN:VTIMEZONE
TZID:Europe/Rome
BEGIN:DAYLIGHT
TZOFFSETFROM:+0100
TZOFFSETTO:+0200
TZNAME:CEST
DTSTART:20180325T010000
END:DAYLIGHT
BEGIN:STANDARD
TZOFFSETFROM:+0200
TZOFFSETTO:+0100
TZNAME:CET
DTSTART:20181028T010000
END:STANDARD
BEGIN:DAYLIGHT
TZOFFSETFROM:+0100
TZOFFSETTO:+0200
TZNAME:CEST
DTSTART:20190331T010000
END:DAYLIGHT
BEGIN:STANDARD
TZOFFSETFROM:+0200
TZOFFSETTO:+0100
TZNAME:CET
DTSTART:20191027T010000
END:STANDARD
BEGIN:DAYLIGHT
TZOFFSETFROM:+0100
TZOFFSETTO:+0200
TZNAME:CEST
DTSTART:20200329T010000
END:DAYLIGHT
BEGIN:STANDARD
TZOFFSETFROM:+0200
TZOFFSETTO:+0100
TZNAME:CET
DTSTART:20201025T010000
END:STANDARD
END:VTIMEZONE
BEGIN:VEVENT
DTSTART;TZID=Europe/Rome:20190525T090000
DTEND;TZID=Europe/Rome:20190526T220000
DTSTAMP:20260422T013310
CREATED:20190425T172121Z
LAST-MODIFIED:20190526T194519Z
UID:275227-1558774800-1558908000@www.eventiintoscana.it
SUMMARY:Cantine Aperte in Toscana - Luoghi vari in Toscana
DESCRIPTION:Sabato 25 e domenica 26 maggio tornano in tutta la Toscana le iniziative di Cantine Aperte in Toscana\, organizzate da Movimento Turismo del Vino.\nPer l’occasione\, le cantine socie di MTV Toscana apriranno le loro porte al pubblico\, favorendo un contatto diretto con gli appassionati di vino. \nQuest’anno MTVToscana vuole promuovere la Cultura del Vino in tutte le sue forme\, a partire dall’arte della viticultura e della vinificazione\, passando per la cultura degli abbinamenti enogastronomici\, per arrivare fino all’arte del buon bere. \nIn questo lungo viaggio\, il vino sarà il fil rouge che guiderà i tanti wine lovers alla scoperta dei luoghi di produzione e delle tecniche di lavorazione ed aprirà le porte di spazi dove l’arte si mescola al patrimonio enogastronomico. \nQueste le cantine aderenti provincia per provincia (dal sito ufficiale): \n\n\n\n\n\n\n\n\nAREZZO\nBALDETTI ALFONSO \nLoc. Pietraia\, 71/A Cortona \n0575 67077 – info@baldetti.com \nwww.baldetti.com \n  \nCAMPERCHI \nVia del Burrone\, 38 Civitella in Val di Chiana \n0575 440281 – info@camperchi.com \nwww.camperchi.com \n  \nBUCCIANERA \nLoc. Campriano\, 10 Arezzo \n0575 361613 – info@buccianera.it \nwww.buccianera.it \n  \nCAMPO DEL MONTE \nVia Comugni 51\, Campogialli Terranuova Bracciolini \n338 1895562 – segreteria@campodelmonte.it \nwww.campodelmonte.it \n  \nIL BORRO \nLoc. Borro\, 1 San Giustino Valdarno \n055 977053 – winetour@ilborro.it \nwww.ilborro.it – www.ilborrowines.it \n  \nTENUTA DI FRASSINETO \nStrada vicinale del Duca\, 14 Frassineto \n0575 367033 – shop@tenutadifrassineto.com \nwww.tenutadifrassineto.com \n  \nTENUTA LA PINETA \nVia Setteponti\, 65 Castiglion Fibocchi \n0575 477716 – info@tenutalapineta.it \nwww.tenutalapineta.it \n  \nVILLA LA RIPA \nLoc. Antria\, 38 Arezzo \n335 1003351 – villalaripaarezzo@gmail.com \nwww.villalaripa.it \n\n FIRENZE\n AGRICOLA TAMBURINI \nVia Catignano\, 106 Gambassi Terme \n0571 680235 – emanuela@agricolatamburini.it \nwww.agricolatamburini.it \n  \nANTINORI CHIANTI CLASSICO \nVia Cassia per Siena\, 133 San Casciano Val Di Pesa \n055 2359700 – visite@antinorichianticlassico.it \nwww.antinorichianticlassico.it \n  \nAGR. PODERE DELL’ULIVETO \nVia Malafrasca\, 103 San Casciano Val Di Pesa \n348 3313084 – filippodeclaricini@vodafone.it \nwww.poderedell’uliveto.com \n  \nCASTELLO DI QUERCETO \nVia A. François 2\, Greve in Chianti \n055 85921 – agriturismo@castellodiquerceto.it \nwww.castellodiquerceto.it \n  \nCASTELLO DI VICCHIOMAGGIO \nVia Vicchiomaggio\, 4 Greve in Chianti \n055 854079 – info@vicchiomaggio.it \nwww.vicchiomaggio.it \n  \nFATTORIA CASAGRANDE \nVia del Puglia\, 61 Figline Valdarno \n055 8349429 – 055 9544851 – info@fattoriacasagrande.it \nwww.fattoriacasagrande\,it \n  \nFATTORIA LA LECCIA \nVia della Leccia\, 37 Montespertoli \n366 9236378 – info@laleccia.it \nwww.laleccia.it \n  \nFATTORIA PICCARATICO \nVia Piccaratico\, 9 Spicchio Vinci \n345 8589161 – fattoriapiccaratico@gmail.com \nwww.fattoriapiccaratico.it \n  \nIL FOSSATO \nVia di Basciano\, 805 Loc. Montorsoli Vaglia \n055 4026316 – info@camposilio.com \nwww.camposilio.com \n  \nLAMOLE DI LAMOLE \nLoc. Lamole Greve in Chianti \n342 0912853 – visit@lamoledilamole.com \nwww.lamole.com \n  \nPODERE EMA \nStrada Chiantigiana\, 339 Bagno a Ripoli \n055 641633 – cantina@podereema.it \nwww.podereema.it \n  \nRUFFINO – TENUTA POGGIO CASCIANO \nVia Poggio al Mandorlo\, 1 Bagno a Ripoli \n342 0425730 – hospitality@ruffino.it \nwww.ruffino.it \n  \nTERRENO \nVia Citille\, 4 Greve in Chianti \n335 1536335 – info@terreno.eu \nwww.terreno.se \n  \nTORRACCIA DI PRESURA \nVia della Montagnola\, 130 Greve in Chianti \n388 4630045 – torracciadipresura@torracciadipresura.it \nwww.torracciadipresura.it \n  \nVIGNAMAGGIO \nLoc. Petriolo\, 5 Greve in Chianti \n055 8546624 0558546653 – tour@vignamaggio.com \nwww.vignamaggio.com \n  \nVILLA LA CALCINAIA \nVia Citille\, 84 Greve in Chianti \n392 6623362 – commerciale@villalacalcinaia.com \nwww.villacalcinaia.it \n\nGROSSETO\nAGR. FATTORIA ACQUAVIVA \nLoc. Acquaviva\, 10 Montemerano \n0564 602890 – fattoria@villacquaviva.com \nwww.villacquaviva.com \n  \nAGR. IL PONTE \nStrada Carige Alta\, 15 Capalbio \n333 4843966 – bernardi.e@agricolailponte.com \nwww.agricolailponte.com \n  \nFABIANI WINE \nLoc. Capanne Ricci Borgo Santa Rita Cinigiano \n329 8145348 – 0564 993512 \ninfo@fabianiwine.it – www.fabianiwine.it \n  \nFATTORIA ALDOBRANDESCA \nLoc. Scansanaccio Sovana \n345 6652777 – 0564 615907 \nvisite@aldobrandesca.it \nwww.antinori.it \n  \nFATTORIA LA MALIOSA \nLoc. Podere Monte Cavallo Manciano \n327 1860416 – info@fattorialamaliosa.it \nwww.fattorialamaliosa.it \n  \nLE MORTELLE \nLoc. Ampio Castiglione della Pescaia \n0564 944003 – visite@lemortelle.it \nwww.antinori.it/it/tenuta/tenute-italia/le-mortelle/ \n  \nPOGGIO AL TUFO \nLoc. Poggio Cavalluccio\, 6199 Pitigliano \n0564 615420 – annalisa@tommasiwine.it \nwww.poggioaltufo.it \n  \nROCCA DI FRASSINELLO \nLoc. Giuncarico Gavorrano \n0566 88400 – info@roccadifrassinello.it \n//www.castellare.it/it/rocca-di-frassinello/ \n  \nSASSOTONDO \nc.s. Pian di Conati\, 52 Pitigliano \n0564 614218 – info@sassotondo.it \nwww.sassotondo.it \n  \nTENUTA LA PARRINA \nBivio Via Aurelia KM 146 Strada vicinale della Parrina snc Albinia \n0564 822626 – info@parrina.it \nwww.parrina.it \n  \nTENUTA MONTAUTO \nLoc. Campigliola\, KM 10 Manciano \n0564 1836068 – info@montauto.org \nwww.montauto.org \n  \nTENUTA VAL DELLE ROSE \nStrada Val delle Rose Grosseto \n0564 409062 – hospitality@valdellerose.it \nwww.valdellerose.it \n\nLIVORNO\nAGR. CHIAPPINI \nVia Bolgherese Loc. Felciaino Bolgheri \n0565 765201 – info@giovannichiappini.it \nwww.giovannichiappini.it \n  \nCAMPO ALLE COMETE \nLoc. Sughericcio Via Fornacelle 249 Castagneto Carducci \n0565 766056 – info@campoallecomete.it \nwww.campoallecomete.it \n  \nFATTORIA CASA DI TERRA \nLoc. Le Ferruggini\, 162/A Bolgheri \n0565 749810 – visit@fattoriacasaditerra.com \nwww.fattoriacasaditerra.com \n  \nTENUTA GUADO AL TASSO \nVia Bolgherese KM 3\,9 Loc. San Walfredo 184 Bolgheri \n0565 1828060 – info@guadoaltasso.com \nwww.antinori.it \n  \nMuSeM – MUSEO SENSORIALE E MULTIMEDIALE DEL VINO DI BOLGHERI \nVia Casone Ugolino\, 24 Castagneto Carducci \n0565 775110 – marco.marucelli@worldwinetown.com \nwww.worldwinetown.com \n\n LUCCA\nTENUTA DEL BUONAMICO \nVia di Montecarlo\, 43 Montecarlo \n0583 22038 – buonamico@buonamico.com \nwww.buonamico.it \n\n PISA\nAGR. CASTELVECCHIO \nVia di Bagno\, Terricciola \n0587 658318 – info@agricastelvecchio.it \nwww.agricastelvecchio.com \n  \nAGRITURISTICA CASTELLO DI BUCIGNANO \nMontecastelli Pisano Pisa \n324 9910068 redwinetoscana@gmail.com \nwww.castello-di-bucignano.it \n  \nBADIA DI MORRONA \nVia del Chianti\, 6 Terricciola \n0587 658505 – clienti@badiadimorrona.it \nwww.badiadimorrona.it \n  \nCOSIMO MARIA MASINI – TENUTA DI POGGIO \nVia Poggio al Pino\, 16 San Miniato \n0571 465032 – paoletti@cosimomariamasini.it \nwww.cosimomariamasini.it \n  \nDEGLI AZZONI AVOGADRO \nLoc. La Rotta Via Capecchi\, 74 Pontedera \n0587 484818 – info@adegliazzoni.eu \nwww.adegliazzoni.eu \n  \nLA REGOLA \nLoc. Altagrada KM 6\,4 Riparbella \n0586 698145 eventi@laregola.com \nwww.laregola.com \n  \nTENUTA MONTEROSOLA \nPodera La Rosola\, 27 Loc. Pignano Volterra \n0588 35062 tenutamonterosola@gmail.com \nwww.monterosola.com \n  \nSOC. AGR. USIGLIAN DEL VESCOVO \nVia Usigliano\, 26 Palaia \n0587 468000 – degustazioni@usigliandelvescovo.it \nwww.usigliandelvescovo.it \n  \nTENUTA PODERNOVO \nVia Podernuovo\, 13 Terricciola \n0587 655173 – podernovo@tenutelunelli.it \nwww.tenutelunelli.it \n\nPISTOIA\nMARINI GIUSEPPE \nVia Bartolomeo Sestini\, 274 Pistoia \n0573 451162 – info@marinifarm.it \nwww.marinifarm.it \n\n PRATO\nFATTORIA AMBRA \nVia Lombarda\, 85 Carmignano \n055 8719049 – info@fattoriaambra.it \nwww.fattoriaambra.it \n  \nFATTORIA DI BACCHERETO \nVia Fontemorana\, 179 Carmignano \n338 8739577 – terreamano@gmail.com \n  \nIMMOBILIARE CASTELVECCHIO \nVia Mannelle\, 19 Carmignano \n055 8705451 – 3389791367 \nimmobiliarecastelvecchio@tin.it \nwww.tenutacastelvecchio.it \n  \nPODERE IL SASSOLO \nVia Cisterna\, 5 Carmignano \n055 8706488 – info@ilsassolo.it \nwww.ilsassolo.it \n  \nTENUTA DI ARTIMINO \nViale Papa Giovanni XXII\, 1 Carmignano \n393 8588573 – wine@artimino.com \nwww.artimino.com \n  \nTENUTA DI CAPEZZANA \nVia Capezzana\, 100 Carmignano \n055 8706005 – agriturismo@capezzana.it \nwww.capezzana.it \n\nSIENA\nAGR. CANNETO \nVia dei Canneti\, 14 Montepulciano \n0578 757737 – cantina@canneto.com \nwww.canneto.com \n  \nAZ. AGR. CESANI VINCENZO \nLoc. Pancole 82/D San Gimignano \n0577 955084 – info@cesani.it \nwww.cesani.it \n  \nAZ. AGR. CROCIANI \nVia di Poliziano\, 15 Montepulciano \n0578 757919 – info@crociani.it \nwww.crociani.it \n  \nBADIA A COLTIBUONO \nLoc. Badia a Coltibuono Gaiole in Chianti \n0577 74481 – reception@coltibuono.com \nwww.coltibuono.com \n  \nBARONE RICASOLI \nLoc. Madonna a Brolio Gaiole in Chianti \n0577 730220 – shop@ricasoli.it \nwww.ricasoli.it \n  \nBINDELLA \nVia delle Tre Berte\, 10/A Montepulciano \n0578 767777 – giulia.fiacca@bindella.it \nwww.bindella.it \n  \nBORGO SANTINOVO \nLoc. Santinovo Colle di Val D’Elsa \n339 1832414 – wine@borgosantinovo.it \nwww.borgosantinovo.it \n  \nCANTINE DEI \nVia Martiena\, 35 Montepulciano \n0578 716878 – info@cantinedei.com \nwww.cantinedei.com \n  \nCANTINE GUIDI \nVia Liguria Poggibonsi \n0577 936356 – 347 2759915 \ninfo@guidi1929.com \nwww.guidi1929.com \n  \nCASA VINICO TRIACCA – TENUTA SANTAVENERE \nStrada per Pienza\, 39 Montepulciano \n0578 757774 – santavenere@triacca.com \nwww.triaccavini.eu \n  \nCASATO PRIME DONNE \nLoc. Casato\, 17 Montalcino \n0577 849421 – casato@cinellicolombini.it \nwww.cinellicolombini.it \n  \nCASISANO \nLoc. Casisano\, 59 Montalcino \n0577 835540 – info@casisano.it \nwww.casisano.it \n  \nCASTELLARE DI CASTELLINA \nLoc. Castellare Castellina in Chianti \n0577 742903 – visite@castellare.it \nwww.castellare.it \n  \nCASTELLO BANFI \nCastello di Poggio alle Mura Montalcino \n0577 877500 – reservations@banfi.it \nwww.castellobanfiilborgo.com \n  \nCASTELLO DI RADDA \nLoc. Il Becco Radda in Chianti \n0577 738992 – info@castellodiradda.com \nwww.castellodiradda.com \n  \nCOL D’ORCIA \nVia Giuncheti Montalcino \n0577 80891 – info@coldorcia.it \nwww.coldorcia.it \n  \nCONTUCCI \nVia del Teatro\, 1 Montepulciano \n0578 757006 – info@contucci.it \nwww.contucci.it \n  \nDISTILLERIE BONOLLO \nVia Traversa Valdichiana Est\, 2/4 Torrita di Siena \n0577 685210 – gabriele.bonollo@bonollo.com \nwww.bonollo.com \n  \nFATTORIA DI CINCIANO \nLoc. Cinciano\, 2 Poggibonsi \n0577 936588 – winetour@cinciano.it \nwww.cinciano.it \n  \nFATTORIA DEI BARBI \nLoc. Podernovi\, 170 Montalcino \n0577841111 – info@fattoriadeibarbi.it \nwww.fattoriadeibarbi.it \n  \nFATTORIA IL PODERACCIO \nStrada del Castagno 1 Siena \n335 399634 – info@poderaccio.com \nwww.poderaccio.com \n  \nFATTORIA LA BRACCESCA \nVia Stella di Valiano\, 10 Montepulciano \n0578 724252 – labraccesca@antinori.it \nwww.antinori.it \n  \nFELSINA \nVia del Chianti\, 101 Castelnuovo Berardenga \n0577 355117 – info@felsina.it \nwww.felsina.it \n  \nFRANCO PACENTI – CANALICCHIO \nLoc. Canalicchio di Sopra\, 6 Montalcino \n0577 849277 – visit@francopacenticanalicchio.it \nwww.francopacenticanalicchio.it \n  \nMELINI \nLoc. Gaggiano Poggibonsi \n0577 998511 – melini@giv.it \nwww.melinichianti.com \n  \nPALAGETTO \nVia di Racciano\, 10 San Gimignano \n0577 943090 – tasting@palagetto.it \nwww.palagetto.it \n  \nPOGGIO BONELLI \nVia dell’Arbia\, 2 Castelnuovo Berardenga \n0577 355382 – info@poggiobonelli.it \nwww.poggiobonelli.it \n  \nPOGGIO DEL MORO \nStrada delle Cavine e Valli\, 79 Chianciano Terme \n0578 30508 – info@poggiodelmoro.it \nwww.poggiodelmoro.com \n  \nPOGGIO LANDI WINERY \nLoc. Pod. Belvedere SP71\, Torrenieri Montalcino \n0577 042736 – info@poggiolandi.it \nwww.poggiolandi.it \n  \nROCCA DI CASTAGNOLI \nLoc. Castagnoli Gaiole in Chianti \n0577 731909 – info@roccadicastagnoli.com \nwww.roccadicastagnoli.com \n  \nROCCA DELLE MACIE \nLoc. Le Macìe\, 45 Castellina in Chianti \n0577 732236 – enoteca@roccadellemacie.com \nwww.roccadellemacie.com \n  \nSOC. AGR. CAPANNELLE \nLoc. Capannelle\, 13 Gaiole in Chianti \n0577 74511 – ricevimento@capannelle.it \nwww.capannelle.it \n  \nTENUTA DI BIBBIANO \nVia Bibbiano\, 76 Castellina in Chianti \n0577 743065 – info@bibbiano.com \nwww.bibbiano.com \n  \nTENUTA DI LILLIANO \nLoc. Lilliano\, 8 Castellina in Chianti \n0577 743070 – info@lilliano.it \nwww.lilliano.it \n  \nTENUTA MOCENNI – BINDI SERGARDI \nStrada Comunale di Mocenni Castelnuovo Berardenga \n0577 309309 – r.bruni@bindisergardi.it \nvisit@bindisergardi.it – www.bindisergardi.it \n  \nTENUTE NARDI \nLoc. Casale del Bosco Montalcino \n0577 808269 – visite@tenutenardi.com \nwww.tenutenardi.com \n  \nTOLAINI               \nStrada Provinciale 9 di Pievasciata Loc. Vallenuova Castelnuovo Berardenga \n0577 356972 – hospitality@tolaini.it \nwww.tolaini.it \n  \nVALLEPICCIOLA \nStrada Provinciale 9 di Pievasciata\, 21 Castelnuovo Berardenga \n0577 1698719 – info@vallepicciola.com \nwww.vallepicciola.com \n  \nVILLA A SESTA \nPiazzale del Popolo\, 1 Villa a Sesta \n0577 359044 – shop@villasesta.com \nwww.villasesta.com \n\n\n\n\n\n\n\n\n\n\n\n\n  \n\n\n\n\n\n\n\n\n\n\n\n 
URL:https://www.eventiintoscana.it/evento/cantine-aperte-in-toscana
CATEGORIES:arezzo,Firenze,Grosseto,Livorno,Lucca,Pisa,Pistoia,Prato,Rassegne e Sagre,Siena
ATTACH;FMTTYPE=image/jpeg:https://www.eventiintoscana.it/wp-content/uploads/2016/02/cantine-aperte-in-Toscana-Movimento-Turismo-del-Vino.jpg
ORGANIZER;CN="Movimento Turismo del Vino":MAILTO:info@mtvtoscana.com
END:VEVENT
END:VCALENDAR