BEGIN:VCALENDAR
VERSION:2.0
PRODID:-//Eventi in Toscana By Toscana Tascabile - ECPv6.15.12.2//NONSGML v1.0//EN
CALSCALE:GREGORIAN
METHOD:PUBLISH
X-WR-CALNAME:Eventi in Toscana By Toscana Tascabile
X-ORIGINAL-URL:https://www.eventiintoscana.it
X-WR-CALDESC:Eventi per Eventi in Toscana By Toscana Tascabile
REFRESH-INTERVAL;VALUE=DURATION:PT1H
X-Robots-Tag:noindex
X-PUBLISHED-TTL:PT1H
BEGIN:VTIMEZONE
TZID:Europe/Rome
BEGIN:DAYLIGHT
TZOFFSETFROM:+0100
TZOFFSETTO:+0200
TZNAME:CEST
DTSTART:20190331T010000
END:DAYLIGHT
BEGIN:STANDARD
TZOFFSETFROM:+0200
TZOFFSETTO:+0100
TZNAME:CET
DTSTART:20191027T010000
END:STANDARD
BEGIN:DAYLIGHT
TZOFFSETFROM:+0100
TZOFFSETTO:+0200
TZNAME:CEST
DTSTART:20200329T010000
END:DAYLIGHT
BEGIN:STANDARD
TZOFFSETFROM:+0200
TZOFFSETTO:+0100
TZNAME:CET
DTSTART:20201025T010000
END:STANDARD
BEGIN:DAYLIGHT
TZOFFSETFROM:+0100
TZOFFSETTO:+0200
TZNAME:CEST
DTSTART:20210328T010000
END:DAYLIGHT
BEGIN:STANDARD
TZOFFSETFROM:+0200
TZOFFSETTO:+0100
TZNAME:CET
DTSTART:20211031T010000
END:STANDARD
END:VTIMEZONE
BEGIN:VEVENT
DTSTART;TZID=Europe/Rome:20200504T080000
DTEND;TZID=Europe/Rome:20200731T123000
DTSTAMP:20260421T160228
CREATED:20200514T164846Z
LAST-MODIFIED:20200514T164846Z
UID:286464-1588579200-1596198600@www.eventiintoscana.it
SUMMARY:Campagna Amica - Parco delle Cascine\, Firenze
DESCRIPTION:È tornato al Parco delle Cascine di Firenze il mercato dei produttori agricoli della rete Coldiretti Campagna Amica.\nOgni sabato di tutte le settimane\, a partire dalle 8 e fino alle 12.30\, nel piazzale accanto all’Università i consumatori possono trovare i prodotti agroalimentari del nostro territorio serviti direttamente dalle aziende agricole. \nOrtofrutta\, formaggi\, latticini\, carne\, pescato fresco\, miele\, legumi e… solidarietà\, con #laspesasospesa a favore di chi ha più difficoltà. \n*** \nInfo: 055.323571 – firenze@coldiretti.it
URL:https://www.eventiintoscana.it/evento/campagna-amica-parco-delle-cascine-firenze
CATEGORIES:Fiere e Mercatini,Firenze
ATTACH;FMTTYPE=image/jpeg:https://www.eventiintoscana.it/wp-content/uploads/2020/05/mercato_alimentare_verdure_pixabay.jpg
END:VEVENT
END:VCALENDAR