BEGIN:VCALENDAR
VERSION:2.0
PRODID:-//Eventi in Toscana By Toscana Tascabile - ECPv6.15.12.2//NONSGML v1.0//EN
CALSCALE:GREGORIAN
METHOD:PUBLISH
X-WR-CALNAME:Eventi in Toscana By Toscana Tascabile
X-ORIGINAL-URL:https://www.eventiintoscana.it
X-WR-CALDESC:Eventi per Eventi in Toscana By Toscana Tascabile
REFRESH-INTERVAL;VALUE=DURATION:PT1H
X-Robots-Tag:noindex
X-PUBLISHED-TTL:PT1H
BEGIN:VTIMEZONE
TZID:Europe/Rome
BEGIN:DAYLIGHT
TZOFFSETFROM:+0100
TZOFFSETTO:+0200
TZNAME:CEST
DTSTART:20190331T010000
END:DAYLIGHT
BEGIN:STANDARD
TZOFFSETFROM:+0200
TZOFFSETTO:+0100
TZNAME:CET
DTSTART:20191027T010000
END:STANDARD
BEGIN:DAYLIGHT
TZOFFSETFROM:+0100
TZOFFSETTO:+0200
TZNAME:CEST
DTSTART:20200329T010000
END:DAYLIGHT
BEGIN:STANDARD
TZOFFSETFROM:+0200
TZOFFSETTO:+0100
TZNAME:CET
DTSTART:20201025T010000
END:STANDARD
BEGIN:DAYLIGHT
TZOFFSETFROM:+0100
TZOFFSETTO:+0200
TZNAME:CEST
DTSTART:20210328T010000
END:DAYLIGHT
BEGIN:STANDARD
TZOFFSETFROM:+0200
TZOFFSETTO:+0100
TZNAME:CET
DTSTART:20211031T010000
END:STANDARD
END:VTIMEZONE
BEGIN:VEVENT
DTSTART;TZID=Europe/Rome:20200315T100000
DTEND;TZID=Europe/Rome:20200315T180000
DTSTAMP:20260423T132511
CREATED:20200113T154048Z
LAST-MODIFIED:20200113T154048Z
UID:283952-1584266400-1584295200@www.eventiintoscana.it
SUMMARY:Salone del Soldatino e della Bambola d’epoca - Centro Eventi St. Art\, Calenzano (Firenze)
DESCRIPTION:Domenica 15 marzo si svolge al Centro Eventi St. Art di Via Garibaldi 7 nel Centro di Calenzano Il Salone del Soldatino e della Bambola d’epoca.\nOrganizzato con il Patrocinio del Comune di Calenzano\, il Salone è il più grande ed unico appuntamento Italiano di questo importante settore\, dove si riuniscono collezionisti di soldatini di tutto il mondo. \nLa manifestazione che riscuote sempre un grande successo di pubblico e collezionisti presenti prevede oltre 200 espositori suddivisi in fabbricanti\, distributori\, editoria\, privati \, con tutte le tipologie di soldatini:da quelli in piombo\, plastica\, pasta\, Norimberga\, carta\, di tutte le dimensioni ed epoche. \nNon mancheranno i toys nati per i giochi dei ragazzi \, oppure quelli in 25 mm per i giochi di simulazione. \nSaranno oltre centomila i pezzi esposti\, con l’intera panoramica che offre oggi il mercato oltre ad accessori\, basette\, pennelli\, arnesi per costruire il proprio plastico o ambientazione della figura auto costruita e dipinta. \nFra le novità di quest’anno saranno presenti 14 fabbriche e altrettanti distributori presenti sul territorio nazionale che formano il meglio di questi soldatini esportati anche oltre oceano e in tutta Europa che rappresentano il MADE IN ITALY nel mondo di un prodotto anche se pur di nicchia nonostante la crisi non sembra aver subito grandi arresti di vendite. \nComunque vadano le contrattazioni la Borsa Scambio ed il Salone di Calenzano è definita da sempre la Wall Street del giocattolo che riprende il suo cammino per la gioia del pubblico maschile ma anche di quello femminile con l’appendice del salone della bambola che proporrà accessori\, vestiti\, case di bambola valutazioni e restauri. \nVi saranno bambole francesi\, inglesi\, tedesche\, Italiane in tutte le tipologie di materiali dal bisquit alla composizione\, panno Lenci. Anche in questo settore si potranno seguire in “diretta “ restauri e tecniche per la conservazione. \nNell’ambito del “salone “ si terrà collateralmente il 21° Concorso Internazionale del Soldatino Model da collezione “ FRAMMENTI DI STORIA “ al quale parteciperanno club da tutte le parti d’Italia e d’Europa in gara per importanti riconoscimenti con l’organizzazione tecnico-scientifica dell’Associazione Fiorentina LA CONDOTTA di Firenze che si terrà nei giorni 14 e 15 marzo. \nLa novità di quest’anno sarà costituita nei particolari settori in gara dei figurini in concorso che saranno giudicati da una giuria qualificata che sarà chiamata a valutare le opere esposte per l’assegnazione di numerosi premi speciali messi a disposizione da vari Enti\, Comuni \, Associazioni fra i quali spicca quello della Regione Toscana . \nMa nell’ambito del Concorso sarà assegnato anche un’ altro importante riconoscimento della Critica Giornalistica con la medaglia del Consiglio Regionale della Toscana. Quest’anno poi anche un settore di mezzi militari in scala provenienti da club specializzati. Inoltre per la prima volta la Collezione Museale Enrico Capecchi di Prato farà conoscere Jeep\, autoscale dei Vigli del Fuoco\, moto e divise d’epoca. \nL’orario della Mostra Concorso dalle 15 alle 18 del 14 e dalle 10 alle 16 del 15 marzo. \nLa premiazione avverrà alle ore 16 di domenica 15 dove potremo conoscere il vincitore assoluto del’ OSCAR mondiale del collezionismo\, “ BEST OF SHOW 2020 .” PREMIO DELLA REGIONE TOSCANA affiancato dai prodotti di eccellenza del territorio offerti quest’anno dal Biscottificio Belli di Calenzano \nIl soldatino e la bambola insieme in questa unica e grande manifestazione Internazionale di Calenzano che coinvolgerà come sempre curiosi ed appassionati\, ma soprattutto avvicinerà due hobby\, creando nuovi collezionisti . \nPer favorire l’afflusso del pubblico che si preannuncia numeroso l’ingresso sarà ad offerta libera . \n*** \nPer INFO 055 882041 – 330565439 a.barlacchi@mclink.it
URL:https://www.eventiintoscana.it/evento/salone-del-soldatino-e-della-bambola-depoca-centro-eventi-st-art-calenzano-firenze
CATEGORIES:Fiere e Mercatini,Firenze
ATTACH;FMTTYPE=image/jpeg:https://www.eventiintoscana.it/wp-content/uploads/2020/01/Pawnee-warrior-Riccardo-Ruberti.jpg
END:VEVENT
BEGIN:VEVENT
DTSTART;TZID=Europe/Rome:20200315T100000
DTEND;TZID=Europe/Rome:20200315T160000
DTSTAMP:20260423T132511
CREATED:20200303T080609Z
LAST-MODIFIED:20200303T080609Z
UID:285878-1584266400-1584288000@www.eventiintoscana.it
SUMMARY:Borsa scambio del giocattolo d'epoca - Centro Eventi St. Art\, Calenzano (Firenze)
DESCRIPTION:Domenica 15 marzo al Centro Eventi St.Art di Calenzano si tiene Il Salone del Soldatino e della Bambola d’epoca.\nSi tratta del più grande ed unico appuntamento Italiano di questo importante settore\, dove si riuniscono collezionisti di soldatini di tutto il mondo. \nLa manifestazione prevede oltre 200 espositori suddivisi in fabbricanti\, distributori\, editoria\, privati \, con tutte le tipologie di soldatini: da quelli in piombo\, plastica\, pasta\, Norimberga\, carta\, ti tutte le dimensioni ed epoche. \nLa Borsa Scambio ed il Salone di Calenzano è definita da sempre la Wall Street del giocattolo che riprende il suo cammino per la gioia del pubblico maschile ma anche di quello femminile con l’appendice del salone della bambola che proporrà accessori\, vestiti\, case di bambola valutazioni e restauri. \nSabato 14 si tiene invece il Concorso del Soldatino. \nEntrata a offerta libera. \n*** \nInfo: \n055 882041\n+39 330565439\na.barlacchi@mclink.it
URL:https://www.eventiintoscana.it/evento/borsa-scambio-del-giocattolo-depoca-centro-eventi-st-art-calenzano-firenze
CATEGORIES:Fiere e Mercatini,Firenze
ATTACH;FMTTYPE=image/jpeg:https://www.eventiintoscana.it/wp-content/uploads/2020/03/soldatino_soldatini_pixabay.jpg
END:VEVENT
END:VCALENDAR