BEGIN:VCALENDAR
VERSION:2.0
PRODID:-//Eventi in Toscana By Toscana Tascabile - ECPv6.15.12.2//NONSGML v1.0//EN
CALSCALE:GREGORIAN
METHOD:PUBLISH
X-ORIGINAL-URL:https://www.eventiintoscana.it
X-WR-CALDESC:Eventi per Eventi in Toscana By Toscana Tascabile
REFRESH-INTERVAL;VALUE=DURATION:PT1H
X-Robots-Tag:noindex
X-PUBLISHED-TTL:PT1H
BEGIN:VTIMEZONE
TZID:Europe/Rome
BEGIN:DAYLIGHT
TZOFFSETFROM:+0100
TZOFFSETTO:+0200
TZNAME:CEST
DTSTART:20180325T010000
END:DAYLIGHT
BEGIN:STANDARD
TZOFFSETFROM:+0200
TZOFFSETTO:+0100
TZNAME:CET
DTSTART:20181028T010000
END:STANDARD
BEGIN:DAYLIGHT
TZOFFSETFROM:+0100
TZOFFSETTO:+0200
TZNAME:CEST
DTSTART:20190331T010000
END:DAYLIGHT
BEGIN:STANDARD
TZOFFSETFROM:+0200
TZOFFSETTO:+0100
TZNAME:CET
DTSTART:20191027T010000
END:STANDARD
BEGIN:DAYLIGHT
TZOFFSETFROM:+0100
TZOFFSETTO:+0200
TZNAME:CEST
DTSTART:20200329T010000
END:DAYLIGHT
BEGIN:STANDARD
TZOFFSETFROM:+0200
TZOFFSETTO:+0100
TZNAME:CET
DTSTART:20201025T010000
END:STANDARD
END:VTIMEZONE
BEGIN:VEVENT
DTSTART;TZID=Europe/Rome:20190619T190000
DTEND;TZID=Europe/Rome:20190623T235500
DTSTAMP:20260419T210943
CREATED:20190616T123737Z
LAST-MODIFIED:20190616T123737Z
UID:276904-1560970800-1561334100@www.eventiintoscana.it
SUMMARY:Birrarbia - Arbia Scalo (Asciano\, Siena)
DESCRIPTION:Da  mercoledì 19 a domenica 23 giugno nell’area verde di Viale Toscana ad Arbia Scalo torna l’annuale appuntamento di Birrarbia.\n7 tipi di birra da degustare\, stand gastronomici con piatti tipici bavaresi\, hamburgheria e hot dog.\n\nDalle 19.00 e tanta musica live ad ingresso libero.
URL:https://www.eventiintoscana.it/evento/birrarbia-arbia-scalo-asciano-siena
LOCATION:Luogo Senza Nome\, Arbia Scalo (Asciano\, Siena)
CATEGORIES:Rassegne e Sagre,Siena
ATTACH;FMTTYPE=image/jpeg:https://www.eventiintoscana.it/wp-content/uploads/2019/06/BIRRARBIA-web-1920x1080_High-1.jpg
ORGANIZER;CN="Unnamed Organizzatore":MAILTO:birrarbia@yahoo.it
END:VEVENT
END:VCALENDAR