BEGIN:VCALENDAR
VERSION:2.0
PRODID:-//Eventi in Toscana By Toscana Tascabile - ECPv6.15.12.2//NONSGML v1.0//EN
CALSCALE:GREGORIAN
METHOD:PUBLISH
X-WR-CALNAME:Eventi in Toscana By Toscana Tascabile
X-ORIGINAL-URL:https://www.eventiintoscana.it
X-WR-CALDESC:Eventi per Eventi in Toscana By Toscana Tascabile
REFRESH-INTERVAL;VALUE=DURATION:PT1H
X-Robots-Tag:noindex
X-PUBLISHED-TTL:PT1H
BEGIN:VTIMEZONE
TZID:Europe/Rome
BEGIN:DAYLIGHT
TZOFFSETFROM:+0100
TZOFFSETTO:+0200
TZNAME:CEST
DTSTART:20190331T010000
END:DAYLIGHT
BEGIN:STANDARD
TZOFFSETFROM:+0200
TZOFFSETTO:+0100
TZNAME:CET
DTSTART:20191027T010000
END:STANDARD
BEGIN:DAYLIGHT
TZOFFSETFROM:+0100
TZOFFSETTO:+0200
TZNAME:CEST
DTSTART:20200329T010000
END:DAYLIGHT
BEGIN:STANDARD
TZOFFSETFROM:+0200
TZOFFSETTO:+0100
TZNAME:CET
DTSTART:20201025T010000
END:STANDARD
BEGIN:DAYLIGHT
TZOFFSETFROM:+0100
TZOFFSETTO:+0200
TZNAME:CEST
DTSTART:20210328T010000
END:DAYLIGHT
BEGIN:STANDARD
TZOFFSETFROM:+0200
TZOFFSETTO:+0100
TZNAME:CET
DTSTART:20211031T010000
END:STANDARD
END:VTIMEZONE
BEGIN:VEVENT
DTSTART;TZID=Europe/Rome:20200117T120000
DTEND;TZID=Europe/Rome:20200119T233000
DTSTAMP:20260422T044858
CREATED:20191223T082814Z
LAST-MODIFIED:20191223T082814Z
UID:283461-1579262400-1579476600@www.eventiintoscana.it
SUMMARY:Birraio dell'Anno - TuscanyHall\, Firenze
DESCRIPTION:A Firenze da venerdì 17 a domenica 19 gennaio 2020 andrà in scena al teatro TuscanyHall l’evento Birraio dell’Anno: ideato e organizzato dal network Fermento Birra\, il festival ruota attorno ad un ambito premio nazionale che da 11 anni riconosce il miglior produttore di birra italiana.\nUna sorta di Pallone d’oro della birra che grazie al voto di 100 esperti italiani riunirà 20 produttori candidati al premio Birraio dell’Anno e 5 giovani artigiani candidati al premio Birraio Emergente\, che si troveranno fianco a fianco pronti a spillare 150 birre artigianali all’interno di un lungo bancone circolare. \nLa novità di quest’anno sarà il corner Best Pub! dedicato ai migliori publican individuati da una classifica ottenuta sempre dal voto dei giudici: cinque locali considerati i migliori d’Italia per offerta\, servizio\, ambiente e professionalità\, interverranno all’evento arricchendo ulteriormente la beer list con 30 eccellenze italiane e straniere. \nL’appuntamento per la premiazione è domenica 19 alle 16.30\, quando dal palco del teatro sarà pronunciato l’atteso nome del vincitore\, sia del premio Birraio dell’Anno che del Birraio Emergente\, riconosciuto al produttore con meno di due anni di esperienza. Non mancheranno inoltre i momenti culturali: degustazioni gratuite realizzate nell’area Beer Show sul palco del teatro\, e incontri tematici esclusivi nell’area Beer Match\, in uno spazio a porte chiuse. \nIn nome della qualità anche la selezione dei banchi dell’area street-food\, per un menu variegato capace di celebrare nel migliore dei modi il matrimonio tra birra e cibo. \nUna evento tributo nato per celebrare un settore\, quello della birra artigianale italiana\, oramai riconosciuto e apprezzato a livello internazionale. Un appuntamento imperdibile per chi ama la buona birra\, per chi vuole conoscerla e festeggiarla con un brindisi lungo tre giorni! \nBirraio dell’Anno è un evento realizzato da Fermento Birra con la collaborazione di Mr Malt\, Lallemand\, PolyKeg e J-Software\, con il supporto di Rastal\, TicTac e Ferrarelle. Media partner: Fermento Birra Magazine. \nINGRESSO\nIl biglietto giornaliero costa 10 euro comprensivo di bicchiere serigrafato\, tracollina portabicchiere personalizzata\, libretto informativo sui birrifici partecipanti e lista birre\, 1 penna\, 2 gettoni del valore di 2 euro\, 1 buono valido per una bottiglia di acqua da mezzo litro.\nL’abbonamento per i tre giorni costa 15 euro comprensivo di bicchiere serigrafato\, tracollina portabicchiere personalizzata\, libretto informativo sui birrifici partecipanti e lista birre\, 1 penna\, 1 buono valido per una bottiglia di acqua da mezzo litro (NO GETTONI).\nI biglietti sono acquistabili direttamente in biglietteria durante l’evento o tramite prevendita attraverso i canali Box-office e Ticket One. \nCOSTO BIRRA\nIl pagamento avviene mediante gettoni. 1 gettone = 1 euro\n0\,15l costa 2 gettoni (3 per alcune birre speciali).\n0\,30l costa 4 gettoni (6 per alcune birre speciali) \nORARI\nvenerdì 17 gennaio 2020 dalle 18.00 alle 01\nsabato 18 gennaio 2020 dalle 12 alle 01\ndomenica 19 gennaio 2020 dalle 12 alle 22
URL:https://www.eventiintoscana.it/evento/birraio-dellanno-tuscanyhall-firenze
CATEGORIES:Firenze,Rassegne e Sagre
ATTACH;FMTTYPE=image/jpeg:https://www.eventiintoscana.it/wp-content/uploads/2019/12/birraio-dellanno.jpg
END:VEVENT
END:VCALENDAR