BEGIN:VCALENDAR
VERSION:2.0
PRODID:-//Eventi in Toscana By Toscana Tascabile - ECPv6.15.12.2//NONSGML v1.0//EN
CALSCALE:GREGORIAN
METHOD:PUBLISH
X-ORIGINAL-URL:https://www.eventiintoscana.it
X-WR-CALDESC:Eventi per Eventi in Toscana By Toscana Tascabile
REFRESH-INTERVAL;VALUE=DURATION:PT1H
X-Robots-Tag:noindex
X-PUBLISHED-TTL:PT1H
BEGIN:VTIMEZONE
TZID:Europe/Rome
BEGIN:DAYLIGHT
TZOFFSETFROM:+0100
TZOFFSETTO:+0200
TZNAME:CEST
DTSTART:20150329T010000
END:DAYLIGHT
BEGIN:STANDARD
TZOFFSETFROM:+0200
TZOFFSETTO:+0100
TZNAME:CET
DTSTART:20151025T010000
END:STANDARD
BEGIN:DAYLIGHT
TZOFFSETFROM:+0100
TZOFFSETTO:+0200
TZNAME:CEST
DTSTART:20160327T010000
END:DAYLIGHT
BEGIN:STANDARD
TZOFFSETFROM:+0200
TZOFFSETTO:+0100
TZNAME:CET
DTSTART:20161030T010000
END:STANDARD
BEGIN:DAYLIGHT
TZOFFSETFROM:+0100
TZOFFSETTO:+0200
TZNAME:CEST
DTSTART:20170326T010000
END:DAYLIGHT
BEGIN:STANDARD
TZOFFSETFROM:+0200
TZOFFSETTO:+0100
TZNAME:CET
DTSTART:20171029T010000
END:STANDARD
BEGIN:DAYLIGHT
TZOFFSETFROM:+0100
TZOFFSETTO:+0200
TZNAME:CEST
DTSTART:20180325T010000
END:DAYLIGHT
BEGIN:STANDARD
TZOFFSETFROM:+0200
TZOFFSETTO:+0100
TZNAME:CET
DTSTART:20181028T010000
END:STANDARD
BEGIN:DAYLIGHT
TZOFFSETFROM:+0100
TZOFFSETTO:+0200
TZNAME:CEST
DTSTART:20190331T010000
END:DAYLIGHT
BEGIN:STANDARD
TZOFFSETFROM:+0200
TZOFFSETTO:+0100
TZNAME:CET
DTSTART:20191027T010000
END:STANDARD
BEGIN:DAYLIGHT
TZOFFSETFROM:+0100
TZOFFSETTO:+0200
TZNAME:CEST
DTSTART:20200329T010000
END:DAYLIGHT
BEGIN:STANDARD
TZOFFSETFROM:+0200
TZOFFSETTO:+0100
TZNAME:CET
DTSTART:20201025T010000
END:STANDARD
END:VTIMEZONE
BEGIN:VEVENT
DTSTART;VALUE=DATE:20190118
DTEND;VALUE=DATE:20190121
DTSTAMP:20260422T102529
CREATED:20161221T101302Z
LAST-MODIFIED:20190120T180226Z
UID:229704-1547769600-1548028799@www.eventiintoscana.it
SUMMARY:Birraio dell'anno - Obihall\, Firenze
DESCRIPTION:Birraio dell’Anno torna al teatro TuscanyHall (ex ObiHall) di Firenze\, da venerdì 18 a domenica 20 gennaio 2019. Ideato e organizzato dal network Fermento Birra\, il premio\, che riconosce il miglior della birra italiana\, darà vita ad un appuntamento imperdibile per ogni appassionato. La selezione birraria ottenuta grazie al voto di 100 esperti italiani si concretizzerà lungo i banchi spillatura della grande isola centrale dove saranno servite 150 birre prodotte dai 20 produttori candidati al premio Birraio dell’Anno e dai 5 candidati al premio Birraio Emergente. \nQuest’anno l’evento prevede anche un’interessante novità che assicurerà una maggiore copertura territoriale migliorando l’esperienza di viaggio tra le birre italiane servite durante la tre giorni: i 10 migliori birrai delle regioni non coinvolte dalle nomination\, individuati sulla base della classifica del primo turno di votazioni\, saranno infatti invitati a inserire le loro birre nel corner Best Off!. Giunto alla decima edizione l’evento vuole essere una vetrina per un settore che vanta eccellenze riconosciute e apprezzate a livello internazionale\, un doveroso tributo a prodotti artigianali unici nati dalla maestria e dalla creatività dei nostri birrai\, che durante il festival saranno pronti a raccontare la loro passione attraverso le loro birre. Come da tradizione\, domenica 20 alle 16.30\, il noto degustatore Lorenzo “Kuaska” Dabove avrà il compito di condurre la premiazione e pronunciare l’atteso nome del vincitore\, sia del premio Birraio dell’Anno\, che del Birraio Emergente\, riconosciuto al prod In nome della qualità anche la selezione dei banchi dell’area food che quest’anno vedranno protagonisti locali cittadini come il gastro-pub Pint of View\, con le preparazioni orientaleggianti della giovane chef coreana Yejin Ha; la birreria Diorama con il tipico quinto quarto fiorentino; l’offerta ricercata dello chef Simone Cipriani del ristorante FAC; e quella golosa degli hamburger di chianina di Panino Tondo. Spazio anche alle tipicità extra-regionali con le specialità siciliane di Arà e quelle marchigiane di Ape Scottadito\, per un menu variegato capace di celebrare nel migliore dei modi il matrimonio tra birra e street-food. \nNon mancheranno inoltre i momenti culturali: degustazioni gratuite\, realizzate nell’area Beer Show sul palco del teatro\, o incontri tematici\, nell’area Beer Match\, in uno spazio dedicato (programma). Birraio dell’Anno è un evento realizzato da Fermento Birra con il supporto tecnico di Rastal\, con la collaborazione di Mr Malt\, Lallemand e J-Software. \n\nINFORMAZIONI INGRESSO \nIl biglietto giornaliero costa 10 euro comprensivo di bicchiere serigrafato\, tracollina portabicchiere personalizzata\, libretto informativo sui birrifici partecipanti e lista birre\, 1 penna\, 2 gettoni del valore di 2 euro\, 1 buono valido per una bottiglia di acqua da mezzo litro. Il biglietto ridotto costa 7 euro comprensivo di bicchiere serigrafato\, tracollina portabicchiere personalizzata\, libretto informativo sui birrifici partecipanti e lista birre\, 1 penna\, 2 gettoni del valore di 2 euro\, 1 buono valido per una bottiglia di acqua da mezzo litro (lo sconto è rivolto esclusivamente agli abbonati a Fermento Birra Magazine e soci MoBi richiedendo la riduzione previo pre-accredito). \nL’abbonamento per i tre giorni costa 15 euro comprensivo di bicchiere serigrafato\, tracollina portabicchiere personalizzata\, libretto informativo sui birrifici partecipanti e lista birre\, 1 penna\, 1 buono valido per una bottiglia di acqua da mezzo litro (NO GETTONI). È possibile ricevere il calice Mini-Teku (0\,3l di capienza) al posto del bicchiere previsto (0\,15l) al costo di un gettone. \nI biglietti sono acquistabili direttamente in biglietteria durante l’evento o tramite prevendita (costo aggiuntivo di 1\,50 euro) attraverso i canali Box-office e Ticket One (compra online). \n\nCOSTO BIRRA\nIl pagamento avviene mediante gettoni. 1 gettone = 1 euro\n0\,15l costa 2 gettoni (3 per alcune birre speciali).\n0\,30l costa 4 gettoni (6 per alcune birre speciali) – Il servizio da 0\,3l è disponibile solo nel bicchiere\nMini-Teku \n\nORARI \nvenerdì 18 gennaio 2019 dalle 18.00 alle 01\nsabato 19 gennaio 2019 dalle 12 alle 01\ndomenica 20 gennaio 2019 dalle 12 alle 22
URL:https://www.eventiintoscana.it/evento/birraio-dellanno-obihall-firenze
LOCATION:Obihall\, Via Fabrizio De Andrè\, Firenze\, Italia
CATEGORIES:Firenze,Rassegne e Sagre
ATTACH;FMTTYPE=image/png:https://www.eventiintoscana.it/wp-content/uploads/2016/12/birraio-anno_assaggi_650x300.png
END:VEVENT
BEGIN:VEVENT
DTSTART;TZID=Europe/Rome:20160908T000000
DTEND;TZID=Europe/Rome:20160911T000000
DTSTAMP:20260422T102529
CREATED:20160825T105159Z
LAST-MODIFIED:20160915T113344Z
UID:215137-1473292800-1473552000@www.eventiintoscana.it
SUMMARY:Festa della birra - Campo sportivo ASD Sagginale\, Borgo San Lorenzo (Firenze)
DESCRIPTION:Direttamente da Monaco\, torna a Sagginale la festa che celebra la vera birra tedesca! Protagonisti\, insieme alla musica\, piatti tipici come lo stinco di maiale arrosto\, i wurstel\, il gulash. \nAppuntamento tutti i giorni a cena e la domenica anche a pranzo. La festa si tiene anche in caso di pioggia.
URL:https://www.eventiintoscana.it/evento/festa-della-birra-campo-sportivo-asd-sagginale-borgo-san-lorenzo-firenze
LOCATION:Campo sportivo ASD Sagginale\, via Ponte d'Annibale\, Borgo San Lorenzo\, Toscana\, 50032\, Italia
CATEGORIES:Firenze,Rassegne e Sagre
ATTACH;FMTTYPE=image/jpeg:https://www.eventiintoscana.it/wp-content/uploads/2016/08/sagginale-1.jpg
END:VEVENT
END:VCALENDAR