BEGIN:VCALENDAR
VERSION:2.0
PRODID:-//Eventi in Toscana By Toscana Tascabile - ECPv6.15.12.2//NONSGML v1.0//EN
CALSCALE:GREGORIAN
METHOD:PUBLISH
X-ORIGINAL-URL:https://www.eventiintoscana.it
X-WR-CALDESC:Eventi per Eventi in Toscana By Toscana Tascabile
REFRESH-INTERVAL;VALUE=DURATION:PT1H
X-Robots-Tag:noindex
X-PUBLISHED-TTL:PT1H
BEGIN:VTIMEZONE
TZID:Europe/Rome
BEGIN:DAYLIGHT
TZOFFSETFROM:+0100
TZOFFSETTO:+0200
TZNAME:CEST
DTSTART:20160327T010000
END:DAYLIGHT
BEGIN:STANDARD
TZOFFSETFROM:+0200
TZOFFSETTO:+0100
TZNAME:CET
DTSTART:20161030T010000
END:STANDARD
BEGIN:DAYLIGHT
TZOFFSETFROM:+0100
TZOFFSETTO:+0200
TZNAME:CEST
DTSTART:20170326T010000
END:DAYLIGHT
BEGIN:STANDARD
TZOFFSETFROM:+0200
TZOFFSETTO:+0100
TZNAME:CET
DTSTART:20171029T010000
END:STANDARD
BEGIN:DAYLIGHT
TZOFFSETFROM:+0100
TZOFFSETTO:+0200
TZNAME:CEST
DTSTART:20180325T010000
END:DAYLIGHT
BEGIN:STANDARD
TZOFFSETFROM:+0200
TZOFFSETTO:+0100
TZNAME:CET
DTSTART:20181028T010000
END:STANDARD
END:VTIMEZONE
BEGIN:VEVENT
DTSTART;TZID=Europe/Rome:20170803T080000
DTEND;TZID=Europe/Rome:20170826T170000
DTSTAMP:20260420T050421
CREATED:20170731T132806Z
LAST-MODIFIED:20170828T074021Z
UID:246252-1501747200-1503766800@www.eventiintoscana.it
SUMMARY:L'isola delle storie - Follonica (Grosseto)
DESCRIPTION:Appuntamento dedicato interamente ai bambini quello che il Comune di Follonica\, in collaborazione con l’associazione culturale Spazio Temporale\, ha programmato al Giardino del Casello idraulico tutti i giovedì\, venerdì e sabato alle ore 21.15 dal 3 al 26 agosto.\n“L’isola delle storie”\, con la direzione artistica di Stefano Stefani\, coinvolgerà i nostri bimbi in serate tutte per loro e\, mentre il giovedì e il sabato  i bambini potranno assistere a storie divertenti e intriganti con attori\, burattini  e pupazzi animati\, il venerdì saranno proprio loro i protagonisti del palco dove saranno chiamati a inventare storie e ad interpretarle. \n Si inizia giovedì 3 agosto con la compagnia del Teatro del Topo birbante di Grosseto presenterà “DALLO ZUCCHERO FILATO”\, teatro d’attore e oggetti animati. \n Venerdì 4 Agosto\, primo appuntamento  con i bimbi sul palco e adulti in platea con “TUTTI IN SCENA” per inventare e rappresentare una storia divertente \n Questa prima settimana de L’Isola delle storie si conclude sabato 5 Agosto con “LE STORIE DI KHALED” ancora con il  Teatro del Topo Birbante\, narrazione  con attori e  oggetti. \n Questi sono gli altri appuntamenti della rassegna: \n Giovedì 10 Agosto – “LINO IL TOPOLINO CORAGGIOSO” \nVen. 11 Agosto – “TUTTI IN SCENA” \nSab. 12 Agosto -” LE AVVENTURE DI FAGIOLINO” \nGio. 17 Agosto – ” STORIE DI LUPI” \nVen. 18 Agosto -“TUTTI IN SCENA” \nSab. 19 Agosto – “LE AVVENTURE DELLA STREGA TIROVINA” \nGio. 24 Agosto – “RE BEL BLU” \nVen. 25 Agosto – “TUTTI IN SCENA” \nSab. 26 Agosto – “IL CIRCO INVENTATO” \nIngresso 6 Euro-  Il venerdì i bambini pagano 5 euro\, mentre per gli adulti l’ingresso è gratuito.
URL:https://www.eventiintoscana.it/evento/lisola-delle-storie-follonica
LOCATION:Giardino del Casello idraulico\, Follonica\, Grosseto
CATEGORIES:Grosseto,Rassegne e Sagre
ATTACH;FMTTYPE=image/jpeg:https://www.eventiintoscana.it/wp-content/uploads/2017/07/bambini2.jpg
END:VEVENT
END:VCALENDAR