BEGIN:VCALENDAR
VERSION:2.0
PRODID:-//Eventi in Toscana By Toscana Tascabile - ECPv6.15.12.2//NONSGML v1.0//EN
CALSCALE:GREGORIAN
METHOD:PUBLISH
X-WR-CALNAME:Eventi in Toscana By Toscana Tascabile
X-ORIGINAL-URL:https://www.eventiintoscana.it
X-WR-CALDESC:Eventi per Eventi in Toscana By Toscana Tascabile
REFRESH-INTERVAL;VALUE=DURATION:PT1H
X-Robots-Tag:noindex
X-PUBLISHED-TTL:PT1H
BEGIN:VTIMEZONE
TZID:Europe/Rome
BEGIN:DAYLIGHT
TZOFFSETFROM:+0100
TZOFFSETTO:+0200
TZNAME:CEST
DTSTART:20180325T010000
END:DAYLIGHT
BEGIN:STANDARD
TZOFFSETFROM:+0200
TZOFFSETTO:+0100
TZNAME:CET
DTSTART:20181028T010000
END:STANDARD
BEGIN:DAYLIGHT
TZOFFSETFROM:+0100
TZOFFSETTO:+0200
TZNAME:CEST
DTSTART:20190331T010000
END:DAYLIGHT
BEGIN:STANDARD
TZOFFSETFROM:+0200
TZOFFSETTO:+0100
TZNAME:CET
DTSTART:20191027T010000
END:STANDARD
BEGIN:DAYLIGHT
TZOFFSETFROM:+0100
TZOFFSETTO:+0200
TZNAME:CEST
DTSTART:20200329T010000
END:DAYLIGHT
BEGIN:STANDARD
TZOFFSETFROM:+0200
TZOFFSETTO:+0100
TZNAME:CET
DTSTART:20201025T010000
END:STANDARD
END:VTIMEZONE
BEGIN:VEVENT
DTSTART;TZID=Europe/Rome:20191215T090000
DTEND;TZID=Europe/Rome:20191215T180000
DTSTAMP:20260422T130427
CREATED:20191204T084231Z
LAST-MODIFIED:20191204T084231Z
UID:282057-1576400400-1576432800@www.eventiintoscana.it
SUMMARY:BabboNatalata - Piazzale Michelangelo\, Firenze
DESCRIPTION:Domenica 15 dicembre si tiene a Firenze la BabboNatalata\, un moto raduno e moto parata di beneficenza in cui tutti sono vestiti da Babbo Natale e le moto diventano renne!\nPartenza da Piazzale Michelangelo alle ore 09\, qualsiasi mezzo a 2 ruote è ammesso. La partecipazione dell’evento è gratuita\, però è gradito (ma non obbligatorio) il proprio contributo per le 3 realtà che questo evento va a supportare (Helios Onlus\, Mensa Caritas Firenze e Parco degli Animali; sotto\, la lista delle modalità di sostegno). \nSabato 14 dicembre presso Aviazione Campo di Marte  (ore 14:30-18:00) ci sono i punti di raccolta e chi vuole può partecipare al pranzo. \nCome poter aiutare:\n1)Partecipare al pranzo post evento (all’Aviazione a Campo di Marte)\n2)Fare una donazione nell’apposita urna presente al Pranzo\n2)Partecipare alla lotteria a premi organizzata dall’associazione \nCome poter aiutare Helios Onlus\n1)Partecipare al pranzo post evento\n2)Fare una donazione nell’apposita urna presente al Pranzo\n2)Partecipare alla lotteria a premi organizzata dall’associazione \nCome poter aiutare la Mensa Caritas Firenze\n1)Generi alimentari di prima necessità e a lunga scadenza \nCome poter aiutare il Parco degli Animali\n• Scatolette cibo per cani e gatti\n• Mangime per pappagalli gradi\n• Croccantini per cani e gatti\n• Guinzagli e collari\n• Collari Seresto\n• Ciotole anti torsione\n• Ciotole anti ribaltamento\n• Guinzagli rigido (per cani aggressivi)\n• Collari elisabbetiani\n• Fascette in plastica di varie misure\n• Cannoncini (chiavistelli)\n• Rubinetti da mezzo pollice per irrigazione\n• Chiodi di varie misure\n• Viti autofilettanti di varie misure\n• Cavetto d’acciaio (misure tipo freno bici)\n• Filo di ferro per legature\n• Canapa da idraulici\n• Teflon\n• Dischi per flessibile per taglio e smeriglio\n• Punte per trapano di varie misure per ferro e legno\n• Fil per decespugliatore\n• Pennelli di varie misure per pitturare\n• Rulli di vari misure per pitturare\n• Pennellessa\n• Pennelli a pipa di piccola\, media e grande dimensione\n• Scotch da carrozziere (di carta)\n• Paletta da giardiniere in metallo\n• Silicone universale trasparente\n• Diluente e acetone\n• Vernice antirombo\n• Bomboletta spray zincata\n• Tubo di gomma da irrigazione 15Mt. mezzo pollice\n• Raccordi per gomma da mezzo pollice
URL:https://www.eventiintoscana.it/evento/babbonatalata-piazzale-michelangelo-firenze
CATEGORIES:Feste e Folklore,Firenze
ATTACH;FMTTYPE=image/jpeg:https://www.eventiintoscana.it/wp-content/uploads/2019/12/babbonatalata_ph.www_.facebook.comClassicSpecialFirenze.jpg
END:VEVENT
END:VCALENDAR