BEGIN:VCALENDAR
VERSION:2.0
PRODID:-//Eventi in Toscana By Toscana Tascabile - ECPv6.15.12.2//NONSGML v1.0//EN
CALSCALE:GREGORIAN
METHOD:PUBLISH
X-ORIGINAL-URL:https://www.eventiintoscana.it
X-WR-CALDESC:Eventi per Eventi in Toscana By Toscana Tascabile
REFRESH-INTERVAL;VALUE=DURATION:PT1H
X-Robots-Tag:noindex
X-PUBLISHED-TTL:PT1H
BEGIN:VTIMEZONE
TZID:Europe/Rome
BEGIN:DAYLIGHT
TZOFFSETFROM:+0100
TZOFFSETTO:+0200
TZNAME:CEST
DTSTART:20220327T010000
END:DAYLIGHT
BEGIN:STANDARD
TZOFFSETFROM:+0200
TZOFFSETTO:+0100
TZNAME:CET
DTSTART:20221030T010000
END:STANDARD
BEGIN:DAYLIGHT
TZOFFSETFROM:+0100
TZOFFSETTO:+0200
TZNAME:CEST
DTSTART:20230326T010000
END:DAYLIGHT
BEGIN:STANDARD
TZOFFSETFROM:+0200
TZOFFSETTO:+0100
TZNAME:CET
DTSTART:20231029T010000
END:STANDARD
BEGIN:DAYLIGHT
TZOFFSETFROM:+0100
TZOFFSETTO:+0200
TZNAME:CEST
DTSTART:20240331T010000
END:DAYLIGHT
BEGIN:STANDARD
TZOFFSETFROM:+0200
TZOFFSETTO:+0100
TZNAME:CET
DTSTART:20241027T010000
END:STANDARD
END:VTIMEZONE
BEGIN:VEVENT
DTSTART;TZID=Europe/Rome:20230704T193000
DTEND;TZID=Europe/Rome:20230709T235500
DTSTAMP:20260424T015634
CREATED:20190703T130623Z
LAST-MODIFIED:20230704T102109Z
UID:277191-1688499000-1688946900@www.eventiintoscana.it
SUMMARY:Attuttabirra - Gambassi Terme (Firenze)
DESCRIPTION:Fino al 9 luglio 2023  torna Atuttabirra\, il festival della birra che coniuga musica\, cibo e buona birra a Gambassi Terme\, Firenze\, nel parco Comunale. \nDalle 19:30 circa la cucina propone stinco al forno con patate\, panini\, grigliata mista\, lampredotto alla puttanesca e in inzimino\, affettati locali\, panzanella e ribollita\, il tutto accompagnato da birra fresca chiara\, rossa\, weiss\, ambrata o doppio malto. \nDalle ore 21:30 invece le serate si animeranno con musica live \n>> Programma musica live QUI<<\n 
URL:https://www.eventiintoscana.it/evento/attuttabirra-gambassi-terme-firenze
LOCATION:Luogo Senza Nome\, Gambassi Terme (Firenze)
CATEGORIES:Firenze,Rassegne e Sagre
ATTACH;FMTTYPE=image/jpeg:https://www.eventiintoscana.it/wp-content/uploads/2019/07/birra_birre_pixabay.jpg
END:VEVENT
END:VCALENDAR