BEGIN:VCALENDAR
VERSION:2.0
PRODID:-//Eventi in Toscana By Toscana Tascabile - ECPv6.15.12.2//NONSGML v1.0//EN
CALSCALE:GREGORIAN
METHOD:PUBLISH
X-ORIGINAL-URL:https://www.eventiintoscana.it
X-WR-CALDESC:Eventi per Eventi in Toscana By Toscana Tascabile
REFRESH-INTERVAL;VALUE=DURATION:PT1H
X-Robots-Tag:noindex
X-PUBLISHED-TTL:PT1H
BEGIN:VTIMEZONE
TZID:Europe/Rome
BEGIN:DAYLIGHT
TZOFFSETFROM:+0100
TZOFFSETTO:+0200
TZNAME:CEST
DTSTART:20180325T010000
END:DAYLIGHT
BEGIN:STANDARD
TZOFFSETFROM:+0200
TZOFFSETTO:+0100
TZNAME:CET
DTSTART:20181028T010000
END:STANDARD
BEGIN:DAYLIGHT
TZOFFSETFROM:+0100
TZOFFSETTO:+0200
TZNAME:CEST
DTSTART:20190331T010000
END:DAYLIGHT
BEGIN:STANDARD
TZOFFSETFROM:+0200
TZOFFSETTO:+0100
TZNAME:CET
DTSTART:20191027T010000
END:STANDARD
BEGIN:DAYLIGHT
TZOFFSETFROM:+0100
TZOFFSETTO:+0200
TZNAME:CEST
DTSTART:20200329T010000
END:DAYLIGHT
BEGIN:STANDARD
TZOFFSETFROM:+0200
TZOFFSETTO:+0100
TZNAME:CET
DTSTART:20201025T010000
END:STANDARD
END:VTIMEZONE
BEGIN:VEVENT
DTSTART;TZID=Europe/Rome:20191215T100000
DTEND;TZID=Europe/Rome:20191215T190000
DTSTAMP:20260424T061933
CREATED:20191212T085702Z
LAST-MODIFIED:20191212T085702Z
UID:282620-1576404000-1576436400@www.eventiintoscana.it
SUMMARY:Mercatino di Natale - Centro storico\, Asciano (Siena)
DESCRIPTION:Domenica 22 dicembre nel centro storico di Asciano si tiene il Mercatino di Natale delle Crete Senesi.\nA partire dalle ore 10 numerosi espositori allestiranno il Centro Storico di Asciano con i loro stand ricchi di prodotti tipici ed artigianali e non mancheranno intrattenimenti per i più piccoli con laboratori per tutti i gusti. \nTutti i negozi rimarranno aperti\, per tante idee regalo. \nAlle ore 16:30 è tempo di musica: la Soc. Filarmonica G. Verdi di Asciano delizierà i presenti con un concerto tutto a tema\, con brani dedicati al periodo più bello dell’anno\, il Natale.
URL:https://www.eventiintoscana.it/evento/mercatino-di-natale-centro-storico-asciano-siena
CATEGORIES:Fiere e Mercatini,Siena
ATTACH;FMTTYPE=image/jpeg:https://www.eventiintoscana.it/wp-content/uploads/2019/12/mercatino-natale-asciano.jpg
END:VEVENT
END:VCALENDAR