BEGIN:VCALENDAR
VERSION:2.0
PRODID:-//Eventi in Toscana By Toscana Tascabile - ECPv6.15.12.2//NONSGML v1.0//EN
CALSCALE:GREGORIAN
METHOD:PUBLISH
X-WR-CALNAME:Eventi in Toscana By Toscana Tascabile
X-ORIGINAL-URL:https://www.eventiintoscana.it
X-WR-CALDESC:Eventi per Eventi in Toscana By Toscana Tascabile
REFRESH-INTERVAL;VALUE=DURATION:PT1H
X-Robots-Tag:noindex
X-PUBLISHED-TTL:PT1H
BEGIN:VTIMEZONE
TZID:Europe/Rome
BEGIN:DAYLIGHT
TZOFFSETFROM:+0100
TZOFFSETTO:+0200
TZNAME:CEST
DTSTART:20180325T010000
END:DAYLIGHT
BEGIN:STANDARD
TZOFFSETFROM:+0200
TZOFFSETTO:+0100
TZNAME:CET
DTSTART:20181028T010000
END:STANDARD
BEGIN:DAYLIGHT
TZOFFSETFROM:+0100
TZOFFSETTO:+0200
TZNAME:CEST
DTSTART:20190331T010000
END:DAYLIGHT
BEGIN:STANDARD
TZOFFSETFROM:+0200
TZOFFSETTO:+0100
TZNAME:CET
DTSTART:20191027T010000
END:STANDARD
BEGIN:DAYLIGHT
TZOFFSETFROM:+0100
TZOFFSETTO:+0200
TZNAME:CEST
DTSTART:20200329T010000
END:DAYLIGHT
BEGIN:STANDARD
TZOFFSETFROM:+0200
TZOFFSETTO:+0100
TZNAME:CET
DTSTART:20201025T010000
END:STANDARD
END:VTIMEZONE
BEGIN:VEVENT
DTSTART;TZID=Europe/Rome:20191222T100000
DTEND;TZID=Europe/Rome:20191222T190000
DTSTAMP:20260426T050250
CREATED:20191203T180013Z
LAST-MODIFIED:20191203T180013Z
UID:281930-1577008800-1577041200@www.eventiintoscana.it
SUMMARY:Artefacendo Christmas Edition - Vecchio Conventino\, Firenze
DESCRIPTION:Domenica 22 dicembre dalle ore 10 alle 19 al Vecchio Conventino di  Firenze si tiene Artefacendo Christmas Edition.\nArtefacendo è la mostra-mercato dedicata al meglio dell’artigianato artistico: maestri artigiani e makers si esibiscono presentando al pubblico le tecniche e rivelando i processi che trasformano le materie prime in preziosi pezzi unici. \nOltre ai prodotti artigianali sarà possibile anche partecipare ai worshop e assaggiare le prelibatezze dell’area street food. \nLa manifestazione è organizzata da CNA Firenze in collaborazione con Artex Artigianato Artistico. \nIngresso libero. Ore 10-19. \n*** \nInfo:\n055 2651571 – www.firenze.cna.it
URL:https://www.eventiintoscana.it/evento/artefacendo-christmas-edition-vecchio-conventino-firenze
CATEGORIES:Fiere e Mercatini,Firenze
ATTACH;FMTTYPE=image/jpeg:https://www.eventiintoscana.it/wp-content/uploads/2019/12/ArteFacendo-Christmas-Edition.jpg
END:VEVENT
END:VCALENDAR