BEGIN:VCALENDAR
VERSION:2.0
PRODID:-//Eventi in Toscana By Toscana Tascabile - ECPv6.15.12.2//NONSGML v1.0//EN
CALSCALE:GREGORIAN
METHOD:PUBLISH
X-WR-CALNAME:Eventi in Toscana By Toscana Tascabile
X-ORIGINAL-URL:https://www.eventiintoscana.it
X-WR-CALDESC:Eventi per Eventi in Toscana By Toscana Tascabile
REFRESH-INTERVAL;VALUE=DURATION:PT1H
X-Robots-Tag:noindex
X-PUBLISHED-TTL:PT1H
BEGIN:VTIMEZONE
TZID:Europe/Rome
BEGIN:DAYLIGHT
TZOFFSETFROM:+0100
TZOFFSETTO:+0200
TZNAME:CEST
DTSTART:20190331T010000
END:DAYLIGHT
BEGIN:STANDARD
TZOFFSETFROM:+0200
TZOFFSETTO:+0100
TZNAME:CET
DTSTART:20191027T010000
END:STANDARD
BEGIN:DAYLIGHT
TZOFFSETFROM:+0100
TZOFFSETTO:+0200
TZNAME:CEST
DTSTART:20200329T010000
END:DAYLIGHT
BEGIN:STANDARD
TZOFFSETFROM:+0200
TZOFFSETTO:+0100
TZNAME:CET
DTSTART:20201025T010000
END:STANDARD
BEGIN:DAYLIGHT
TZOFFSETFROM:+0100
TZOFFSETTO:+0200
TZNAME:CEST
DTSTART:20210328T010000
END:DAYLIGHT
BEGIN:STANDARD
TZOFFSETFROM:+0200
TZOFFSETTO:+0100
TZNAME:CET
DTSTART:20211031T010000
END:STANDARD
END:VTIMEZONE
BEGIN:VEVENT
DTSTART;TZID=Europe/Rome:20200321T093000
DTEND;TZID=Europe/Rome:20200323T183000
DTSTAMP:20260423T061046
CREATED:20200302T082556Z
LAST-MODIFIED:20200322T132346Z
UID:285859-1584783000-1584988200@www.eventiintoscana.it
SUMMARY:---rimandato--- Arte\, Artigianato e Agricoltura - Fattoria di Maiano\, Fiesole (Firenze)
DESCRIPTION:Arte\, Artigianato e Agricoltura è la Mostra mercato che si tiene sabato 21 e domenica 22 marzo dalle 9.30 alle 18.30 alla Fattoria di Maiano a Fiesole.\nL’antico borgo di Maiano\, i giardini e i piazzali si vestono a festa\, ospitando più di 100 espositori provenienti dalla Toscana e da tutta Italia per proporre le loro creazioni\, artigianali ed autentiche. \nPer l’occasione il ristorante Lo Spaccio si sposterà nel piazzale all’aperto e proporrà i tipici piatti della Fattoria in stile street food. \nAltro punto di ristoro sarò presso la Casa del The\, nel cuore del Botanic Garden. \nSpazio anche a villaggio medievale\, giochi antichi ed arcieri\, spettacoli di falconeria\, ex tempore di pittura. \nAperti ai visitatori il Parco con il laghetto delle Colonne\, gli animali della Fattoria didattica e.i tanti percorsi con le aree sosta per i pic nic. \n*** \nInfo; 055/599660
URL:https://www.eventiintoscana.it/evento/arte-artigianato-e-agricoltura-fattoria-di-maiano-fiesole-firenze
CATEGORIES:Fiere e Mercatini,Firenze
ATTACH;FMTTYPE=image/jpeg:https://www.eventiintoscana.it/wp-content/uploads/2020/03/arte-artigianato-agricoltura-fattoria-maiano.jpg
END:VEVENT
END:VCALENDAR