BEGIN:VCALENDAR
VERSION:2.0
PRODID:-//Eventi in Toscana By Toscana Tascabile - ECPv6.15.12.2//NONSGML v1.0//EN
CALSCALE:GREGORIAN
METHOD:PUBLISH
X-ORIGINAL-URL:https://www.eventiintoscana.it
X-WR-CALDESC:Eventi per Eventi in Toscana By Toscana Tascabile
REFRESH-INTERVAL;VALUE=DURATION:PT1H
X-Robots-Tag:noindex
X-PUBLISHED-TTL:PT1H
BEGIN:VTIMEZONE
TZID:Europe/Rome
BEGIN:DAYLIGHT
TZOFFSETFROM:+0100
TZOFFSETTO:+0200
TZNAME:CEST
DTSTART:20180325T010000
END:DAYLIGHT
BEGIN:STANDARD
TZOFFSETFROM:+0200
TZOFFSETTO:+0100
TZNAME:CET
DTSTART:20181028T010000
END:STANDARD
BEGIN:DAYLIGHT
TZOFFSETFROM:+0100
TZOFFSETTO:+0200
TZNAME:CEST
DTSTART:20190331T010000
END:DAYLIGHT
BEGIN:STANDARD
TZOFFSETFROM:+0200
TZOFFSETTO:+0100
TZNAME:CET
DTSTART:20191027T010000
END:STANDARD
BEGIN:DAYLIGHT
TZOFFSETFROM:+0100
TZOFFSETTO:+0200
TZNAME:CEST
DTSTART:20200329T010000
END:DAYLIGHT
BEGIN:STANDARD
TZOFFSETFROM:+0200
TZOFFSETTO:+0100
TZNAME:CET
DTSTART:20201025T010000
END:STANDARD
END:VTIMEZONE
BEGIN:VEVENT
DTSTART;TZID=Europe/Rome:20190623T180000
DTEND;TZID=Europe/Rome:20190623T235500
DTSTAMP:20260419T142922
CREATED:20190523T093500Z
LAST-MODIFIED:20190523T093500Z
UID:276041-1561312800-1561334100@www.eventiintoscana.it
SUMMARY:Aperitivo d'Estate. Notte Arcobaleno - Il Prato\, Arezzo
DESCRIPTION: Nell’ambito di Toscana Arcobaleno d’Estate\, domenica 23 giugno Arezzo a Il Prato dalle 18 arrivaAperitivo d’Estate\, una notte di arte\, gusto\, cultura\, musica e degustazioni che segna la chiusura della manifestazione.\nNel caratteristico ovale del Prato un percorso enogastronomico attenderà turisti e visitatori per una notte all’insegna di gusto\, arte e cultura. Oltre alle degustazioni delle eccellenze enogastronomiche del territorio aretino\, ci sarà anche la possibilità di scoprire le meraviglie della Fortezza Medicea Arezzo e partecipare a visite guidate gratuite promosse da Confguide Arezzo. Un modo innovativo di coniugare buon cibo\, socialità e cultura. \nOgni associazione avrà una postazione e potrà presentare il meglio della produzione e della creatività enogastronomica della nostra provincia. Tutti i visitatori potranno scoprire il gusto e la tradizione culinaria aretina e toscana con un percorso all’interno dei piatti e delle specialità gourmet degli operatori. \nL’iniziativa curata dalla regia di Confcommercio è realizzata con il patrocinio del Comune di Arezzo e grazie alla collaborazione delle più importanti associazioni enogastronomiche del territorio: Associazione Ristoratori\, Macellai\, Panificatori e Pizzerie di Confcommercio\, Cuochi Arezzo\, A.I.S. Toscana Delegazione Arezzo. \nL’ingresso è gratuito e sarà gestito attraverso un cambio moneta che consentirà al pubblico di consumare nei vari corner. Ad ogni piatto corrisponderà un costo che si potrà corrispondere con la moneta scelta per l’evento.\n——————————————————————————————-\nInformazioni e prenotazioni:\nConfcommercio Arezzo\nGian Luca Rosai – 3316466780\nteameventi@confcommercio.ar.it \n 
URL:https://www.eventiintoscana.it/evento/aperitivo-destate-notte-arcobaleno-prato-arezzo
LOCATION:Il Prato\, Arezzo
CATEGORIES:arezzo,Rassegne e Sagre
ATTACH;FMTTYPE=image/jpeg:https://www.eventiintoscana.it/wp-content/uploads/2019/05/aperitivo-destate.jpg
ORGANIZER;CN="Confcommercio Arezzo":MAILTO:teameventi@confcommercio.ar.it
END:VEVENT
END:VCALENDAR