BEGIN:VCALENDAR
VERSION:2.0
PRODID:-//Eventi in Toscana By Toscana Tascabile - ECPv6.15.12.2//NONSGML v1.0//EN
CALSCALE:GREGORIAN
METHOD:PUBLISH
X-WR-CALNAME:Eventi in Toscana By Toscana Tascabile
X-ORIGINAL-URL:https://www.eventiintoscana.it
X-WR-CALDESC:Eventi per Eventi in Toscana By Toscana Tascabile
REFRESH-INTERVAL;VALUE=DURATION:PT1H
X-Robots-Tag:noindex
X-PUBLISHED-TTL:PT1H
BEGIN:VTIMEZONE
TZID:Europe/Rome
BEGIN:DAYLIGHT
TZOFFSETFROM:+0100
TZOFFSETTO:+0200
TZNAME:CEST
DTSTART:20150329T010000
END:DAYLIGHT
BEGIN:STANDARD
TZOFFSETFROM:+0200
TZOFFSETTO:+0100
TZNAME:CET
DTSTART:20151025T010000
END:STANDARD
BEGIN:DAYLIGHT
TZOFFSETFROM:+0100
TZOFFSETTO:+0200
TZNAME:CEST
DTSTART:20160327T010000
END:DAYLIGHT
BEGIN:STANDARD
TZOFFSETFROM:+0200
TZOFFSETTO:+0100
TZNAME:CET
DTSTART:20161030T010000
END:STANDARD
BEGIN:DAYLIGHT
TZOFFSETFROM:+0100
TZOFFSETTO:+0200
TZNAME:CEST
DTSTART:20170326T010000
END:DAYLIGHT
BEGIN:STANDARD
TZOFFSETFROM:+0200
TZOFFSETTO:+0100
TZNAME:CET
DTSTART:20171029T010000
END:STANDARD
END:VTIMEZONE
BEGIN:VEVENT
DTSTART;TZID=Europe/Rome:20161013T000000
DTEND;TZID=Europe/Rome:20161015T000000
DTSTAMP:20260421T135937
CREATED:20160920T112845Z
LAST-MODIFIED:20161017T082923Z
UID:218604-1476316800-1476489600@www.eventiintoscana.it
SUMMARY:Festival delle Generazioni - Firenze
DESCRIPTION:Dal 13 al 15 ottobre\, terza edizione della manifestazione dedicata al confronto fra generazioni. Tre giorni di spettacoli\, incontri\, mostre interattive e lezioni magistrali. Tra gli oltre 150 ospiti: Zygmunt Bauman\, l’astrofisica Sandra Savaglio\, Piergiorgio Odifreddi\, Serena Dandini\, Michela Murgia\, Beppe Severgnini\, l’atleta Martina Caironi e i vincitori dei Premi Strega\, Viareggio e Campiello\, con le incursioni di Dario Vergassola\nTre giorni in compagnia di filosofi\, artisti\, economisti\, giornalisti\, uomini e donne dello sport\, dello spettacolo\, delle istituzioni e della cultura: da giovedì 13 a sabato 15 ottobre torna a Firenze il i\, la manifestazione promossa da Fnp\, il sindacato dei pensionati della Cisl. Nipoti\, genitori e nonni sono invitati a confrontarsi sul tema “Oltre le frontiere: generazioni e culture”. “Il nostro Festival vuole sottolineare l’importanza del momento che stiamo vivendo – dice il segretario generale della Fnp Cisl Gigi Bonfanti –. Il tema scelto quest’anno indica il crollo di ogni frontiera: geografica\, anagrafica o sociale. Esiste un mondo dove la razze si mescolano\, dove popoli provenienti da Paesi diversi vivono confrontandosi con usi e costumi differenti dai propri. La figura dell’anziano può\, col proprio bagaglio di sapere\, indirizzare le generazioni più giovani al rispetto delle diverse culture”.  \n“Il futuro è il paese dove passeremo il resto della nostra vita – aggiunge la direttrice artistica del Festival\, Francesca Zaffino – eppure viviamo in un mondo che fa sempre più fatica a guardare oltre il presente. Una nuova scenografia si apre al nostro quotidiano: le frontiere e i nuovi muri che dividono Paesi e popoli\, culture\, religioni e condizioni esistenziali\, sono spazi da abitare e condividere\, perché sulle frontiere oggi vive tanta umanità”.  \n \nIl programma \nGiunto alla terza edizione\, il Festival delle Generazioni avrà oltre 150 ospiti\, tra cui i sindaci di Lampedusa e di Firenze Giusi Nicolini e Dario Nardella\, il presidente della Regione Toscana Enrico Scotti\, il costituzionalista Michele Ainis\, il demografo Alessandro Rosina\, gli scrittori vincitori dei Premi Strega\, Viareggio e Campiello\, l’atleta olimpionica Ayomide Folorunso e la paralimpica Martina Caironi. E\, poi\, tra i giornalisti\, Beppe Severgnini\, Sergio Rizzo\, Gian Antonio Stella\, Diamante D’Alessio\, Federico Taddia\, Gabriele Romagnoli\, Emilio Carelli e Marco Damilano\, insieme alla scrittrice Igiaba Scego e gli “storioterapeuti” Lia Celi e Andrea Santangelo. Tra i giovanissimi: la cantautrice Chiara Dello Iacovo e la scrittrice italiana di seconda generazione Chaimaa Fatihi. Con le incursioni irreverenti di Dario Vergassola. \nIn programma spettacoli teatrali\, live show\, incontri su salute\, scuola\, lavoro\, memoria\, scienza e ricerca\, lezioni magistrali\, tavole rotonde\, laboratori di arte e tecnologia\, con un cartellone fitto di appuntamenti\, articolati in cinque sezioni e condotti dai giornalisti Paola Saluzzi e Andrea Pancani\, dallo scrittore e critico Francesco Durante e dal comunicatore Marco Stancati.  \n \nTra gli eventi: la mostra-installazione “Oltre le generazioni” con le visioni di bambini\, adulti e bisnonni d’Italia\, e proiezioni itineranti tra le strade e le piazze di Firenze; le “(Pre)visioni X il futuro” del sociologo Zygmunt Bauman\, dell’astrofisica Sandra Savaglio\, del presidente dell’Istituto superiore della sanità Gualtiero Walter Ricciardi\, del matematico Piergiorgio Odifreddi\, del direttore di Amnesty International Italia Gianni Rufini e del segretario della Fnp Gigi Bonfanti; “Il generatore di generazioni”\, una conferenza scenica condotta da Beppe Severgnini\, con ospiti\, interviste\, letture e musica\, alla ricerca del comune denominatore tra le generazioni degli Aged (nati prima del 1946)\, dei baby boomer (1946-1964)\, degli X (1965-1980)\, Y (1981-1996) e Z (dopo il 1996); una serata teatrale con “Le interviste impossibili” di un contemporaneo a Dante\, Paolo e Francesca\, con gli attori Primo Reggiani\, David Riondino e Cristiana Dell’Anna; un confronto sull’importanza dell’andare “Oltre” ogni barriera tra l’economista Giulio Sapelli\, il sociologo Mario Morcellini\, il filosofo Leonardo Caffo\, l’atleta olimpionica Ayomide Folorunso\, l’attore e giornalista Andrea Purgatori e Giulio Sandini\, direttore di ricerca all’Istituto italiano di tecnologia. \n \nE ancora: “In tempo per…”\, perché non è mai troppo tardi per dedicarsi alle passioni\, con Serena Dandini\, Maria Amelia Monti\, Marisa Laurito\, l’imprenditore-studente Stefano Caccavari\, il rettore dell’Università di Scienze gastronomiche Piercarlo Grimaldi\, la ballerina Simona Atzori\, il giornalista-escursionista Fabrizio Ardito\, la scrittrice Chiara Gamberale\, monsignor Dario Viganò e il rapper calabro-senegalese Omarito; le “Maratone di scrittori” con Edoardo Albinati\, Franco Cordelli\, Simona Vinci\, Michela Murgia\, Paolo Di Paolo\, Giacomo Mazzariol e Simonetta Agnello Hornby; una riflessione su “Cultura digitale e frontiere del sapere” curata dall’Istituto della enciclopedia Italiana Treccani\, con il direttore Massimo Bray\, Marco Damilano dell’Espresso e la blogger Giulia Blasi; un incontro su “Alternanza scuola/lavoro” con il sottosegretario all’Istruzione Gabriele Toccafondi\, il “forcolaio matto” Piero Dri\, la pedagogista sostenitrice della “non scuola” Silvia Pagani e il segretario della Cisl Annamaria Furlan; performance artistiche e musicali con Antonella Sbrilli\, Michela Santoro e il musicista-informatico Leonello Tarabella; un incontro-spettacolo sui “Migranti di ieri e oggi” con Gian Antonio Stella\, Domenico Quirico\, Tony Laudadio e Teresa De Sio; un viaggio a bordo di un antico treno a vapore.  \nIn occasione del Festival delle Generazioni\, infine\, esce il libro “Oltre le frontiere: popoli e culture” (a cura di Pasquale Alferj\, Guerini e associati editore\, pp. 144\, euro 12\,50)\, con i contributi inediti su trasformazioni sociali\, lavoro\, immigrazione\, generazione Erasmus\, giovani e social network\, firmati tra gli altri dai sociologi Maurizio Ambrosini\, Mauro Magatti\, Mario Morcellini e Laura Zanfrini\, l’economista Giulio Sapelli e il demografo Alessandro Rosina.
URL:https://www.eventiintoscana.it/evento/festival-delle-generazioni-firenze
LOCATION:Firenze centro\, - Firenze centro\, Firenze\, Toscana\, 50123\, IT
CATEGORIES:Firenze,Rassegne e Festival
ATTACH;FMTTYPE=image/jpeg:https://www.eventiintoscana.it/wp-content/uploads/2016/09/festival-delle-generazioni_650x300.jpg
END:VEVENT
END:VCALENDAR