BEGIN:VCALENDAR
VERSION:2.0
PRODID:-//Eventi in Toscana By Toscana Tascabile - ECPv6.15.12.2//NONSGML v1.0//EN
CALSCALE:GREGORIAN
METHOD:PUBLISH
X-WR-CALNAME:Eventi in Toscana By Toscana Tascabile
X-ORIGINAL-URL:https://www.eventiintoscana.it
X-WR-CALDESC:Eventi per Eventi in Toscana By Toscana Tascabile
REFRESH-INTERVAL;VALUE=DURATION:PT1H
X-Robots-Tag:noindex
X-PUBLISHED-TTL:PT1H
BEGIN:VTIMEZONE
TZID:Europe/Rome
BEGIN:DAYLIGHT
TZOFFSETFROM:+0100
TZOFFSETTO:+0200
TZNAME:CEST
DTSTART:20240331T010000
END:DAYLIGHT
BEGIN:STANDARD
TZOFFSETFROM:+0200
TZOFFSETTO:+0100
TZNAME:CET
DTSTART:20241027T010000
END:STANDARD
BEGIN:DAYLIGHT
TZOFFSETFROM:+0100
TZOFFSETTO:+0200
TZNAME:CEST
DTSTART:20250330T010000
END:DAYLIGHT
BEGIN:STANDARD
TZOFFSETFROM:+0200
TZOFFSETTO:+0100
TZNAME:CET
DTSTART:20251026T010000
END:STANDARD
BEGIN:DAYLIGHT
TZOFFSETFROM:+0100
TZOFFSETTO:+0200
TZNAME:CEST
DTSTART:20260329T010000
END:DAYLIGHT
BEGIN:STANDARD
TZOFFSETFROM:+0200
TZOFFSETTO:+0100
TZNAME:CET
DTSTART:20261025T010000
END:STANDARD
END:VTIMEZONE
BEGIN:VEVENT
DTSTART;TZID=Europe/Rome:20250602T170000
DTEND;TZID=Europe/Rome:20250602T210000
DTSTAMP:20260423T211035
CREATED:20250404T233127Z
LAST-MODIFIED:20250404T233127Z
UID:316238-1748883600-1748898000@www.eventiintoscana.it
SUMMARY:Palio del Cero\, Volterra (Pisa)
DESCRIPTION:A Volterra ogni anno il 2 giugno si svolge il Palio del Cero\, ricorrenza di un’antica festa religiosa dove le contrade donavano un sostanzioso quantitativo di cera alle chiese della città.\nLa particolarità del Palio del Cero è data dal fatto che non è un tiro alla fune diretto\, ma le due squadre contrapposte\, oltre a tirare la squadra avversaria\, hanno al centro una torre pesante diversi quintali da spostare verso il proprio campo.\nIn cima alla torre c’è un cero\, da qui il nome Palio del Cero\, dipinto ogni anno da un artista volterrano\, che spetta di diritto alla Contrada vincitrice insieme al bandierone con i colori bianco e rosso del Comune.\nSempre di suggestivo effetto l’apparato scenico\, con i rappresentanti delle contrade\, le dame\, i musici e i celebri sbandieratori volterrani\, che sfilano in cerimonia prima della gara che inizia alle ore 17.00. \n\n\n\n________________________________________________________________________________\n\n\n\n\n\n\n\n\n\nInfo: info@volterratur.it – 0588 86099
URL:https://www.eventiintoscana.it/evento/palio-del-cero-volterra-pisa
CATEGORIES:Feste e Folklore,Pisa,Volterra
ATTACH;FMTTYPE=image/png:https://www.eventiintoscana.it/wp-content/uploads/2025/04/Palio-del-Cero.png
END:VEVENT
END:VCALENDAR