BEGIN:VCALENDAR
VERSION:2.0
PRODID:-//Eventi in Toscana By Toscana Tascabile - ECPv6.15.12.2//NONSGML v1.0//EN
CALSCALE:GREGORIAN
METHOD:PUBLISH
X-ORIGINAL-URL:https://www.eventiintoscana.it
X-WR-CALDESC:Eventi per Eventi in Toscana By Toscana Tascabile
REFRESH-INTERVAL;VALUE=DURATION:PT1H
X-Robots-Tag:noindex
X-PUBLISHED-TTL:PT1H
BEGIN:VTIMEZONE
TZID:Europe/Rome
BEGIN:DAYLIGHT
TZOFFSETFROM:+0100
TZOFFSETTO:+0200
TZNAME:CEST
DTSTART:20240331T010000
END:DAYLIGHT
BEGIN:STANDARD
TZOFFSETFROM:+0200
TZOFFSETTO:+0100
TZNAME:CET
DTSTART:20241027T010000
END:STANDARD
BEGIN:DAYLIGHT
TZOFFSETFROM:+0100
TZOFFSETTO:+0200
TZNAME:CEST
DTSTART:20250330T010000
END:DAYLIGHT
BEGIN:STANDARD
TZOFFSETFROM:+0200
TZOFFSETTO:+0100
TZNAME:CET
DTSTART:20251026T010000
END:STANDARD
BEGIN:DAYLIGHT
TZOFFSETFROM:+0100
TZOFFSETTO:+0200
TZNAME:CEST
DTSTART:20260329T010000
END:DAYLIGHT
BEGIN:STANDARD
TZOFFSETFROM:+0200
TZOFFSETTO:+0100
TZNAME:CET
DTSTART:20261025T010000
END:STANDARD
END:VTIMEZONE
BEGIN:VEVENT
DTSTART;TZID=Europe/Rome:20250405T150000
DTEND;TZID=Europe/Rome:20250406T200000
DTSTAMP:20260424T123211
CREATED:20250303T162913Z
LAST-MODIFIED:20250404T233330Z
UID:315269-1743865200-1743969600@www.eventiintoscana.it
SUMMARY:Mostra Mercato Del Tartufo Marzuolo\, Volterra (Pisa)
DESCRIPTION:Sabato 5 e domenica 6 aprile tutto pronto a Volterra per il nuovo attesissimo appuntamento con la Mostra Mercato Del Tartufo Marzuolo\, edizione numero undici per l’evento che inaugura la primavera del gusto di Toscana celebrando i sapori del territorio in un fine settimana di gusto e divertimento pensato per tutta la famiglia. Cuore pulsante della manifestazione saranno come sempre le Logge del Palazzo Pretorio di Piazza de’ Priori\, cornice dove tanti artigiani del gusto presenti presenteranno al pubblico tra vendita e assaggi il meglio del paniere locale: tartufo ovviamente\, il figlio più pregiato di queste terre\, ma anche formaggi\, olio\, vino\, birra\, salumi e dolci.Il tutto accompagnato da un ricco calendario di eventi e iniziative che abbracceranno la città dentro e fuori mura per far conoscere – anche attraverso i suoi giacimenti gastronomici – il ricco patrimonio storico ed architettonico e le tante unicità del territorio.\nSenza dimenticare la consegna del PREMIO JARRO GIOVANI\, settima edizione dell’appendice dell’importante riconoscimento da anni conferito durante l’edizione autunnale di Volterragusto ai più importanti comunicatori di settore: un premio che vuole valorizzare l’impegno di quei giovani Under 35 che in ambito professionale si siano distinti nell’opera di valorizzazione e divulgazione enogastronomica. \n________________________________________________________________________________ \nInfo: tel. 0588-86099\, https://www.facebook.com/volterragusto/
URL:https://www.eventiintoscana.it/evento/mostra-mercato-del-tartufo-marzuolo-volterra-pisa
CATEGORIES:Fiere e Mercatini,Pisa,Volterra
ATTACH;FMTTYPE=image/jpeg:https://www.eventiintoscana.it/wp-content/uploads/2025/03/LOCANDINA-MARZUOLO-2025.jpg
END:VEVENT
END:VCALENDAR