BEGIN:VCALENDAR
VERSION:2.0
PRODID:-//Eventi in Toscana By Toscana Tascabile - ECPv6.15.12.2//NONSGML v1.0//EN
CALSCALE:GREGORIAN
METHOD:PUBLISH
X-WR-CALNAME:Eventi in Toscana By Toscana Tascabile
X-ORIGINAL-URL:https://www.eventiintoscana.it
X-WR-CALDESC:Eventi per Eventi in Toscana By Toscana Tascabile
REFRESH-INTERVAL;VALUE=DURATION:PT1H
X-Robots-Tag:noindex
X-PUBLISHED-TTL:PT1H
BEGIN:VTIMEZONE
TZID:Europe/Rome
BEGIN:DAYLIGHT
TZOFFSETFROM:+0100
TZOFFSETTO:+0200
TZNAME:CEST
DTSTART:20240331T010000
END:DAYLIGHT
BEGIN:STANDARD
TZOFFSETFROM:+0200
TZOFFSETTO:+0100
TZNAME:CET
DTSTART:20241027T010000
END:STANDARD
BEGIN:DAYLIGHT
TZOFFSETFROM:+0100
TZOFFSETTO:+0200
TZNAME:CEST
DTSTART:20250330T010000
END:DAYLIGHT
BEGIN:STANDARD
TZOFFSETFROM:+0200
TZOFFSETTO:+0100
TZNAME:CET
DTSTART:20251026T010000
END:STANDARD
BEGIN:DAYLIGHT
TZOFFSETFROM:+0100
TZOFFSETTO:+0200
TZNAME:CEST
DTSTART:20260329T010000
END:DAYLIGHT
BEGIN:STANDARD
TZOFFSETFROM:+0200
TZOFFSETTO:+0100
TZNAME:CET
DTSTART:20261025T010000
END:STANDARD
END:VTIMEZONE
BEGIN:VEVENT
DTSTART;TZID=Europe/Rome:20250305T211500
DTEND;TZID=Europe/Rome:20250325T211500
DTSTAMP:20260424T031234
CREATED:20250228T104921Z
LAST-MODIFIED:20250728T232622Z
UID:315088-1741209300-1742937300@www.eventiintoscana.it
SUMMARY:Armunia\, Rosignano Marittimo (Livorno)
DESCRIPTION:Il programma della stagione teatrale 2024/25 realizzato dal Comune di Rosignano Marittimo con la Fondazione Toscana Spettacolo onlus\, e in collaborazione con la Fondazione Armunia\, prevede tre spettacoli nel mese di marzo. Si inizia mercoledì 5 al Teatro Solvay di Rosignano con “Otello”\, interpretato da Giuseppe Cederna e la regia di Emanuele Gamba. Gli altri due appuntamenti sono presso l’Ordigno di Vada: il 16 marzo è il momento di “Il cielo è pieno di stelle. Omaggio a Pino Daniele” con Fabrizio Bosso alla tromba e Julian Oliver Mazzariello al piano. Il 25 marzo tocca a “Karaoke femminista” con Silvia Gallerano e Monica Nappo che firma il progetto. Inizio spettacoli alle 21:15. Il cartellone di “Diario 2025” di Fondazione Armunia\, con la direzione di Angela Fumarola ed il sostegno di Ministero della Cultura\, Regione Toscana e Comune di Rosignano Marittimo\, dà spazio ai più piccoli con due appuntamenti imperdibili: il 2 marzo presso l’Auditorium Danesin di Rosignano Marittimo va in scena “L’opera bianca della strega”\, una produzione Teatro Rebis\, di e con Meri Bracalente. Presso il teatro Nardini di Rosignano Marittimo domenica 16 la Drogheria Rebelot mette in scena il teatro delle ombre di “Caro Lupo”\, ideato da Miriam Costamagna e Andrea Lopez Nunes Regia\, drammaturgia e cura dell’animazione di Nadia Milani. Inizio spettacoli alle 16. \n_____________________________________________________________ \nInfo: 0586.754202 – www.armunia.eu
URL:https://www.eventiintoscana.it/evento/rosignano-marittimo-armunia
CATEGORIES:Livorno,Teatro,Teatro Ragazzi
ATTACH;FMTTYPE=image/png:https://www.eventiintoscana.it/wp-content/uploads/2025/01/Schermata-2025-01-31-alle-18.45.56.png
END:VEVENT
BEGIN:VEVENT
DTSTART;TZID=Europe/Rome:20250314T210000
DTEND;TZID=Europe/Rome:20250331T210000
DTSTAMP:20260424T031234
CREATED:20250303T114953Z
LAST-MODIFIED:20250303T151442Z
UID:315193-1741986000-1743454800@www.eventiintoscana.it
SUMMARY:Teatro del Giglio\, Lucca
DESCRIPTION:Quattro gli spettacoli di marzo: dal 28/02 al 2 Come gli uccelli di Wajdi Mouawad\, regia di Marco Lorenzi\, con Anna Coppola\, Aleksandar Cvjetković. Dal 14 al 16 Silvio Orlando in Ciarlatani\, commedia sui ruoli dentro e fuori la finzione del teatro\, con Francesca Botti\, Francesco Brandi\, Blu Yoshimi\, regia Pablo Remón. Dal 21 al 23 c’è Fedra di Jean Racine\, regia Federico Tiezzi\, tragedia classica greca con Martino D’Amico\, Valentina Elia. Dal 28 al 30 arriva I due Papi di Anthony McCarten\, regia Giancarlo Nicoletti\, con Giorgio Colangeli\, Mariano Rigillo\, Anna Teresa Rossini. Testo teatrale dello strepitoso successo “The Pope”. Teatro ragazzi: il 9 Cantamare\, di e con Alice Casarosa e Irene Rametta; il 22 Alba/Aurora di e con Giada Balestrini e A. Cassinotti\, musiche S. De Gennaro; il 30 e 31 in scena Bù! di e con Claudio Milani. \n_______________________________________________________________________ \nInfo: 0583.46531 – teatrodelgiglio.it
URL:https://www.eventiintoscana.it/evento/teatro-del-giglio-lucca-3
CATEGORIES:Lucca,Teatro,Teatro Ragazzi
ATTACH;FMTTYPE=image/jpeg:https://www.eventiintoscana.it/wp-content/uploads/2025/03/facciata-teatro-giglio.jpg
END:VEVENT
BEGIN:VEVENT
DTSTART;TZID=Europe/Rome:20250315T193000
DTEND;TZID=Europe/Rome:20250323T170000
DTSTAMP:20260424T031234
CREATED:20250303T115625Z
LAST-MODIFIED:20250303T153736Z
UID:315196-1742067000-1742749200@www.eventiintoscana.it
SUMMARY:Tenuta dello Scompiglio di Vorno\, Lucca
DESCRIPTION:Due appuntamenti a cura dell’Ass.ne Culturale Dello Scompiglio\, diretta dalla regista e artista Cecilia Bertoni\, negli spazi della Tenuta. Sabato 15 All that remains di Mirko Guido\, performance tra danza\, installation art e suono\, insieme ai danzatori Elisa D’Amico\, Zen Jefferson\, Roosa Törma\, Eliott Marmouset. Il 29 Trio Concept Live\, che apre la rassegna ‘Le grandi Accademie\, i Maestri e gli Allievi’ a cura di Antonio Caggiano\, con le musiche di Lili Boulanger\, W. Rihm\, M. Ravel. Aperte le iscrizioni al laboratorio Questo ballo è per noi #2\, di Gennaro Lauro. Teatro ragazzi: Domenica 9 Proscenio Teatro in Cenerentola in bianco e nero; il 23 Lumache con Teatro Città Murata. Nella Tenuta sono visitabili alcune mostre. \n_______________________________________________________________________ \nInfo: 0583.971612 – delloscompiglio.org
URL:https://www.eventiintoscana.it/evento/tenuta-dello-scompiglio-di-vorno-lucca
CATEGORIES:Incontri,Lucca,Teatro,Teatro Ragazzi
ATTACH;FMTTYPE=image/jpeg:https://www.eventiintoscana.it/wp-content/uploads/2025/03/tenuta-dello-sxompiglio.jpg
END:VEVENT
END:VCALENDAR