BEGIN:VCALENDAR
VERSION:2.0
PRODID:-//Eventi in Toscana By Toscana Tascabile - ECPv6.15.12.2//NONSGML v1.0//EN
CALSCALE:GREGORIAN
METHOD:PUBLISH
X-WR-CALNAME:Eventi in Toscana By Toscana Tascabile
X-ORIGINAL-URL:https://www.eventiintoscana.it
X-WR-CALDESC:Eventi per Eventi in Toscana By Toscana Tascabile
REFRESH-INTERVAL;VALUE=DURATION:PT1H
X-Robots-Tag:noindex
X-PUBLISHED-TTL:PT1H
BEGIN:VTIMEZONE
TZID:Europe/Rome
BEGIN:DAYLIGHT
TZOFFSETFROM:+0100
TZOFFSETTO:+0200
TZNAME:CEST
DTSTART:20240331T010000
END:DAYLIGHT
BEGIN:STANDARD
TZOFFSETFROM:+0200
TZOFFSETTO:+0100
TZNAME:CET
DTSTART:20241027T010000
END:STANDARD
BEGIN:DAYLIGHT
TZOFFSETFROM:+0100
TZOFFSETTO:+0200
TZNAME:CEST
DTSTART:20250330T010000
END:DAYLIGHT
BEGIN:STANDARD
TZOFFSETFROM:+0200
TZOFFSETTO:+0100
TZNAME:CET
DTSTART:20251026T010000
END:STANDARD
BEGIN:DAYLIGHT
TZOFFSETFROM:+0100
TZOFFSETTO:+0200
TZNAME:CEST
DTSTART:20260329T010000
END:DAYLIGHT
BEGIN:STANDARD
TZOFFSETFROM:+0200
TZOFFSETTO:+0100
TZNAME:CET
DTSTART:20261025T010000
END:STANDARD
END:VTIMEZONE
BEGIN:VEVENT
DTSTART;TZID=Europe/Rome:20250701T000000
DTEND;TZID=Europe/Rome:20250930T233000
DTSTAMP:20260423T134634
CREATED:20250629T185347Z
LAST-MODIFIED:20250629T185347Z
UID:318805-1751328000-1759275000@www.eventiintoscana.it
SUMMARY:Spazi all'aperto\, Firenze
DESCRIPTION:Ad animare l’estate a Firenze ci sono anche ‘InStabile – Culture in movimento’\, la sala a cielo aperto con bistrò sulle rive dell’Arno (via della Funga\, 42/r) e ‘Lumen’\, il polo culturale immerso nel verde nato da un progetto di rigenerazione urbana (via del Guarlone\, 25). Ad ‘InStabile’ si vive ogni sera un’atmosfera diversa. Tutti i lunedì spazio al ballo swing\, boogie woogie e lindy hop con Swing Studio 22 Asd\, il martedì ci sono spettacoli\, reading e incontri; il mercoledì le serate di Jam session aprono il palco a musicisti di strumenti e di voce. Giovedì\, venerdì e sabato si ascolta musica live e la domenica assistiamo a spettacoli circensi. La stagione estiva di ‘Lumen’ propone eventi adatti a tutti come laboratori per famiglie\, cinema\, teatro e musica. Tra gli appuntamenti di luglio\, si segnalano quelli con Numa Crew\, tra bass music e dab (il 4)\, Lattexplus (il 19) e Dissidanza (5 e 11 luglio). \n\nInfo: 333.8902161 – www.instabilefirenze.it – 055.3984585 – www.lumen.fi.it
URL:https://www.eventiintoscana.it/evento/spazi-allaperto-firenze
CATEGORIES:Firenze,Incontri
ATTACH;FMTTYPE=image/jpeg:https://www.eventiintoscana.it/wp-content/uploads/2025/06/Immagine-2025-06-29-204947.jpg
END:VEVENT
END:VCALENDAR