BEGIN:VCALENDAR
VERSION:2.0
PRODID:-//Eventi in Toscana By Toscana Tascabile - ECPv6.15.12.2//NONSGML v1.0//EN
CALSCALE:GREGORIAN
METHOD:PUBLISH
X-WR-CALNAME:Eventi in Toscana By Toscana Tascabile
X-ORIGINAL-URL:https://www.eventiintoscana.it
X-WR-CALDESC:Eventi per Eventi in Toscana By Toscana Tascabile
REFRESH-INTERVAL;VALUE=DURATION:PT1H
X-Robots-Tag:noindex
X-PUBLISHED-TTL:PT1H
BEGIN:VTIMEZONE
TZID:Europe/Rome
BEGIN:DAYLIGHT
TZOFFSETFROM:+0100
TZOFFSETTO:+0200
TZNAME:CEST
DTSTART:20240331T010000
END:DAYLIGHT
BEGIN:STANDARD
TZOFFSETFROM:+0200
TZOFFSETTO:+0100
TZNAME:CET
DTSTART:20241027T010000
END:STANDARD
BEGIN:DAYLIGHT
TZOFFSETFROM:+0100
TZOFFSETTO:+0200
TZNAME:CEST
DTSTART:20250330T010000
END:DAYLIGHT
BEGIN:STANDARD
TZOFFSETFROM:+0200
TZOFFSETTO:+0100
TZNAME:CET
DTSTART:20251026T010000
END:STANDARD
BEGIN:DAYLIGHT
TZOFFSETFROM:+0100
TZOFFSETTO:+0200
TZNAME:CEST
DTSTART:20260329T010000
END:DAYLIGHT
BEGIN:STANDARD
TZOFFSETFROM:+0200
TZOFFSETTO:+0100
TZNAME:CET
DTSTART:20261025T010000
END:STANDARD
END:VTIMEZONE
BEGIN:VEVENT
DTSTART;TZID=Europe/Rome:20250503T110000
DTEND;TZID=Europe/Rome:20250504T200000
DTSTAMP:20260425T061203
CREATED:20250429T092631Z
LAST-MODIFIED:20250429T093907Z
UID:316779-1746270000-1746388800@www.eventiintoscana.it
SUMMARY:Sulla Felicità Festival\, Livorno
DESCRIPTION:A maggio ecco la 4ª edizione dell’evento che parla di Felicità attraverso le arti\, ideato da Stefano Santomauro con un programma di talk\, workshop\, yoga\, concerti\, street art e teatro. Al Teatro 4 Mori sabato 3 maggio ci aspettano: alle ore 11 ‘Moby Dick – Bianca è il colore del mare’\, con la Compagnia dei detenuti del Carcere di Livorno\, regia di Lara Gallo e Francesca Ricci; a seguire il talk ‘Il Diritto alla Felicità’; alle 18 ‘La Narrazione della Felicità’\, intervista di Daniela Morozzi al giornalista Pablo Trincia\, premio Ambasciatore di Felicità 2025. Alle 21.30 ‘Come se non ci fosse un domani’\, film documentario a cura di Ultima Generazione. Alle ore 15 al Parco Levante c’è invece ‘Clean Up’\, a cura di Sons Of The Ocean\, un giorno all’insegna della raccolta dei rifiuti. Domenica 4 torna ‘Bimbinbici Fiab’\, un tour in bici per tutti dalla Stazione FS alla Terrazza Mascagni\, dov’è allestito il ‘5&5 Day’ per gustare la felicità con un bel francesino\, torta e melanzane. \n_______________________________________________________________________ \nInfo: 342.5431247 – www.sullafelicitafestival.it
URL:https://www.eventiintoscana.it/evento/sulla-felicita-festival-livorno
CATEGORIES:Incontri,Livorno,Prosa,Teatro
ATTACH;FMTTYPE=image/jpeg:https://www.eventiintoscana.it/wp-content/uploads/2025/04/sullafelicitafestival.jpeg
END:VEVENT
BEGIN:VEVENT
DTSTART;TZID=Europe/Rome:20250503T193000
DTEND;TZID=Europe/Rome:20250531T200000
DTSTAMP:20260425T061203
CREATED:20250429T094916Z
LAST-MODIFIED:20250429T094916Z
UID:316788-1746300600-1748721600@www.eventiintoscana.it
SUMMARY:Tenuta dello Scompiglio\, Vorno
DESCRIPTION:Proseguono a maggio le attività dell’Ass.ne Culturale Dello Scompiglio\, diretta dalla regista e artista Cecilia Bertoni\, negli spazi della Tenuta. Sabato 3 ore 19.30 ‘Onirica’\, diretto da Giulia Odetto. Un percorso frammentato di ricordi provenienti dal mondo dei sogni della protagonista Maya\, e dalla loro rievocazione nel tentativo di ricostruirli. Con Daniele Giacometti\, Camille Guichard\, Andrea Triaca\, Catherine Bertoni De Laet. Per la rassegna ‘Le grandi Accademie\, i Maestri e gli Allievi’ curata da Antonio Caggiano\, sabato 24 (ore 19.30) concerto di Chigiana Percussion Ensemble La ripetizione e il ritmo\, formazione in residence c/o l’Accademia Chigiana composta dai migliori allievi dei corsi estivi di alto perfezionamento\, che propone la musica minimalista dei maestri Steve Reich e Philip Glass. Il 31 maggio al via 2 giornate di studio sulle Erbe Spontanee Commestibili. Nella Tenuta sono visibili alcune Mostre. \n_______________________________________________________________________ \nInfo: 0583.971612 – www.delloscompiglio.org
URL:https://www.eventiintoscana.it/evento/tenuta-dello-scompiglio-vorno
CATEGORIES:Incontri,Lucca,Prosa,Teatro
ATTACH;FMTTYPE=image/jpeg:https://www.eventiintoscana.it/wp-content/uploads/2025/04/tenuta-dello-scompiglio.jpg
END:VEVENT
BEGIN:VEVENT
DTSTART;VALUE=DATE:20250511
DTEND;VALUE=DATE:20250512
DTSTAMP:20260425T061203
CREATED:20250430T094838Z
LAST-MODIFIED:20250430T094901Z
UID:316982-1746921600-1747007999@www.eventiintoscana.it
SUMMARY:Incontri di Letteratura\, Pisa
DESCRIPTION:Si concludono gli incontri di letteratura di Palazzo Blu\, curati da M.Cristina Cabani e Alberto Casadei e dedicati quest’anno alla letteratura internazionale indagando su di un tema di tragica attualità\, l’Omicidio senza movente\, attraverso la lettura di quattro celebri romanzi\, commentati da studiosi ed esperti del settore. L’ultimo appuntamento è con la crudeltà insensata de “La città dei vivi” (2020) di Nicola Lagioia\, ispirato a un cupissimo episodio di cronaca romana. L’incontro è condotto da Andrea Lazzarini (UniGenova). Appuntamenti all’Auditorium dalle ore 11 (su prenotazione). \n_________________________________________________________________________________________________________ \nInfo e pren.: 050.916950 – www.palazzoblu.it – www.eventbrite.it
URL:https://www.eventiintoscana.it/evento/incontri-di-letteratura-pisa-2
CATEGORIES:Incontri,Pisa
ATTACH;FMTTYPE=image/png:https://www.eventiintoscana.it/wp-content/uploads/2025/04/Schermata-2025-04-30-alle-11.47.32.png
END:VEVENT
END:VCALENDAR