BEGIN:VCALENDAR
VERSION:2.0
PRODID:-//Eventi in Toscana By Toscana Tascabile - ECPv6.15.12.2//NONSGML v1.0//EN
CALSCALE:GREGORIAN
METHOD:PUBLISH
X-ORIGINAL-URL:https://www.eventiintoscana.it
X-WR-CALDESC:Eventi per Eventi in Toscana By Toscana Tascabile
REFRESH-INTERVAL;VALUE=DURATION:PT1H
X-Robots-Tag:noindex
X-PUBLISHED-TTL:PT1H
BEGIN:VTIMEZONE
TZID:Europe/Rome
BEGIN:DAYLIGHT
TZOFFSETFROM:+0100
TZOFFSETTO:+0200
TZNAME:CEST
DTSTART:20240331T010000
END:DAYLIGHT
BEGIN:STANDARD
TZOFFSETFROM:+0200
TZOFFSETTO:+0100
TZNAME:CET
DTSTART:20241027T010000
END:STANDARD
BEGIN:DAYLIGHT
TZOFFSETFROM:+0100
TZOFFSETTO:+0200
TZNAME:CEST
DTSTART:20250330T010000
END:DAYLIGHT
BEGIN:STANDARD
TZOFFSETFROM:+0200
TZOFFSETTO:+0100
TZNAME:CET
DTSTART:20251026T010000
END:STANDARD
BEGIN:DAYLIGHT
TZOFFSETFROM:+0100
TZOFFSETTO:+0200
TZNAME:CEST
DTSTART:20260329T010000
END:DAYLIGHT
BEGIN:STANDARD
TZOFFSETFROM:+0200
TZOFFSETTO:+0100
TZNAME:CET
DTSTART:20261025T010000
END:STANDARD
BEGIN:DAYLIGHT
TZOFFSETFROM:+0100
TZOFFSETTO:+0200
TZNAME:CEST
DTSTART:20270328T010000
END:DAYLIGHT
BEGIN:STANDARD
TZOFFSETFROM:+0200
TZOFFSETTO:+0100
TZNAME:CET
DTSTART:20271031T010000
END:STANDARD
END:VTIMEZONE
BEGIN:VEVENT
DTSTART;TZID=Europe/Rome:20251207T080000
DTEND;TZID=Europe/Rome:20260106T170000
DTSTAMP:20260421T185355
CREATED:20251128T141826Z
LAST-MODIFIED:20251128T141826Z
UID:321918-1765094400-1767718800@www.eventiintoscana.it
SUMMARY:Mercatini di Natale
DESCRIPTION:A Fiesole\, il 7 e 8 dicembre\, Piazza Mino accoglie la prima edizione del Mercato d’Autore\, parte della rassegna ‘Natale a Fiesole – Dialoghi tra terra e cielo’. Ventotto artigiani selezionati da tutta Italia presentano bijoux\, ceramiche\, decorazioni\, accessori e oggetti d’arte\, affiancati da musica\, performance itineranti e interventi luminosi che fino all’Epifania trasformano Fiesole\, Caldine e Compiobbi in un piccolo percorso di luci e atmosfere natalizie (info: 055.5961227). \nEmpoli si riempie di magia con i Mercatini di Natale nei week end fino al 24 dicembre in occasione di ‘Empoli\, città del Natale’ (pag. 32). Tra casette in legno addobbate e luci scintillanti troveremo prodotti artigianali\, decorazioni natalizie\, specialità gastronomiche\, dolci della tradizione e tante idee regalo originali. Aperto nei giorni 6/8\, 13/14 e 20/24 dicembre in orario 9-20 (info: 0571.76714). A Scarperia tornano due appuntamenti molto attesi. Il mercato ‘Collezionisti in piazza’ anima il centro storico il 7 e 21 dicembre con banchi dedicati a oggetti rari\, modernariato\, vintage\, collezionismo e curiosità. Sempre a Scarperia\, il 7 e 8 dicembre\, le sale del Palazzo dei Vicari ospitano ‘Atmosfere d’Inverno in Palazzo’\, mostra mercato con artigianato\, cioccolato\, vin brulé\, castagne\, idee regalo e laboratori creativi per bambini\, accompagnati da spettacoli e dall’accensione dell’albero (info: 055.8468165). \nA Montepulciano arriva il ‘Villaggio di Natale’ (pag. 37). Ogni weekend fino al 20 dicembre\, poi tutti i giorni fino al 6 gennaio (compreso il 25 ma solo nel pomeriggio)\, un mercatino natalizio è ospitato nella cornice di Piazza Grande\, via San Donato e vie adiacenti (orario: 10.30-19.30). Tra le casette di legno troveremo addobbi e decori natalizi\, prodotti alimentari\, dolciumi\, abbigliamento e pelletteria\, artigianato locale e tanto altro ancora\, nonché spettacoli\, show e animazione per tutta la famiglia (info: 0578.757341). \nPienza ci accoglie per 3 giorni\, dal 6 all’8 dicembre\, nel centro storico con i suoi ‘Mercatini nell’Arte’: bancarelle\, concerti\, giochi ed eventi gastronomici dalle 10 alle 19. In piazza Dante Alighieri mercatino dell’artigianato e dell’antiquariato ‘Indietro nel tempo’. E poi musica dal vivo con la street Band di Arcidosso\, corteo ed esibizione dei Musici e Sbandieratori di Pienza\, zampognari e spettacolo itinerante di trampolieri (info; 338.4859041).  Sinalunga ospita in Piazza Garibaldi il 7 e l’8 dicembre un villaggio incantato per celebrare la magia delle feste! Due giorni imperdibili con spettacoli\, mercatini\, street food e tantissime sorprese per grandi e piccini. Animazione\, marionette\, truccabimbi\, bolle e… l’arrivo di Babbo Natale (info: 333.4309333).
URL:https://www.eventiintoscana.it/evento/mercatini-di-natale
CATEGORIES:Firenze,Mercatini di Natale,Siena
ATTACH;FMTTYPE=image/jpeg:https://www.eventiintoscana.it/wp-content/uploads/2025/11/mercatini-1.jpg
END:VEVENT
END:VCALENDAR