BEGIN:VCALENDAR
VERSION:2.0
PRODID:-//Eventi in Toscana By Toscana Tascabile - ECPv6.15.12.2//NONSGML v1.0//EN
CALSCALE:GREGORIAN
METHOD:PUBLISH
X-WR-CALNAME:Eventi in Toscana By Toscana Tascabile
X-ORIGINAL-URL:https://www.eventiintoscana.it
X-WR-CALDESC:Eventi per Eventi in Toscana By Toscana Tascabile
REFRESH-INTERVAL;VALUE=DURATION:PT1H
X-Robots-Tag:noindex
X-PUBLISHED-TTL:PT1H
BEGIN:VTIMEZONE
TZID:Europe/Rome
BEGIN:DAYLIGHT
TZOFFSETFROM:+0100
TZOFFSETTO:+0200
TZNAME:CEST
DTSTART:20240331T010000
END:DAYLIGHT
BEGIN:STANDARD
TZOFFSETFROM:+0200
TZOFFSETTO:+0100
TZNAME:CET
DTSTART:20241027T010000
END:STANDARD
BEGIN:DAYLIGHT
TZOFFSETFROM:+0100
TZOFFSETTO:+0200
TZNAME:CEST
DTSTART:20250330T010000
END:DAYLIGHT
BEGIN:STANDARD
TZOFFSETFROM:+0200
TZOFFSETTO:+0100
TZNAME:CET
DTSTART:20251026T010000
END:STANDARD
BEGIN:DAYLIGHT
TZOFFSETFROM:+0100
TZOFFSETTO:+0200
TZNAME:CEST
DTSTART:20260329T010000
END:DAYLIGHT
BEGIN:STANDARD
TZOFFSETFROM:+0200
TZOFFSETTO:+0100
TZNAME:CET
DTSTART:20261025T010000
END:STANDARD
END:VTIMEZONE
BEGIN:VEVENT
DTSTART;TZID=Europe/Rome:20251115T080000
DTEND;TZID=Europe/Rome:20251228T170000
DTSTAMP:20260423T030423
CREATED:20251030T094623Z
LAST-MODIFIED:20251030T114932Z
UID:321199-1763193600-1766941200@www.eventiintoscana.it
SUMMARY:Il Villaggio Tirolese\, Arezzo
DESCRIPTION:Dal 15 novembre al 28 dicembre Arezzo torna ad essere la ‘Città del Natale’ (pag. 25) e ci offre la 10ª edizione del Villaggio Tirolese\, il più grande mercato tirolese d’Italia\, allestito nella splendida Piazza Grande. Oltre quaranta casette in legno ospitano artigiani del Tirolo\, del Trentino e della Germania con oggetti\, decorazioni e specialità tipiche. Le Baite del Gusto\, tre chalet provenienti direttamente dal Tirolo\, propongono brezel\, spätzle\, canederli\, polenta\, formaggi fusi\, birre artigianali e l’immancabile stinco arrosto. L’atmosfera si accende ogni sera con le Big Lights\, proiezioni luminose e giochi di colore sulle facciate storiche della piazza\, dalle 17 alle 21\, accompagnate da musica e spettacoli. Accanto al mercatino e alla Casa di Babbo Natale nella Fortezza Medice torna anche la Brick House\, la casa LEGO nel Palazzo di Fraternita\, con oltre quaranta opere d’arte realizzate con i mattoncini più famosi del mondo. Il Villaggio Tirolese sarà aperto dal giovedì alla domenica fino al 18 dicembre\, poi tutti i giorni fino al 28 dicembre (orario 10-21). Un’esperienza unica per grandi e piccini\, tra profumi di spezie\, luci e tradizioni del Natale alpino nel cuore della Toscana. \n\nInfo: 0575.377678 – www.mercatininatalearezzo.it
URL:https://www.eventiintoscana.it/evento/il-villaggio-tirolese-arezzo
CATEGORIES:arezzo,Mercatini di Natale
ATTACH;FMTTYPE=image/png:https://www.eventiintoscana.it/wp-content/uploads/2025/10/VillaggioTirolese.png
END:VEVENT
END:VCALENDAR