BEGIN:VCALENDAR
VERSION:2.0
PRODID:-//Eventi in Toscana By Toscana Tascabile - ECPv6.15.12.2//NONSGML v1.0//EN
CALSCALE:GREGORIAN
METHOD:PUBLISH
X-WR-CALNAME:Eventi in Toscana By Toscana Tascabile
X-ORIGINAL-URL:https://www.eventiintoscana.it
X-WR-CALDESC:Eventi per Eventi in Toscana By Toscana Tascabile
REFRESH-INTERVAL;VALUE=DURATION:PT1H
X-Robots-Tag:noindex
X-PUBLISHED-TTL:PT1H
BEGIN:VTIMEZONE
TZID:Europe/Rome
BEGIN:DAYLIGHT
TZOFFSETFROM:+0100
TZOFFSETTO:+0200
TZNAME:CEST
DTSTART:20250330T010000
END:DAYLIGHT
BEGIN:STANDARD
TZOFFSETFROM:+0200
TZOFFSETTO:+0100
TZNAME:CET
DTSTART:20251026T010000
END:STANDARD
BEGIN:DAYLIGHT
TZOFFSETFROM:+0100
TZOFFSETTO:+0200
TZNAME:CEST
DTSTART:20260329T010000
END:DAYLIGHT
BEGIN:STANDARD
TZOFFSETFROM:+0200
TZOFFSETTO:+0100
TZNAME:CET
DTSTART:20261025T010000
END:STANDARD
BEGIN:DAYLIGHT
TZOFFSETFROM:+0100
TZOFFSETTO:+0200
TZNAME:CEST
DTSTART:20270328T010000
END:DAYLIGHT
BEGIN:STANDARD
TZOFFSETFROM:+0200
TZOFFSETTO:+0100
TZNAME:CET
DTSTART:20271031T010000
END:STANDARD
END:VTIMEZONE
BEGIN:VEVENT
DTSTART;TZID=Europe/Rome:20260501T120000
DTEND;TZID=Europe/Rome:20260510T233000
DTSTAMP:20260421T075829
CREATED:20260326T162705Z
LAST-MODIFIED:20260403T150415Z
UID:324011-1777636800-1778455800@www.eventiintoscana.it
SUMMARY:Sagra del Tortello e del Prugnolo\, Scarperia
DESCRIPTION:La Sagra del Tortello e del Prugnolo è una festa gastronomica primaverile che si tiene nel borgo di Scarperia\, organizzata dall’Asd Pattinaggio Mugello presso il Circolo MCL di via San Martino. L’evento si tiene i primi due week end di maggio: venerdì 1\, sabato 2 e domenica 3\, sabato 9 e domenica 10. La sagra celebra due eccellenze della cucina mugellana: i tortelli di patate fatti a mano\, simbolo della tradizione contadina locale\, e il prugnolo\, il prelibato fungo selvatico primaverile tipico delle colline toscane. \nNelle serate del sabato dalla cena e delle domeniche e festivi anche a pranzo\, gli stand gastronomici riscaldati del Circolo MCL offrono questi piatti insieme ad altre specialità tipiche\, in un ambiente accogliente e conviviale. L’iniziativa è pensata per valorizzare i sapori del territorio\, promuovendo prodotti locali e ricette tradizionali in un contesto familiare e festoso. La sagra è un’occasione ideale per gli amanti della buona cucina\, le famiglie e i visitatori che desiderano immergersi nella cultura gastronomica del Mugello\, gustando i piatti tipici primaverili e scoprendo la ricchezza enogastronomica della zona. L’atmosfera è calda e festosa\, con profumi e sapori che raccontano la tradizione rurale toscana\, accompagnata dall’ospitalità e dalla passione degli organizzatori e degli espositori. \n\nInfo: 338.7353857 \n 
URL:https://www.eventiintoscana.it/evento/sagra-del-tortello-e-del-prugnolo-scarperia
CATEGORIES:Firenze,Rassegne e Sagre
ATTACH;FMTTYPE=image/jpeg:https://www.eventiintoscana.it/wp-content/uploads/2026/03/IMG-20260325-WA0094-2.jpg
END:VEVENT
END:VCALENDAR