BEGIN:VCALENDAR
VERSION:2.0
PRODID:-//Eventi in Toscana By Toscana Tascabile - ECPv6.15.12.2//NONSGML v1.0//EN
CALSCALE:GREGORIAN
METHOD:PUBLISH
X-ORIGINAL-URL:https://www.eventiintoscana.it
X-WR-CALDESC:Eventi per Eventi in Toscana By Toscana Tascabile
REFRESH-INTERVAL;VALUE=DURATION:PT1H
X-Robots-Tag:noindex
X-PUBLISHED-TTL:PT1H
BEGIN:VTIMEZONE
TZID:Europe/Rome
BEGIN:DAYLIGHT
TZOFFSETFROM:+0100
TZOFFSETTO:+0200
TZNAME:CEST
DTSTART:20250330T010000
END:DAYLIGHT
BEGIN:STANDARD
TZOFFSETFROM:+0200
TZOFFSETTO:+0100
TZNAME:CET
DTSTART:20251026T010000
END:STANDARD
BEGIN:DAYLIGHT
TZOFFSETFROM:+0100
TZOFFSETTO:+0200
TZNAME:CEST
DTSTART:20260329T010000
END:DAYLIGHT
BEGIN:STANDARD
TZOFFSETFROM:+0200
TZOFFSETTO:+0100
TZNAME:CET
DTSTART:20261025T010000
END:STANDARD
BEGIN:DAYLIGHT
TZOFFSETFROM:+0100
TZOFFSETTO:+0200
TZNAME:CEST
DTSTART:20270328T010000
END:DAYLIGHT
BEGIN:STANDARD
TZOFFSETFROM:+0200
TZOFFSETTO:+0100
TZNAME:CET
DTSTART:20271031T010000
END:STANDARD
END:VTIMEZONE
BEGIN:VEVENT
DTSTART;TZID=Europe/Rome:20260321T120000
DTEND;TZID=Europe/Rome:20260405T230000
DTSTAMP:20260420T222241
CREATED:20260326T162004Z
LAST-MODIFIED:20260326T162004Z
UID:324007-1774094400-1775430000@www.eventiintoscana.it
SUMMARY:Sagra del Tortello e della Ficattola\, Scarperia
DESCRIPTION:Dopo i 2 ultimi week end di marzo continua anche il week pasquale a Scarperia la tradizionale Sagra del Tortello e della Ficattola\, in programma il 4 e 5 aprile presso il campo sportivo Le Cortine in via Matteotti. Un appuntamento molto atteso dagli amanti della cucina toscana\, dedicato a due specialità simbolo del territorio del Mugello: i tortelli preparati secondo la ricetta della tradizione e le gustose ficattole fritte al momento. Durante la sagra\, organizzata dalla Asd Fortis Juventus\, sarà possibile gustare un ricco menù che valorizza i sapori genuini della cucina locale\, con grande spazio anche alle specialità di carne alla brace\, cotte sul momento e accompagnate da contorni e prodotti tipici. \nL’evento si svolge all’interno di un ampio locale coperto e riscaldato\, permettendo di partecipare e mangiare in compagnia anche in caso di maltempo. In occasione della Pasqua sarà proposto uno speciale menù festivo composto da ficattole con prosciutto crudo e stracchino\, tortelli al ragù\, carne alla brace\, dolce\, vino e acqua\, per celebrare la giornata con i sapori autentici della tradizione toscana. Un’occasione perfetta per trascorrere momenti conviviali tra buon cibo e atmosfera di festa. \n\nInfo: 333.5438336 \n 
URL:https://www.eventiintoscana.it/evento/sagra-del-tortello-e-della-ficattola-scarperia
CATEGORIES:Firenze,Rassegne e Sagre
ATTACH;FMTTYPE=image/png:https://www.eventiintoscana.it/wp-content/uploads/2026/03/sagra-del-tortello-e-della-ficattola-a-scarperia-2026.png
END:VEVENT
BEGIN:VEVENT
DTSTART;TZID=Europe/Rome:20260404T100000
DTEND;TZID=Europe/Rome:20260406T200000
DTSTAMP:20260420T222241
CREATED:20260222T104538Z
LAST-MODIFIED:20260403T150746Z
UID:323428-1775296800-1775505600@www.eventiintoscana.it
SUMMARY:Mostra mercato del tartufo marzuolo\, Volterra
DESCRIPTION:A Volterra si rinnova l’appuntamento con la Mostra mercato del tartufo marzuolo\, in programma sabato 4\, domenica 5 e lunedì 6 aprile\, nel fine settimana di Pasqua. Giunta alla tredicesima edizione\, la manifestazione inaugura la ‘primavera del gusto’ toscana con tre giorni dedicati alle eccellenze del territorio. Dalle 10 alle 20\, le Logge di Piazza dei Priori diventano il cuore dell’evento\, con stand di artigiani del gusto tra degustazioni e vendita: protagonista il tartufo marzuolo\, affiancato da formaggi\, salumi\, olio\, vino\, birra e dolci tipici. A completare l’offerta\, da sabato alle ore 15\, la Festa del Cioccolato in Piazza San Giovanni con maestri cioccolatieri provenienti da tutta Italia. Numerose le iniziative collaterali diffuse in città: sabato 4 aprile alle 15 la passeggiata ‘I paesaggi del cibo’ tra le valli\, mentre dalle 18 alle 21 spazio a giochi e animazioni per bambini. Domenica 5 e lunedì 6 alle 10 si potrà partecipare alle simulazioni di caccia al tartufo\, mentre lunedì 6 il centro storico ospita il corteo ‘Omaggio di primavera’ alle 11.30 e\, dalle 15.30\, una caccia alle uova dedicata ai più piccoli. Per tutta la durata della manifestazione sono visitabili mostre e mercatini di artigianato\, in un programma che offre numerose occasioni per scoprire il patrimonio storico e culinario della città. \n\nInfo: 0588.87257 – www.volterratur.it
URL:https://www.eventiintoscana.it/evento/mostra-mercato-del-tartufo-marzuolo-volterra
CATEGORIES:Pisa,Rassegne e Sagre
ATTACH;FMTTYPE=image/png:https://www.eventiintoscana.it/wp-content/uploads/2026/02/Mostra-mercato-tartufo-marzuolo-2026.png
END:VEVENT
END:VCALENDAR