BEGIN:VCALENDAR
VERSION:2.0
PRODID:-//Eventi in Toscana By Toscana Tascabile - ECPv6.15.12.2//NONSGML v1.0//EN
CALSCALE:GREGORIAN
METHOD:PUBLISH
X-ORIGINAL-URL:https://www.eventiintoscana.it
X-WR-CALDESC:Eventi per Eventi in Toscana By Toscana Tascabile
REFRESH-INTERVAL;VALUE=DURATION:PT1H
X-Robots-Tag:noindex
X-PUBLISHED-TTL:PT1H
BEGIN:VTIMEZONE
TZID:Europe/Rome
BEGIN:DAYLIGHT
TZOFFSETFROM:+0100
TZOFFSETTO:+0200
TZNAME:CEST
DTSTART:20250330T010000
END:DAYLIGHT
BEGIN:STANDARD
TZOFFSETFROM:+0200
TZOFFSETTO:+0100
TZNAME:CET
DTSTART:20251026T010000
END:STANDARD
BEGIN:DAYLIGHT
TZOFFSETFROM:+0100
TZOFFSETTO:+0200
TZNAME:CEST
DTSTART:20260329T010000
END:DAYLIGHT
BEGIN:STANDARD
TZOFFSETFROM:+0200
TZOFFSETTO:+0100
TZNAME:CET
DTSTART:20261025T010000
END:STANDARD
BEGIN:DAYLIGHT
TZOFFSETFROM:+0100
TZOFFSETTO:+0200
TZNAME:CEST
DTSTART:20270328T010000
END:DAYLIGHT
BEGIN:STANDARD
TZOFFSETFROM:+0200
TZOFFSETTO:+0100
TZNAME:CET
DTSTART:20271031T010000
END:STANDARD
END:VTIMEZONE
BEGIN:VEVENT
DTSTART;TZID=Europe/Rome:20260110T090000
DTEND;TZID=Europe/Rome:20260322T200000
DTSTAMP:20260421T041749
CREATED:20260127T183424Z
LAST-MODIFIED:20260131T171320Z
UID:322617-1768035600-1774209600@www.eventiintoscana.it
SUMMARY:Frittelle in Festa\, Rapolano Terme
DESCRIPTION:Fino al 22 marzo a Rapolano Terme prosegue Frittelle in Festa\, l’appuntamento che celebra la tradizione con frittelle di riso e bomboloni caldi. Largo XX Settembre\, vicino allo stadio comunale\, ospita gli stand gastronomici ogni giovedì mattina\, sabato pomeriggio e domenica tutto il giorno. Organizzata dal Settembre Rapolanese\, la manifestazione offre ai visitatori un’occasione golosa per gustare specialità tipiche toscane e vivere un momento di convivialità nel cuore della città\, immersi nell’atmosfera invernale della Valdichiana. \n\nInfo: 0577.723210 – settembrerapolanese50@gmail.com
URL:https://www.eventiintoscana.it/evento/frittelle-in-festa-rapolano-terme
CATEGORIES:Rassegne e Sagre,Siena
ATTACH;FMTTYPE=image/jpeg:https://www.eventiintoscana.it/wp-content/uploads/2026/01/frittelle-in-festa-1-1.jpg
END:VEVENT
BEGIN:VEVENT
DTSTART;TZID=Europe/Rome:20260117T080000
DTEND;TZID=Europe/Rome:20260319T220000
DTSTAMP:20260421T041749
CREATED:20251126T151057Z
LAST-MODIFIED:20260131T171525Z
UID:321683-1768636800-1773957600@www.eventiintoscana.it
SUMMARY:Frittelle\, San Donato in Collina
DESCRIPTION:Fino al 19 marzo a San Donato in Collina prosegue il gustoso appuntamento con le frittelle preparate presso il locale S.M.S. ogni fine settimana dall’inizio del periodo invernale fino a San Giuseppe. Croccanti e dorate\, capaci di fare insignire San Donato della targa di ‘Paese delle frittelle’\, le frittelle vengono preparate secondo una collaudata ricetta che prevede come ingredienti il riso\, il latte\, lo zucchero\, l’arancia e l’uvetta\, e si possono accompagnare con il vin santo locale. I dolcetti sono senza glutine\, quindi adatti anche alle persone celiache e la manifestazione si tiene il sabato e la domenica dalle 8.30 del mattino fino a esaurimento scorte. \n\nInfo: 055.699250 – www.facebook.com/smssandonato.incollina
URL:https://www.eventiintoscana.it/evento/frittelle-san-donato-in-collina
CATEGORIES:Firenze,Rassegne e Sagre
ATTACH;FMTTYPE=image/png:https://www.eventiintoscana.it/wp-content/uploads/2025/11/Frittelle-di-san-donato.png
END:VEVENT
BEGIN:VEVENT
DTSTART;TZID=Europe/Rome:20260306T190000
DTEND;TZID=Europe/Rome:20260329T230000
DTSTAMP:20260421T041749
CREATED:20260225T140459Z
LAST-MODIFIED:20260225T140549Z
UID:323600-1772823600-1774825200@www.eventiintoscana.it
SUMMARY:Sagra della filiera del tartufo marzuolo\, Lucignano
DESCRIPTION:Il suggestivo borgo medievale di Lucignano ospita la 12ª edizione della Sagra della filiera del Tartufo Marzuolo. Per quattro lunghi weekend\, dal 6 al 29 marzo l’Usd Lucignano in collaborazione con l’Associazione Tartufai delle Valli Aretine ed il patrocinio del Comune di Lucignano organizza la sagra dove si potranno gustare specialità a base del pregiato tartufo primaverile. Presso lo stand del campo sportivo si degusteranno anche piatti della tradizione aretina. Il 15 alle ore 8 si potrà assistere alla gara dei cani di ricerca da tartufo sul ring. La festa\, che unisce sapori\, tradizioni e valorizzazione del territorio\, promuove l’eccellenza agroalimentare locale e offre un’occasione unica per assaporare le specialità aretine tra profumi e convivialità. L’appuntamento è per ogni venerdì\, sabato e domenica di marzo (6-7-8\, 13-14-15\, 20-21-22\, 27-28-29 marzo). \n\nInfo: 334.3461383 – 335.7714591 – https://www.facebook.com/Associazionetartufaivalliaretine  \n 
URL:https://www.eventiintoscana.it/evento/sagra-della-filiera-del-tartufo-marzuolo-lucignano
CATEGORIES:arezzo,Rassegne e Sagre
ATTACH;FMTTYPE=image/jpeg:https://www.eventiintoscana.it/wp-content/uploads/2026/02/sagra-lucignano.jpg
END:VEVENT
BEGIN:VEVENT
DTSTART;TZID=Europe/Rome:20260307T190000
DTEND;TZID=Europe/Rome:20260315T230000
DTSTAMP:20260421T041749
CREATED:20260225T145852Z
LAST-MODIFIED:20260225T145852Z
UID:323627-1772910000-1773615600@www.eventiintoscana.it
SUMMARY:Sagra del cinghiale e del tortello\, Scarperia
DESCRIPTION:Nel cuore del Mugello\, nel bellissimo borgo di Scarperia si svolge nei weekend del 7-8 e del 14-15 marzo la Sagra del cinghiale e del tortello. Presso il Circolo MCL si potranno gustare le specialità della cucina locale\, con focus sui tortelli mugellani di patate e le ricette a base di cinghiale\, simboli della gastronomia contadina toscana. Nel menù tradizionale si potranno trovare tortelli fatti a mano\, spesso conditi con sugo o accompagnati da carni saporite\, insieme a piatti di cinghiale in umido\, cinghiale arrosto\, carne alla brace e altre specialità tipiche mugellane. Le cucine sono aperte sabato a cena dalle ore 19\, domenica a pranzo (dalle ore 12) e a cena\, consentendo di assaporare i piatti con calma in un ambiente coperto e riscaldato\, ideale anche in caso di maltempo. \n\nInfo: 055.8468165 – www.prolocoscarperia.it \n 
URL:https://www.eventiintoscana.it/evento/sagra-del-cinghiale-e-del-tortello-scarperia
CATEGORIES:Firenze,Rassegne e Sagre
ATTACH;FMTTYPE=image/jpeg:https://www.eventiintoscana.it/wp-content/uploads/2026/02/sagra-del-cinghiale-e-del-tortello-scarperia.jpeg
END:VEVENT
END:VCALENDAR