BEGIN:VCALENDAR
VERSION:2.0
PRODID:-//Eventi in Toscana By Toscana Tascabile - ECPv6.15.12.2//NONSGML v1.0//EN
CALSCALE:GREGORIAN
METHOD:PUBLISH
X-WR-CALNAME:Eventi in Toscana By Toscana Tascabile
X-ORIGINAL-URL:https://www.eventiintoscana.it
X-WR-CALDESC:Eventi per Eventi in Toscana By Toscana Tascabile
REFRESH-INTERVAL;VALUE=DURATION:PT1H
X-Robots-Tag:noindex
X-PUBLISHED-TTL:PT1H
BEGIN:VTIMEZONE
TZID:Europe/Rome
BEGIN:DAYLIGHT
TZOFFSETFROM:+0100
TZOFFSETTO:+0200
TZNAME:CEST
DTSTART:20250330T010000
END:DAYLIGHT
BEGIN:STANDARD
TZOFFSETFROM:+0200
TZOFFSETTO:+0100
TZNAME:CET
DTSTART:20251026T010000
END:STANDARD
BEGIN:DAYLIGHT
TZOFFSETFROM:+0100
TZOFFSETTO:+0200
TZNAME:CEST
DTSTART:20260329T010000
END:DAYLIGHT
BEGIN:STANDARD
TZOFFSETFROM:+0200
TZOFFSETTO:+0100
TZNAME:CET
DTSTART:20261025T010000
END:STANDARD
BEGIN:DAYLIGHT
TZOFFSETFROM:+0100
TZOFFSETTO:+0200
TZNAME:CEST
DTSTART:20270328T010000
END:DAYLIGHT
BEGIN:STANDARD
TZOFFSETFROM:+0200
TZOFFSETTO:+0100
TZNAME:CET
DTSTART:20271031T010000
END:STANDARD
END:VTIMEZONE
BEGIN:VEVENT
DTSTART;TZID=Europe/Rome:20260110T090000
DTEND;TZID=Europe/Rome:20260322T200000
DTSTAMP:20260420T222111
CREATED:20260127T183424Z
LAST-MODIFIED:20260131T171320Z
UID:322617-1768035600-1774209600@www.eventiintoscana.it
SUMMARY:Frittelle in Festa\, Rapolano Terme
DESCRIPTION:Fino al 22 marzo a Rapolano Terme prosegue Frittelle in Festa\, l’appuntamento che celebra la tradizione con frittelle di riso e bomboloni caldi. Largo XX Settembre\, vicino allo stadio comunale\, ospita gli stand gastronomici ogni giovedì mattina\, sabato pomeriggio e domenica tutto il giorno. Organizzata dal Settembre Rapolanese\, la manifestazione offre ai visitatori un’occasione golosa per gustare specialità tipiche toscane e vivere un momento di convivialità nel cuore della città\, immersi nell’atmosfera invernale della Valdichiana. \n\nInfo: 0577.723210 – settembrerapolanese50@gmail.com
URL:https://www.eventiintoscana.it/evento/frittelle-in-festa-rapolano-terme
CATEGORIES:Rassegne e Sagre,Siena
ATTACH;FMTTYPE=image/jpeg:https://www.eventiintoscana.it/wp-content/uploads/2026/01/frittelle-in-festa-1-1.jpg
END:VEVENT
BEGIN:VEVENT
DTSTART;TZID=Europe/Rome:20260117T080000
DTEND;TZID=Europe/Rome:20260319T220000
DTSTAMP:20260420T222111
CREATED:20251126T151057Z
LAST-MODIFIED:20260131T171525Z
UID:321683-1768636800-1773957600@www.eventiintoscana.it
SUMMARY:Frittelle\, San Donato in Collina
DESCRIPTION:Fino al 19 marzo a San Donato in Collina prosegue il gustoso appuntamento con le frittelle preparate presso il locale S.M.S. ogni fine settimana dall’inizio del periodo invernale fino a San Giuseppe. Croccanti e dorate\, capaci di fare insignire San Donato della targa di ‘Paese delle frittelle’\, le frittelle vengono preparate secondo una collaudata ricetta che prevede come ingredienti il riso\, il latte\, lo zucchero\, l’arancia e l’uvetta\, e si possono accompagnare con il vin santo locale. I dolcetti sono senza glutine\, quindi adatti anche alle persone celiache e la manifestazione si tiene il sabato e la domenica dalle 8.30 del mattino fino a esaurimento scorte. \n\nInfo: 055.699250 – www.facebook.com/smssandonato.incollina
URL:https://www.eventiintoscana.it/evento/frittelle-san-donato-in-collina
CATEGORIES:Firenze,Rassegne e Sagre
ATTACH;FMTTYPE=image/png:https://www.eventiintoscana.it/wp-content/uploads/2025/11/Frittelle-di-san-donato.png
END:VEVENT
BEGIN:VEVENT
DTSTART;TZID=Europe/Rome:20260214T120000
DTEND;TZID=Europe/Rome:20260301T233000
DTSTAMP:20260420T222111
CREATED:20260123T104307Z
LAST-MODIFIED:20260210T114938Z
UID:322449-1771070400-1772407800@www.eventiintoscana.it
SUMMARY:Sagra del Cinghiale\, Scarperia
DESCRIPTION:Torna in Mugello nel borgo di Scarperia la Sagra del cinghiale organizzata da Asd Fortis Juventus al campo sportivo Le Cortine\, per gustare specialità come il peposo di cinghiale\, il cinghiale fritto\, la carne alla brace e le tradizionali frittelle come dessert. L’appuntamento è nei weekend 14-15 e 21-22 febbraio e del 28 febbraio e 1° marzo\, sempre a pranzo e a cena. La sagra si svolge anche in caso di pioggia nei locali al coperto. Un evento imperdibile per gli amanti della carne di questo animale selvatico\, tipico dei nostri boschi. \n_______________________________________________________________________ \nInfo: 333.5438336
URL:https://www.eventiintoscana.it/evento/sagra-del-cinghiale-scarperia
CATEGORIES:Firenze,Sagre e Folklore
ATTACH;FMTTYPE=image/jpeg:https://www.eventiintoscana.it/wp-content/uploads/2026/01/sagra-del-cinghiale-e-del-tortello-scarperia.jpeg
END:VEVENT
BEGIN:VEVENT
DTSTART;TZID=Europe/Rome:20260228T180000
DTEND;TZID=Europe/Rome:20260301T230000
DTSTAMP:20260420T222111
CREATED:20260224T150417Z
LAST-MODIFIED:20260224T150417Z
UID:323493-1772301600-1772406000@www.eventiintoscana.it
SUMMARY:Sagra del Tartufo\, Corazzano
DESCRIPTION:La quarta edizione della Sagra del Tartufo Bianchetto Marzuolo si svolgerà al Circolo Arci di Corazzano sabato 28 febbraio a cena e domenica 1° marzo sia a pranzo sia a cena. Nei locali coperti e riscaldati del Circolo\, i visitatori potranno gustare piatti a base di tartufo bianchetto\, specialità della tradizione locale preparate sul momento da chef e volontari della comunità. L’iniziativa è organizzata dall’ASD Corazzano 1936 in collaborazione con il Circolo Arci\, con il supporto della Fondazione San Miniato Promozione e del Comune di San Miniato. Prenotazione obbligatoria. L’atmosfera conviviale della sagra\, unita al profumo intenso e avvolgente del tartufo\, rende l’appuntamento un’occasione imperdibile per gli amanti della cucina toscana e per chi desidera vivere un’esperienza autentica tra tradizione e sapori di stagione. \n\nInfo: 334.2318588
URL:https://www.eventiintoscana.it/evento/sagra-del-tartufo-corazzano
CATEGORIES:Pisa,Rassegne e Sagre
ATTACH;FMTTYPE=image/jpeg:https://www.eventiintoscana.it/wp-content/uploads/2026/02/tartufo-bianco.jpg
END:VEVENT
BEGIN:VEVENT
DTSTART;TZID=Europe/Rome:20260301T103000
DTEND;TZID=Europe/Rome:20260302T183000
DTSTAMP:20260420T222111
CREATED:20260222T095350Z
LAST-MODIFIED:20260222T095350Z
UID:323396-1772361000-1772476200@www.eventiintoscana.it
SUMMARY:mareMMMa\, Alberese
DESCRIPTION:Torna ad Alberese\, per la settima edizione\, l’appuntamento con ‘mareMMMa\, la Natura del vino’\, che nel 2026 si presenta con una importante novità. L’evento raddoppia e per la prima volta si svolgerà in due giornate: domenica 1 marzo (14.30-18.30) per i ‘Wine lover’ e lunedì 2 marzo (10.30-18.30) esclusivamente per gli operatori del settore. La manifestazione nasce dalla sinergia tra i Consorzi delle tre Denominazioni della Maremma toscana – Maremma Toscana\, Montecucco e Morellino di Scansano – e nella tradizionale location del salone centrale del Granaio Lorenese di Spergolaia\, appassionati ed operatori avranno l’opportunità di conoscere da vicino e confrontarsi in maniera diretta con i produttori e la loro proposta enologica. Per partecipare all’evento è necessario fare prima una registrazione online. \n\nInfo: 348.3883185 – www.facebook.com/maremmma
URL:https://www.eventiintoscana.it/evento/maremmma-alberese
CATEGORIES:Grosseto,Rassegne e Sagre
ATTACH;FMTTYPE=image/png:https://www.eventiintoscana.it/wp-content/uploads/2026/02/Maremmma.png
END:VEVENT
BEGIN:VEVENT
DTSTART;TZID=Europe/Rome:20260301T130000
DTEND;TZID=Europe/Rome:20260307T230000
DTSTAMP:20260420T222111
CREATED:20260222T102430Z
LAST-MODIFIED:20260222T102430Z
UID:323416-1772370000-1772924400@www.eventiintoscana.it
SUMMARY:Disfida della Zuppa\, Lucca
DESCRIPTION:Prosegue fino a sabato 7 marzo\, l’edizione 2026 della ‘Disfida della Zuppa’. Una sfida gastronomica a colpi di mestolo che mette a confronto i vari chef della zona di Lucca e provincia per stabilire chi ha preparato la miglior zuppa dell’anno. L’evento\, organizzato da Slow Food Lucca\, Compitese e Orti Lucchesi\, è un’occasione per discutere di cucina\, rivivere le tradizioni e per gustare l’ottima zuppa frantoiana delle campagne lucchesi. Il calendario 2026 prevede sei eliminatorie\, ognuna ospitata da un luogo diverso\, tra agriturismi\, circoli e spazi comunitari. Domenica 1 marzo alle ore 13\, le colline di Lucca nord si ritrovano ad Aquilea presso la sala parrocchiale di Mastiano. Ultima tappa sabato 7 marzo alle ore 20.30 al Comitato San Francesco per l’eliminatoria di Lucca centro. \n\nInfo: 348.7958947 – 327.9850614 – www.facebook.com/SlowFoodLuccaCompiteseOrtilucchesi
URL:https://www.eventiintoscana.it/evento/disfida-della-zuppa-lucca
CATEGORIES:Lucca,Sagre e Folklore
ATTACH;FMTTYPE=image/png:https://www.eventiintoscana.it/wp-content/uploads/2026/02/Disfida-della-zuppa-2026.png
END:VEVENT
END:VCALENDAR