BEGIN:VCALENDAR
VERSION:2.0
PRODID:-//Eventi in Toscana By Toscana Tascabile - ECPv6.15.12.2//NONSGML v1.0//EN
CALSCALE:GREGORIAN
METHOD:PUBLISH
X-ORIGINAL-URL:https://www.eventiintoscana.it
X-WR-CALDESC:Eventi per Eventi in Toscana By Toscana Tascabile
REFRESH-INTERVAL;VALUE=DURATION:PT1H
X-Robots-Tag:noindex
X-PUBLISHED-TTL:PT1H
BEGIN:VTIMEZONE
TZID:Europe/Rome
BEGIN:DAYLIGHT
TZOFFSETFROM:+0100
TZOFFSETTO:+0200
TZNAME:CEST
DTSTART:20200329T010000
END:DAYLIGHT
BEGIN:STANDARD
TZOFFSETFROM:+0200
TZOFFSETTO:+0100
TZNAME:CET
DTSTART:20201025T010000
END:STANDARD
BEGIN:DAYLIGHT
TZOFFSETFROM:+0100
TZOFFSETTO:+0200
TZNAME:CEST
DTSTART:20210328T010000
END:DAYLIGHT
BEGIN:STANDARD
TZOFFSETFROM:+0200
TZOFFSETTO:+0100
TZNAME:CET
DTSTART:20211031T010000
END:STANDARD
BEGIN:DAYLIGHT
TZOFFSETFROM:+0100
TZOFFSETTO:+0200
TZNAME:CEST
DTSTART:20220327T010000
END:DAYLIGHT
BEGIN:STANDARD
TZOFFSETFROM:+0200
TZOFFSETTO:+0100
TZNAME:CET
DTSTART:20221030T010000
END:STANDARD
END:VTIMEZONE
BEGIN:VEVENT
DTSTART;VALUE=DATE:20211008
DTEND;VALUE=DATE:20211209
DTSTAMP:20260420T083540
CREATED:20211003T150516Z
LAST-MODIFIED:20211102T152151Z
UID:292997-1633651200-1639007999@www.eventiintoscana.it
SUMMARY:Palaia terra di tartufi - Palaia (Pisa)
DESCRIPTION:Prima edizione per Palaia terra di tartufi\, la rassegna gastronomica e del tartufo porcino a Palaia dall’8 ottobre all’8 dicembre.\nIl territorio palaiese è da sempre terra vocata alla ricerca e alla raccolta del tartufo\, ogni anno protagonista della stagione autunnale. \nQuest’anno infatti il tartufo verrà celebrato con una nuova kermesse del gusto “Palaia Terra di Tartufi – Cucina e Sapori d’Autunno”\, la rassegna gastronomica che vede il coinvolgimento di ristoratori\, produttori e delle molte realtà turistiche palaiesi con una serie di appuntamenti settimanali all’insegna del gusto e alla scoperta del bosco.  \nVerranno proposte attività\, esperienze e menù dedicati non solo al pregiato Tartufo ma anche alle eccellenze locali come vino\, olio extravergine di oliva\, funghi porcini\, liquori e distillati\, alta norcineria ed elicicoltura. \nAd arricchire la rassegna\, domenica 5 dicembre in Piazza del Mercato a Palaia\, doppio appuntamento con la\nMostra Mercato anche questa dedicata al Tartufo\, con degustazioni e vendita dei prodotti tipici.\n \nTutti gli eventi in programma prevedono la prenotazione direttamente alla struttura e saranno realizzati nel rispetto di tutte le norme anti-contagio. \nPer informazioni:\nUfficio Turismo Comune di Palaia\nTel. 0587 621437\nEmail: turismo@comune.palaia.pi.it\nSito web: www.palaiatoscana.it  \nClicca qui per il programma della manifestazione
URL:https://www.eventiintoscana.it/evento/palaia-terra-di-tartufi-palaia-pisa
CATEGORIES:Pisa,Rassegne e Sagre
ATTACH;FMTTYPE=image/jpeg:https://www.eventiintoscana.it/wp-content/uploads/2021/10/Palaia-terra-di-tartufi.jpg
END:VEVENT
BEGIN:VEVENT
DTSTART;VALUE=DATE:20211120
DTEND;VALUE=DATE:20211220
DTSTAMP:20260420T083540
CREATED:20211117T112204Z
LAST-MODIFIED:20211127T071140Z
UID:294301-1637366400-1639958399@www.eventiintoscana.it
SUMMARY:Wine Tasting & Wine Shop in Strada del Vino Terre di Arezzo - Arezzo
DESCRIPTION:Dal 20 novembre al 19 dicembre Strade del Vino Terre di Arezzo propone un calendario di degustazioni\, in concomitanza con i Mercatini di Natale e le iniziative di Arezzo Città del Natale. \nIl wine tasting e il wine shop si tengono presso la sede di Strade del Vino Terre di Arezzo\, in Via Ricasoli 38 ad Arezzo. \nPartecipano le principali aziende vitivinicole del territorio\, che ogni settimana potranno far assaggiare al pubblico le proprie produzioni. \nQuesto il calendario delle degustazioni:\nsabato 20 novembre / TENUTA IL LECCIO (Loc. San Leolino – Bucine) – orario 10.00 / 18.00 \ndomenica 21 novembre / TENUTA SETTE PONTI (Castiglion Fibocchi) – orario 11.30 / 18.00 \nsabato 27 novembre / PODERE DI POMAIO (Loc. Pomaio – Arezzo) – orario 10.00 / 18.00 \ndomenica 28 novembre / TENUTE DI FRATERNITA (Arezzo) – orario 10.00 / 18.00 \nsabato 4 dicembre / TENUTA DI FRASSINETO (Loc. Frassineto – Arezzo) – orario 10.00 / 18.00 \ndomenica 5 dicembre / FATTORIA DI SAN LEO (Loc. San Leo – Arezzo) – orario 14.00 / 18.00 \nmercoledì 8 dicembre / SAN LUCIANO (Loc. San Luciano – Monte San Savino) – orario 10.00 / 18.00 \nsabato 11 dicembre / GABRIELE MAZZESCHI (Castiglion Fiorentino) – orario 10.00 / 18.00 \ndomenica 12 dicembre / ORNINA (Loc. Ornina – Castel Focognano) – orario 10.00 / 18.00 \nsabato 18 dicembre / VILLA LA RIPA (Loc. Antria – Arezzo) – orario 15.00 / 18.00 \ndomenica 19 dicembre / LA TORRE (Loc. Chiassa Superiore – Arezzo) – orario 14.00 / 18.00 \n\nInfo: Strada del Vino Terre di Arezzo – 0575 294066 (ore 9-14) – info@stradadelvino.arezzo.it \nSito
URL:https://www.eventiintoscana.it/evento/wine-tasting-wine-shop-in-strada-del-vino-terre-di-arezzo-arezzo
CATEGORIES:arezzo,Rassegne e Sagre
ATTACH;FMTTYPE=image/jpeg:https://www.eventiintoscana.it/wp-content/uploads/2021/11/Wine-Tasting-Strada-del-Vino-Terre-di-Arezzo.jpg
END:VEVENT
BEGIN:VEVENT
DTSTART;VALUE=DATE:20211202
DTEND;VALUE=DATE:20211220
DTSTAMP:20260420T083540
CREATED:20211206T153645Z
LAST-MODIFIED:20211206T153645Z
UID:294654-1638403200-1639958399@www.eventiintoscana.it
SUMMARY:Festa del cinghiale e del tortello - Lago Viola\, Vicchio (Firenze)
DESCRIPTION:Proseguono su dicembre gli appuntamenti della 2ª Festa del cinghiale e del tortello al Lago Viola di Vicchio. \nDal giovedì alla domenica\, fino al 19 dicembre e incluso l’8\, sarà possibile assaggiare le specialità proposte dalla cucina\, tra cui spicca il peposo di cinghiale e il maialino\, oltre ovviamente ai tortelli mugellani e ai primi e secondi a base di cinghiale\, come ad esempio le bistecche e il carrè. \nQueste le date di dicembre: \n\ndal 2 al 5\ndall’8 al 12\ndal 16 al 19\n\nPer finire il pasto\, ampia la proposta di dolci di produzione propria. \nL’appuntamento è tutte le sere a cena\, il sabato e la domenica (nonché l’8 dicembre) anche a pranzo in ambienti riscaldati. La Festa si svolge al Lago Viola situato in località Boccagnello a Vicchio. \nUn luogo immerso nella natura nel quale si possono effettuare delle bellissime passeggiate\, stare in compagnia e passare giornate spensierate. \n\nInfo e prenotazioni: 055.0741103 – 350.1933619 
URL:https://www.eventiintoscana.it/evento/festa-del-cinghiale-e-del-tortello-lago-viola-vicchio-firenze-2
CATEGORIES:Firenze,Rassegne e Sagre
ATTACH;FMTTYPE=image/jpeg:https://www.eventiintoscana.it/wp-content/uploads/2021/12/Festa-del-cinghiale-e-del-tortello-Lago-Viola-Vicchio-Firenze.jpg
END:VEVENT
END:VCALENDAR