BEGIN:VCALENDAR
VERSION:2.0
PRODID:-//Eventi in Toscana By Toscana Tascabile - ECPv6.15.12.2//NONSGML v1.0//EN
CALSCALE:GREGORIAN
METHOD:PUBLISH
X-ORIGINAL-URL:https://www.eventiintoscana.it
X-WR-CALDESC:Eventi per Eventi in Toscana By Toscana Tascabile
REFRESH-INTERVAL;VALUE=DURATION:PT1H
X-Robots-Tag:noindex
X-PUBLISHED-TTL:PT1H
BEGIN:VTIMEZONE
TZID:Europe/Rome
BEGIN:DAYLIGHT
TZOFFSETFROM:+0100
TZOFFSETTO:+0200
TZNAME:CEST
DTSTART:20200329T010000
END:DAYLIGHT
BEGIN:STANDARD
TZOFFSETFROM:+0200
TZOFFSETTO:+0100
TZNAME:CET
DTSTART:20201025T010000
END:STANDARD
BEGIN:DAYLIGHT
TZOFFSETFROM:+0100
TZOFFSETTO:+0200
TZNAME:CEST
DTSTART:20210328T010000
END:DAYLIGHT
BEGIN:STANDARD
TZOFFSETFROM:+0200
TZOFFSETTO:+0100
TZNAME:CET
DTSTART:20211031T010000
END:STANDARD
BEGIN:DAYLIGHT
TZOFFSETFROM:+0100
TZOFFSETTO:+0200
TZNAME:CEST
DTSTART:20220327T010000
END:DAYLIGHT
BEGIN:STANDARD
TZOFFSETFROM:+0200
TZOFFSETTO:+0100
TZNAME:CET
DTSTART:20221030T010000
END:STANDARD
END:VTIMEZONE
BEGIN:VEVENT
DTSTART;VALUE=DATE:20210916
DTEND;VALUE=DATE:20211119
DTSTAMP:20260421T060740
CREATED:20210915T202351Z
LAST-MODIFIED:20210915T202351Z
UID:292336-1631750400-1637279999@www.eventiintoscana.it
SUMMARY:Tra Borghi e Cantine - luoghi vari in provincia di Siena
DESCRIPTION:Tutti i giovedì\, dal 16 settembre fino al 18 novembre\, Tra borghi e cantine propone un viaggio in cui in cui le Doc e le Docg di Siena si uniranno ai sapori della tradizione culinaria senese per far assaporare la storia del territorio.\nPer ben dieci giovedì\, fino al 18 novembre\, con Tra Borghi e Cantine sarà possibile assaporare i piatti della cucina tradizionale senese e toscana nei ristoranti posti sui Sentieri del Gusto\, con un menù pensato e dedicato alla serata in abbinamento con i vini del territorio. \nLa forza di “Tra Borghi e Cantine – I Sentieri del Gusto” è l’alleanza con le aziende vitivinicole del territorio: ognuna di loro offrirà ai clienti delle serate  visite e degustazioni o sconti nella propria azienda.  \nIl programma di Tra Borghi e Cantine 2021:\nTutto il programma è consultabile sul sito www.borghiecantinesiena.it. \n\n\n\nIl 16 settembre l’Azienda agricola Trequanda presenterà i suoi vini nel menù del 1Ristorante Betulia\, offrendi ai soli partecipanti alla cena la possibilità di una visita (dal 1 ottobre al 31 dicembre 2021) con degustazione di 3 etichette a 15 euro a persona oppure un ingresso a 30 euro con visita in cantina\, oltre che uno sconto del 10% sull’acquisto dei  vini in bottiglia\, presso il punto vendita diretto dell’azienda . \n\n\n\nIl 23 settembre a  Montalcino con il Ristorante il Giardino e il vino Brunello di Montalcino Docg dell’Azienda Agricola Villa i Cipressi. Il 30 settembre Tra Borghi e Cantine sarà a Poggibonsi\, a L’Angolo del Chianti\, con il vino Chianti Colli Senesi Docg della Tenuta Squarcialupi La Castellina. \nOttobre inizia a San Quirico d’Orcia che ospiterà il cartellone il 7 ottobre al Ristorante da Ciacco con il vino Orcia Doc dell’Azienda Agricola Bagnaia. \nLa settimana successiva\, giovedì 14 ottobre\, siamo a Castellina in Chianti con l’Antica Trattoria la Torre e il vino Chianti Docg della Tenuta di Lilliano. \nIl 21 ottobre Tra Borghi e Cantine sarà di nuovo a Bettolle\, al Ristorante Redaelli con il vino Nobile di Montepulciano Docg dell’Azienda Le Bertille. \nIl 28 ottobre Tra Borghi e Cantine si sposta all’Osteria del Conte\, a Montepulciano\, con il vino Nobile di Montepulciano Docg dell’Azienda Contucci. \nIl 4 novembre è la volta di San Gimignano\, al Ristorante La Stella con il vino Vernaccia Docg dell’Azienda Agricola Signano. \nL’ 11 novembre l’appuntamento è all’Osteria il Granaio a Rapolano Terme con il vino Orcia Doc ed il Brunello dell’azienda Donatella Cinelli Colombini. \nTra Borghi e Cantine chiude il 18 novembre visitando di nuovo San Gimignano con il ristorante Pietrafitta e la Vernaccia Docg delle aziende Tenuta la Vigna\, Palagetto srl e agriturismo Mormoraia. \nL’hashtag della manifestazione è #TraBorghieCantine2021. \n\n\n\n\n\nTutte le informazioni si possono trovare su www.borghiecantinesiena.it. Oppure è possibile scrivere alla mail elapadula@confcommercio.siena.it.
URL:https://www.eventiintoscana.it/evento/tra-borghi-e-cantine-luoghi-vari-in-provincia-di-siena
CATEGORIES:Rassegne e Sagre,Siena
ATTACH;FMTTYPE=image/jpeg:https://www.eventiintoscana.it/wp-content/uploads/2021/09/Tra-borghi-e-cantine.jpg
END:VEVENT
BEGIN:VEVENT
DTSTART;TZID=Europe/Rome:20211006T180000
DTEND;TZID=Europe/Rome:20211117T210000
DTSTAMP:20260421T060740
CREATED:20210906T080614Z
LAST-MODIFIED:20211004T081611Z
UID:291816-1633543200-1637182800@www.eventiintoscana.it
SUMMARY:Artigianato & Aperitivo - Luoghi vari in Toscana
DESCRIPTION:Prosegue a ottobre e novembre Artigianato & Aperitivo\, il trekking urbano alla scoperta degli antichi mestieri artigiani della Toscana. \n\n\n\n\n\n\n\n\n\n\n\n\n\n\n\n\n\n\n\n\n\n\n\n\nPer ogni tappa un tema\, una bottega artigiana e un aperitivo. Un’esperienza in cui si fondono curiosità\, cultura e gusto. \nI sedici appuntamenti sono in programma tra settembre\, ottobre e novembre per conoscere i protagonisti del mondo dell’artigianato artistico toscano. \nGli appuntamenti dell’edizione 2021 di Artigianato&Aperitivo (a partire dalle 18.00):\nArezzo \nMercoledì 10 novembre: “Mirabilia d’oro e d’argento”\, visita alla Bottega Maria Sole Gioielli  \nMercoledì 17 novembre: “Viaggiatori e artisti”\, visita alla Bottega d’arte  \nFirenze \nGiovedì 7 ottobre: “La Città rossa”\, visita alla Bottega Terrecotte Sbigoli  \nGiovedì 21 ottobre: “Il Capolavoro della Letteratura”\, visita alla Bottega Ippogrifo Stampe d’arte  \nGiovedì 28 ottobre: “Un tunnel per Firenze” visita alla Bottega Tiziana Alemanni Sartoria  \nGiovedì 4 novembre: “L’ape regina”\, visita alla bottega Maselli Bottega d’arte  \nLucca \nMercoledì 6 ottobre: “Bestiario Medievale”\, visita alla bottega RossoRamina \nMercoledì 13 ottobre: “Anfiteatro di Fiori”\, visita alla bottega Foto Alcide \nPisa \nGiovedì 14 ottobre: “Vie d’acqua e dromedari”\, visita alla bottega Laura de Cesare  \nMercoledì 20 ottobre:  “Alterne Fortune”\, visita alla bottega Panna e Cioccolato  \nSiena \nMercoledì 27 ottobre: “Aprite! si vien dai Paschi”\, visita alla bottega Laura Brocchi  \n\n\n\n\n\n\n\n\n\n\n\n\n\n\n\n\n\n\n\n\n\n\n\n\nMercoledì 3 novembre: “Tristi notizie da Mentana”\, visita alla bottega Sandra Kern  \n\nLa prenotazione è obbligatoria e soggetta a disponibilità limitata di posti e le visite si svolgeranno nel rispetto delle normative anti-Covid 19. Costo aperitivo 10.00. Per informazioni www.coopfirenze.it. Per prenotazioni www.andareazonzo.com – www.toscana.artour.it. Tel. 371 3212704 dal lunedì al venerdì dalle 10 alle 12 . \nL’iniziativa targata Artex-Centro per l’Artigianato artistico e tradizionale della Toscana è riservata per il secondo anno ai soci Unicoop Firenze con la collaborazione di Regione Toscana\, Cna Toscana\, Confartigianato Toscana. \n\nEventi conclusi: \nPistoia \nGiovedì 23 settembre: “Lo spettro dello Spedalingo”\, visita alla bottega il Saldatore  \nGiovedì 30 settembre: “Un orso in Città”\, visita alla bottega Artè  \nPrato \nMercoledì 22 settembre: “Sangue e Passione”\, visita alla bottega Amerighi Orafo  \nMercoledì 29 settembre: “Marmi & Pietre”\, visita alla bottega Baldini camiceria su misura 
URL:https://www.eventiintoscana.it/evento/artigianato-e-aperitivo-toscana
CATEGORIES:arezzo,Firenze,Lucca,Pisa,Prato,Rassegne e Sagre,Siena
ATTACH;FMTTYPE=image/jpeg:https://www.eventiintoscana.it/wp-content/uploads/2020/08/aperitivo-al-giardino-segreto.jpg
END:VEVENT
BEGIN:VEVENT
DTSTART;VALUE=DATE:20211008
DTEND;VALUE=DATE:20211209
DTSTAMP:20260421T060740
CREATED:20211003T150516Z
LAST-MODIFIED:20211102T152151Z
UID:292997-1633651200-1639007999@www.eventiintoscana.it
SUMMARY:Palaia terra di tartufi - Palaia (Pisa)
DESCRIPTION:Prima edizione per Palaia terra di tartufi\, la rassegna gastronomica e del tartufo porcino a Palaia dall’8 ottobre all’8 dicembre.\nIl territorio palaiese è da sempre terra vocata alla ricerca e alla raccolta del tartufo\, ogni anno protagonista della stagione autunnale. \nQuest’anno infatti il tartufo verrà celebrato con una nuova kermesse del gusto “Palaia Terra di Tartufi – Cucina e Sapori d’Autunno”\, la rassegna gastronomica che vede il coinvolgimento di ristoratori\, produttori e delle molte realtà turistiche palaiesi con una serie di appuntamenti settimanali all’insegna del gusto e alla scoperta del bosco.  \nVerranno proposte attività\, esperienze e menù dedicati non solo al pregiato Tartufo ma anche alle eccellenze locali come vino\, olio extravergine di oliva\, funghi porcini\, liquori e distillati\, alta norcineria ed elicicoltura. \nAd arricchire la rassegna\, domenica 5 dicembre in Piazza del Mercato a Palaia\, doppio appuntamento con la\nMostra Mercato anche questa dedicata al Tartufo\, con degustazioni e vendita dei prodotti tipici.\n \nTutti gli eventi in programma prevedono la prenotazione direttamente alla struttura e saranno realizzati nel rispetto di tutte le norme anti-contagio. \nPer informazioni:\nUfficio Turismo Comune di Palaia\nTel. 0587 621437\nEmail: turismo@comune.palaia.pi.it\nSito web: www.palaiatoscana.it  \nClicca qui per il programma della manifestazione
URL:https://www.eventiintoscana.it/evento/palaia-terra-di-tartufi-palaia-pisa
CATEGORIES:Pisa,Rassegne e Sagre
ATTACH;FMTTYPE=image/jpeg:https://www.eventiintoscana.it/wp-content/uploads/2021/10/Palaia-terra-di-tartufi.jpg
END:VEVENT
BEGIN:VEVENT
DTSTART;VALUE=DATE:20211028
DTEND;VALUE=DATE:20211129
DTSTAMP:20260421T060740
CREATED:20211021T160306Z
LAST-MODIFIED:20211201T105440Z
UID:293425-1635379200-1638143999@www.eventiintoscana.it
SUMMARY:Festa del tortello\, tartufo e antichi sapori del Mugello - Lago Viola\, Vicchio (Firenze)
DESCRIPTION:Dal 28 ottobre al 28 novembre nuovi appuntamenti al Lago Viola di Barbiana\, a Vicchio\, per la Festa del tortello\, tartufo e antichi sapori del Mugello.\nQuesti i giorni interessati dalla manifestazione (da giovedì a domenica): \ndal 28 al 31 ottobre \n1 novembre \ndal 4 al 7 novembre \ndall’11 al 14 novembre \ndal 18 al 21 novembre \ndal 25 al 28 novembre \nSi potranno assaggiare tortelli e tagliatelle conditi con tartufo\, ragù toscano e porcini\, ma anche piatti tipici come  trippa\, lonza\, lampredotto\, zuppa di cipolle\, lesso rifatto\, bistecca\, rosticciana e maialino al forno.  \nTutte le sere pizza.  \n\nInfo e prenotazioni: 055.0741103 – 350.193361
URL:https://www.eventiintoscana.it/evento/festa-del-tortello-tartufo-e-antichi-sapori-del-mugello-lago-viola-vicchio-firenze
CATEGORIES:Firenze,Rassegne e Sagre
ATTACH;FMTTYPE=image/jpeg:https://www.eventiintoscana.it/wp-content/uploads/2021/10/Festa-del-tortello-tartufo-e-sapori-del-Mugello-Lago-Viola-Vicchio.jpg
END:VEVENT
BEGIN:VEVENT
DTSTART;VALUE=DATE:20211107
DTEND;VALUE=DATE:20211129
DTSTAMP:20260421T060740
CREATED:20211102T162810Z
LAST-MODIFIED:20211201T105435Z
UID:293892-1636243200-1638143999@www.eventiintoscana.it
SUMMARY:Festa dell'olio - Montemurlo (Prato)
DESCRIPTION:Quest’anno la festa dell’olio di Montemurlo è prevista per domenica 21 novembre presso la Rocca di Montemurlo. \nQuesto il programma:\nApertura del frantoio della Azienda Agricola Felice Agricoltura e vendita di prodotti propri \nDalle Ore 7:00 il ristorante Taverna della Rocca è aperto per le colazioni (cornetti caldi e quant’altro) per le merende e per la degustazione di dolci di “Nonna Papera”. \nore 9:00 Stand delle Associazioni\, Mercatino tipico e dell’Antiquariato \nore 9:30 Esposizione degli olii prodotti dalle aziende agricole di Montemurlo \nStand della Associazione Filiera corta di Montemurlo \nMostre varie e Stemmi delle famiglie montemurlesi dipinti a mano dagli allievi del Liceo artistico Brunelleschi di Montemurlo \nore 10:00 Visita accompagnata: “A SPASSO NEL BORGO” con visita alla Pieve e apertura straordinaria del Giardino e delle cantine del Castello con Scenografie medioevali del Gruppo Storico Montemurlo \nore 11:00 Presso la Canonica della Pieve: apertura degli stand tradizionali della Festa dell’olio (fettunta\, minestra di pane\, tortelli\, salsicce e fagioli\, vino novello\, frugiate\, dolci vari)\, e il chiosco del porchettaio\, lampredottaio e trippaio. \nOre 11:00 “Granacci: 500 anni di un capolavoro” a cura di Cinzia Menichetti \ndalle 12:30 Desinare nel campo con tipico menù dei contadini “quando tutti s’era nel campo e le donne ci preparavano pane e companatico e dietro buon vino” \nDalle 12:30 Il ristorante Taverna della Rocca propone il menù alla carta con tutte le sue specialità applicando uno sconto del 15% sul totale e la degustazione dei prodotti del “Poggiolino” con i suoi piatti di affettati e formaggi delle colline Montemurlesi ormai famosi in tutta la toscana e fuori. La pizzeria sarà aperta tutto il giorno. \nPer prenotazioni Marchese Alfio 328 9857707 e 0574/680459 e 798109. \nDalle 14:00 I Maggiaioli di Bagnolo \nOre 15:00 Concerto di S. Cecilia nei giardini della Rocca (nella Pieve in caso di maltempo) a cura della Filarmonica G. Verdi \nOre 18:00 Ringraziamenti delle autorità \n\nRicco come sempre il calendario di iniziative che precedono la festa.\nDOMENICA 7 NOVEMBRE\nApertura del frantoio della Azienda Agricola Felice Agricoltura e vendita di prodotti propri\nOre 11:00 Inaugurazione mostra personale Alessandro Mattei in Compagnia\nOre 13:00 Pranzo in canonica\nDalle ore 14:00 Degustazioni varie e inaugurazione dell’Orto del Prete\nSala Banti 16:30 Spettacolo teatrale: Mamma ho perso una taglia (con la partecipazione della Ass. Filiera Corta) \nGIOVEDÌ 11 NOVEMBRE – PIEVE DI S. GIOVANNI DECOLLATO – S. MARTINO PATRONO DEL VOLONTARIATO\nore 21:00 S. Messa con la partecipazione delle Associazioni \nSABATO 13 NOVEMBRE – SALA BANTI – INAUGURAZIONE DELLA FESTA DELL’OLIO \n16:00 Inaugurazione del 13° Concorso di pittura a cura di Marta Carlesi e mostra delle opere presentate \nDOMENICA 14 NOVEMBRE – GIORNATA DEL CAMMINO – PIAZZA DEL CASTELLO \nDalle Ore 7:00 Il ristorante Taverna della Rocca è aperto per le colazioni (cornetti caldi e quant’altro) per le merende e per la degustazione di dolci di “Nonna Papera”.\nApertura del frantoio della Azienda Agricola Felice Agricoltura e vendita di prodotti propri\nOre 9:00 Piazza del Castello: Mercatino prodotti dell’artigianato e dell’ingegno\nDalle ore 11:00 Degustazioni varie in canonica: fettunta\, panini e castagne\nOre 9:00 Passeggiata fra i luoghi di culto a cura di Cinzia Gianassi\nDalle 12:30 Pranzo tipico contadino presso la Canonica di Rocca con il “MENU DEL FRANTOIANO” \nDalle 12:30 Il ristorante Taverna della Rocca propone il menù alla carta con tutte le sue specialità applicando uno sconto del 15% sul totale e la degustazione dei prodotti del “Poggiolino” con i suoi piatti di affettati e formaggi delle colline Montemurlesi ormai famosi in tutta la toscana e fuori. La pizzeria sarà aperta tutto il giorno\nPer prenotazioni Marchese Alfio 328 9857707 e 0574/680459 e 798109. \nOre 16:00 Magie con le carte: “Liscio come l’olio – magie con la matematica” a cura di Brunetto Piochi \nVENERDÌ 19 NOVEMBRE – Frantoio della Azienda Agricola Felice Agricoltura \nCONCORSO OLIO Ore 20:00 Assaggio degli oli presentati – Concorso Olio di Casa Nostra a cura di Massimo Gori\nAperitivo\nOre 21:00 La “Cena della Festa dell’Olio” presso il ristorante La Taverna della Rocca. Per le prenotazioni Alfio 328 9857707 e 0574/680459 \, Alessandro 3478627809 \nSABATO 20 NOVEMBRE\nARTE E OLIO – ROCCA E PIEVE DI S. GIOVANNI DECOLLATO\nOre 16\,00 Cantine della Rocca: Presentazione del libro “Montemurlo” di Lombardo e Santoni\nOre 18:00 Compagnia\, Pieve di S. Giovanni Decollato: Presentazione del presepe dell’ass. Il Borgo della Rocca inserito nel circuito “TERRE DI PRESEPI”. \nOre 20\,00 CENA IN CANONICA \n  \nSABATO 27 NOVEMBRE – CHIUSURA DELLA FESTA \nore 11\,00 Premiazioni relative ai Concorsi abbinati alla Festa dell’Olio.\nPresentazione del CALENDARIO 2021 promosso dalla Teleidea di Montemurlo\nOre 13:00 Pranzo di chiusura \n  \nLa manifestazione è organizzata dal comitato Festa Dell’Olio insieme al comune di Montemurlo. \n 
URL:https://www.eventiintoscana.it/evento/festa-dellolio-montemurlo-prato-2
CATEGORIES:Prato,Rassegne e Sagre
ATTACH;FMTTYPE=image/jpeg:https://www.eventiintoscana.it/wp-content/uploads/2021/11/Festa-olio-Montemurlo.jpg
END:VEVENT
BEGIN:VEVENT
DTSTART;TZID=Europe/Rome:20211111T190000
DTEND;TZID=Europe/Rome:20211120T233000
DTSTAMP:20260421T060740
CREATED:20211109T163713Z
LAST-MODIFIED:20211118T213120Z
UID:294167-1636657200-1637451000@www.eventiintoscana.it
SUMMARY:Festa dell'hamburger artigianale - Birreria Overkill\, Firenze
DESCRIPTION:Da giovedì 11 a sabato 13 e da giovedì 18 a sabato 20 novembre a Firenze la Birreria Overkill organizza una Festa dell’hamburger originale. \nGli hamburger vengono preparati artigianalmente dal Macellaio di Overkill con impasti di carne macinata molto particolari. \nAll’ottima carne vengono aggiunti vari ingredienti come zucchine e pancetta\, speck e Provola\, Mortadella e Pollo… insomma\, ce n’è per tutti i gusti! \n\n\n\nLa festa si svolge all’interno del pub dalle 19.00 alle 24.00. \n\nInfo:  over.kill@virgilio.it \nPagina Facebook
URL:https://www.eventiintoscana.it/evento/festa-dellhamburger-artigianale-birreria-overkill-firenze
CATEGORIES:Firenze,Rassegne e Sagre
ATTACH;FMTTYPE=image/jpeg:https://www.eventiintoscana.it/wp-content/uploads/2020/01/streetfood_street-food_hamburger_pixabay.jpg
END:VEVENT
BEGIN:VEVENT
DTSTART;VALUE=DATE:20211113
DTEND;VALUE=DATE:20211122
DTSTAMP:20260421T060740
CREATED:20211102T152002Z
LAST-MODIFIED:20211118T213748Z
UID:293876-1636761600-1637539199@www.eventiintoscana.it
SUMMARY:Sagra della polenta e cinghiale - Castelfranco di Sotto (Pisa)
DESCRIPTION:Nei due fine settimana del 13-14 e 20-21 novembre la Contrada San Bartolomeo a Paterno organizza a Castelfranco di Sotto la 12ª edizione della Sagra della Polenta e del Cinghiale.\n\nSabato 13 e 20 novembre a cena:\n1° turno ore 19.15\n2° turno 20.45\nServizio di asporto dalle ore 19.00\n\nDomenica 14 e 21 novembre a pranzo e a cena:\nPranzo\n1° turno ore 12.00\n2° turno ore 13.30\nServizio di asporto dalle ore 11.30\nCena\n1° turno ore 19.15\n2° turno 20.45\nServizio di asporto dalle ore 19.00\nLa sagra si svolgerà nei locali della Contrada San Bartolomeo\, via Fratelli Rosselli 6\, Castelfranco di Sotto.\n\n— MENÙ —\nANTIPASTI\nAntipasto Toscano Classico\nAntipasto Toscano Polentato\nPRIMI PIATTI\nPenne e Polenta:\nGrana e olio bono\nRagù\nCinghiale\nPorri e Pancetta\nFunghi e Salsiccia\nVerdure\nSECONDI PIATTI\nCinghiale in umido\nBistecca\nArrosto misto\nSalsicce\nPolenta e wurstel\nGalletto al mattone\nCONTORNI\nPolenta fritta\nPatatine fritte\nFagioli\nDOLCI\n— Tutti i piatti sono senza glutine o disponibili in versioni senza glutine —\nPRENOTAZIONE OBBLIGATORIA:\nSilvia 3285516327\n\n\n\nAll’ingresso della Sagra sarà controllato il GreenPass e chiunque rifiuti i controlli sarà allontanato dalla festa e non potrà accedere. Potranno accedere solo le persone con valida prenotazione.\nObbligatorio utilizzo della mascherina che potrà essere tolta solo quando seduti al proprio tavolo.\n\n\nPagina Facebook
URL:https://www.eventiintoscana.it/evento/sagra-della-polenta-e-cinghiale-castelfranco-di-sotto-pisa
CATEGORIES:Pisa,Rassegne e Sagre
ATTACH;FMTTYPE=image/jpeg:https://www.eventiintoscana.it/wp-content/uploads/2021/11/Sagra-polenta-e-cinghiale.jpg
END:VEVENT
BEGIN:VEVENT
DTSTART;VALUE=DATE:20211113
DTEND;VALUE=DATE:20211122
DTSTAMP:20260421T060740
CREATED:20211112T213355Z
LAST-MODIFIED:20211127T071208Z
UID:294246-1636761600-1637539199@www.eventiintoscana.it
SUMMARY:Sagra del cinghiale - Riparbella (Pisa)
DESCRIPTION:Nei due fine settimana del 13-14 e 20-21 novembre\, appuntamento a Riparbella con la Sagra del cinghiale. \nIl programma  \nIl menù
URL:https://www.eventiintoscana.it/evento/sagra-del-cinghiale-riparbella-pisa-2
CATEGORIES:Pisa,Rassegne e Sagre
ATTACH;FMTTYPE=image/jpeg:https://www.eventiintoscana.it/wp-content/uploads/2021/11/Sagra-del-cinghiale-Riparbella-Pisa.jpg
END:VEVENT
BEGIN:VEVENT
DTSTART;TZID=Europe/Rome:20211113T193000
DTEND;TZID=Europe/Rome:20211121T233000
DTSTAMP:20260421T060740
CREATED:20211112T203928Z
LAST-MODIFIED:20211127T071150Z
UID:294224-1636831800-1637537400@www.eventiintoscana.it
SUMMARY:November Fest - Castiglion Fiorentino (Arezzo)
DESCRIPTION:Il 13 e 14 Novembre e dal 19 al 21 Novembre\, nella consueta location della Polisportiva Montecchio Vesponi di Castiglion Fiorentino\, c’è il November Fest. \nDalle 19:30 in poi apertura degli stand gastronomici e della “GREEN AREA” (Birreria e cocktail bar all’aperto) \nINGRESSO SOLO SU PRENOTAZIONE / CAPIENZA LIMITATA \nCome da disposizioni governative\, per accedere all’interno dei locali vige l’obbligo di Green Pass e mascherina. \nI locali in cui si svolge il NovemberFest sono come sempre coperti e riscaldati. \nPRENOTAZIONE OBBLIGATORIA AL 3400080234
URL:https://www.eventiintoscana.it/evento/november-fest-castiglion-fiorentino-arezzo
CATEGORIES:arezzo,Rassegne e Sagre
ATTACH;FMTTYPE=image/jpeg:https://www.eventiintoscana.it/wp-content/uploads/2021/11/November-Fest-Castiglion-Fiorentino.jpg
END:VEVENT
BEGIN:VEVENT
DTSTART;VALUE=DATE:20211116
DTEND;VALUE=DATE:20211201
DTSTAMP:20260421T060740
CREATED:20211117T211204Z
LAST-MODIFIED:20211201T105425Z
UID:294315-1637020800-1638316799@www.eventiintoscana.it
SUMMARY:La disfida del testarolo - Luoghi vari in Lunigiana (Massa-Carrara)
DESCRIPTION:Quale sarà il migliore testarolo della Lunigiana che proverà a scalzare quello che nel 2019 trionfò nella prima edizione della disfida? \nA deciderlo ci prova\, ovviamente sotto forma di simpatica tenzone\, ancora una volta Confesercenti Toscana Nord con la seconda edizione della “Disfida del Testarolo”\, dopo che due anni fa a vincere fu il piatto dell’Osteria Mezzacollina di Gavedo di Mulazzo . \nUna iniziativa che rientra nel progetto di Vetrina Toscana ed è finanziato da Regione Toscana e dalla Camera di Commercio di Massa Carrara. \nEcco i locali in lizza e l’orario delle degustazioni da parte della giuria.\nMartedì 16 novembre a Bagnone: Locanda La Lina alle 12 e Ristorante Gugù alle 14. \nGiovedì 18 a Pontremoli: ore 12 Osteria San Francesco e il lupo\, ore 14 Agriturismo Filippi \nmartedì 23 alle 12 Ristorante Caveau del teatro e alle 14 Osteria Da Bussè. \nGiovedì 25 a Filattiera: ore 12 Agriturismo La Vecchia Cascina e alle 14 Ristorante Il Cantinon. \nMartedì 30 a Fosdinovo: alle 12 Agriturismo La Burlanda e alle 14 Agriturismo La Maestà.
URL:https://www.eventiintoscana.it/evento/la-disfida-del-testarolo-luoghi-vari-in-lunigiana-massa-carrara
CATEGORIES:Massa e Carrara,Rassegne e Sagre
ATTACH;FMTTYPE=image/jpeg:https://www.eventiintoscana.it/wp-content/uploads/2021/11/La-disfida-del-testarolo.jpg
END:VEVENT
END:VCALENDAR