BEGIN:VCALENDAR
VERSION:2.0
PRODID:-//Eventi in Toscana By Toscana Tascabile - ECPv6.15.12.2//NONSGML v1.0//EN
CALSCALE:GREGORIAN
METHOD:PUBLISH
X-ORIGINAL-URL:https://www.eventiintoscana.it
X-WR-CALDESC:Eventi per Eventi in Toscana By Toscana Tascabile
REFRESH-INTERVAL;VALUE=DURATION:PT1H
X-Robots-Tag:noindex
X-PUBLISHED-TTL:PT1H
BEGIN:VTIMEZONE
TZID:Europe/Rome
BEGIN:DAYLIGHT
TZOFFSETFROM:+0100
TZOFFSETTO:+0200
TZNAME:CEST
DTSTART:20250330T010000
END:DAYLIGHT
BEGIN:STANDARD
TZOFFSETFROM:+0200
TZOFFSETTO:+0100
TZNAME:CET
DTSTART:20251026T010000
END:STANDARD
BEGIN:DAYLIGHT
TZOFFSETFROM:+0100
TZOFFSETTO:+0200
TZNAME:CEST
DTSTART:20260329T010000
END:DAYLIGHT
BEGIN:STANDARD
TZOFFSETFROM:+0200
TZOFFSETTO:+0100
TZNAME:CET
DTSTART:20261025T010000
END:STANDARD
BEGIN:DAYLIGHT
TZOFFSETFROM:+0100
TZOFFSETTO:+0200
TZNAME:CEST
DTSTART:20270328T010000
END:DAYLIGHT
BEGIN:STANDARD
TZOFFSETFROM:+0200
TZOFFSETTO:+0100
TZNAME:CET
DTSTART:20271031T010000
END:STANDARD
END:VTIMEZONE
BEGIN:VEVENT
DTSTART;TZID=Europe/Rome:20260321T120000
DTEND;TZID=Europe/Rome:20260405T230000
DTSTAMP:20260421T041808
CREATED:20260326T162004Z
LAST-MODIFIED:20260326T162004Z
UID:324007-1774094400-1775430000@www.eventiintoscana.it
SUMMARY:Sagra del Tortello e della Ficattola\, Scarperia
DESCRIPTION:Dopo i 2 ultimi week end di marzo continua anche il week pasquale a Scarperia la tradizionale Sagra del Tortello e della Ficattola\, in programma il 4 e 5 aprile presso il campo sportivo Le Cortine in via Matteotti. Un appuntamento molto atteso dagli amanti della cucina toscana\, dedicato a due specialità simbolo del territorio del Mugello: i tortelli preparati secondo la ricetta della tradizione e le gustose ficattole fritte al momento. Durante la sagra\, organizzata dalla Asd Fortis Juventus\, sarà possibile gustare un ricco menù che valorizza i sapori genuini della cucina locale\, con grande spazio anche alle specialità di carne alla brace\, cotte sul momento e accompagnate da contorni e prodotti tipici. \nL’evento si svolge all’interno di un ampio locale coperto e riscaldato\, permettendo di partecipare e mangiare in compagnia anche in caso di maltempo. In occasione della Pasqua sarà proposto uno speciale menù festivo composto da ficattole con prosciutto crudo e stracchino\, tortelli al ragù\, carne alla brace\, dolce\, vino e acqua\, per celebrare la giornata con i sapori autentici della tradizione toscana. Un’occasione perfetta per trascorrere momenti conviviali tra buon cibo e atmosfera di festa. \n\nInfo: 333.5438336 \n 
URL:https://www.eventiintoscana.it/evento/sagra-del-tortello-e-della-ficattola-scarperia
CATEGORIES:Firenze,Rassegne e Sagre
ATTACH;FMTTYPE=image/png:https://www.eventiintoscana.it/wp-content/uploads/2026/03/sagra-del-tortello-e-della-ficattola-a-scarperia-2026.png
END:VEVENT
BEGIN:VEVENT
DTSTART;TZID=Europe/Rome:20260404T100000
DTEND;TZID=Europe/Rome:20260406T200000
DTSTAMP:20260421T041808
CREATED:20260222T104538Z
LAST-MODIFIED:20260403T150746Z
UID:323428-1775296800-1775505600@www.eventiintoscana.it
SUMMARY:Mostra mercato del tartufo marzuolo\, Volterra
DESCRIPTION:A Volterra si rinnova l’appuntamento con la Mostra mercato del tartufo marzuolo\, in programma sabato 4\, domenica 5 e lunedì 6 aprile\, nel fine settimana di Pasqua. Giunta alla tredicesima edizione\, la manifestazione inaugura la ‘primavera del gusto’ toscana con tre giorni dedicati alle eccellenze del territorio. Dalle 10 alle 20\, le Logge di Piazza dei Priori diventano il cuore dell’evento\, con stand di artigiani del gusto tra degustazioni e vendita: protagonista il tartufo marzuolo\, affiancato da formaggi\, salumi\, olio\, vino\, birra e dolci tipici. A completare l’offerta\, da sabato alle ore 15\, la Festa del Cioccolato in Piazza San Giovanni con maestri cioccolatieri provenienti da tutta Italia. Numerose le iniziative collaterali diffuse in città: sabato 4 aprile alle 15 la passeggiata ‘I paesaggi del cibo’ tra le valli\, mentre dalle 18 alle 21 spazio a giochi e animazioni per bambini. Domenica 5 e lunedì 6 alle 10 si potrà partecipare alle simulazioni di caccia al tartufo\, mentre lunedì 6 il centro storico ospita il corteo ‘Omaggio di primavera’ alle 11.30 e\, dalle 15.30\, una caccia alle uova dedicata ai più piccoli. Per tutta la durata della manifestazione sono visitabili mostre e mercatini di artigianato\, in un programma che offre numerose occasioni per scoprire il patrimonio storico e culinario della città. \n\nInfo: 0588.87257 – www.volterratur.it
URL:https://www.eventiintoscana.it/evento/mostra-mercato-del-tartufo-marzuolo-volterra
CATEGORIES:Pisa,Rassegne e Sagre
ATTACH;FMTTYPE=image/png:https://www.eventiintoscana.it/wp-content/uploads/2026/02/Mostra-mercato-tartufo-marzuolo-2026.png
END:VEVENT
BEGIN:VEVENT
DTSTART;VALUE=DATE:20260406
DTEND;VALUE=DATE:20260407
DTSTAMP:20260421T041808
CREATED:20260328T140704Z
LAST-MODIFIED:20260403T145515Z
UID:324241-1775433600-1775519999@www.eventiintoscana.it
SUMMARY:Super Picnic\, Firenze
DESCRIPTION:Il 6 aprile\, dalle 11 alle 20\, all’Ippodromo del Visarno di Firenze arriva Super Picnic organizzato da Le Nozze di Figaro: si tratta di una giornata all’aria aperta pensata per vivere la città in modo diverso e rilassato. L’evento\, a ingresso gratuito su prenotazione\, trasforma il grande prato dell’ippodromo in un enorme spazio di condivisione con una maxi-coperta di oltre 300 mq. dove stendersi\, incontrarsi e godersi la primavera. Durante la giornata non mancheranno musica dal vivo e dj set\, un’area dedicata allo street food con proposte per tutti i gusti\, attività sportive (con campo da pallavolo e tavoli da ping pong) e momenti di intrattenimento per grandi e piccoli. Tra le attrazioni anche il Car Bazar\, uno spazio dedicato a chi vuole svuotare la cantina e partecipare a un mercato informale\, accessibile e divertente. Super Picnic è pensato come un grande momento di socialità e divertimento\, dove relax\, buon cibo e musica si uniscono per creare un’atmosfera informale e festosa nel cuore verde della città. \n\nInfo e pren.: 055.218647 – www.lndf.it – info@visarnoarena.it
URL:https://www.eventiintoscana.it/evento/super-picnic-firenze
CATEGORIES:Firenze,Rassegne e Sagre
ATTACH;FMTTYPE=image/jpeg:https://www.eventiintoscana.it/wp-content/uploads/2026/03/pic-nic.jpg
END:VEVENT
BEGIN:VEVENT
DTSTART;TZID=Europe/Rome:20260410T110000
DTEND;TZID=Europe/Rome:20260412T233000
DTSTAMP:20260421T041808
CREATED:20260320T160505Z
LAST-MODIFIED:20260321T112958Z
UID:323759-1775818800-1776036600@www.eventiintoscana.it
SUMMARY:Food and Street\, Scandicci
DESCRIPTION:Dal 10 al 12 aprile 2026 il Piazzale della Resistenza si trasforma in un grande villaggio del gusto con Scandicci Food & Street\, l’evento organizzato da Confcommercio Firenze e Arezzo con il patrocinio del Comune di Scandicci e della Camera di Commercio di Firenze. La manifestazione celebra lo street food internazionale e la convivialità. Per tre giorni\, dalle 11 del mattino fino a mezzanotte\, il cuore di Scandicci si anima con decine di food truck (api car\, furgoncini e roulotte) pronti a proporre specialità provenienti da ogni parte del mondo. \nIl pubblico potrà intraprendere un vero e proprio viaggio gastronomico tra sapori e profumi dei diversi continenti: dalle ricette più amate della tradizione italiana\, come ad esempio il lampredotto fiorentino\, i panini con hamburger di maremmana\, il cannolo e gli arancini siciliani\, le tigelle e lo gnocco fritto emiliani\, alle proposte internazionali tra le quali la Pita Gyros greca\, passando per piatti esotici dall’India al Giappone\, ma anche grandi classici come il pulled pork americano. Accanto alle cucine su ruote saranno presenti anche birrifici artigianali con una selezione di birre di qualità\, perfette da degustare insieme alle tante specialità proposte\, oltre a stand con prodotti tipici e specialità gastronomiche. \nOltre 600 metri quadrati di erba saranno installati in piazzale della Resistenza con olivi secolari e sedute ecosostenibili. A rendere l’atmosfera ancora più coinvolgente ci penseranno musica\, animazioni e momenti di intrattenimento pensati per tutte le età. Famiglie\, giovani e gruppi di amici potranno vivere un’esperienza all’insegna del gusto\, della socialità e del divertimento all’aria aperta. Scandicci Food & Street si conferma così un appuntamento imperdibile della primavera\, capace di unire cultura gastronomica\, street food\, musica e convivialità in un grande evento aperto a tutti. \n\nInfo: 055.0171276 –  https://progetti.confcommercio.ar.it/scandicci/ –  www.facebook.com/scandiccifoodestreet/ \n  \n \n  \n \n  \n \n  \n \n  \n \n  \n \n 
URL:https://www.eventiintoscana.it/evento/food-and-street-scandicci-2
CATEGORIES:Firenze,Rassegne e Sagre
ATTACH;FMTTYPE=image/jpeg:https://www.eventiintoscana.it/wp-content/uploads/2026/03/scandicci-food-and-street.jpg
END:VEVENT
BEGIN:VEVENT
DTSTART;TZID=Europe/Rome:20260410T190000
DTEND;TZID=Europe/Rome:20260412T150000
DTSTAMP:20260421T041808
CREATED:20260328T150610Z
LAST-MODIFIED:20260403T150928Z
UID:324254-1775847600-1776006000@www.eventiintoscana.it
SUMMARY:Sagra del tartufo marzuolo\, Ponte a Egola
DESCRIPTION:A Ponte a Egola torna la Sagra del tartufo marzuolo\, in programma il 10\, l’11 solo a cena e il 12 aprile a pranzo nei locali dell’Associazione culturale La Ruga. Tre giorni all’insegna del gusto e della tradizione\, con il profumo del tartufo protagonista assoluto. L’iniziativa\, organizzata dal Comitato Palio del Cuoio\, riunisce i rioni del paese in un appuntamento che sposa cucina e spirito di comunità. Nei locali di via 1° Maggio\, piatti tipici e specialità a base di tartufo accompagneranno i visitatori per tutto il fine settimana. Non solo gastronomia\, ma anche un’occasione per vivere l’atmosfera del celebre Palio che si tiene a fine giugno e condividere momenti conviviali. \n\nInfo: 351.4106613 – www.laruga.it
URL:https://www.eventiintoscana.it/evento/sagra-del-tartufo-marzuolo-ponte-a-egola
CATEGORIES:Pisa,Rassegne e Sagre
ATTACH;FMTTYPE=image/jpeg:https://www.eventiintoscana.it/wp-content/uploads/2026/03/PI_P.aEgola_MARZUOLO-LA-RUGA_pag.jpg
END:VEVENT
BEGIN:VEVENT
DTSTART;TZID=Europe/Rome:20260411T190000
DTEND;TZID=Europe/Rome:20260419T230000
DTSTAMP:20260421T041808
CREATED:20260225T152119Z
LAST-MODIFIED:20260403T150618Z
UID:323640-1775934000-1776639600@www.eventiintoscana.it
SUMMARY:Sagra del fritto misto\, Scarperia
DESCRIPTION:L’edizione 2026 della Sagra del fritto misto di Scarperia è programmata per i due weekend centrali di aprile: sabato 11 e domenica 12\, sabato 18 e domenica 19. Sarà possibile assaporare il gran fritto toscano\, i tortelli mugellani di patate e le carni alla brace\, preparati secondo ricette locali e accompagnati da altri piatti tipici della cucina del Mugello. La cucina è aperta il sabato a cena (dalle ore 19)\, mentre la domenica sia a pranzo (dalle ore 12) che a cena. La sagra si svolge nella struttura del Circolo MCL (via San Martino 16)\, dove gli ospiti possono gustare specialità locali in un’area accogliente. La manifestazione si accompagna ad attività collaterali come mercatini di artigianato e collezionismo\, iniziative culturali nel centro storico del borgo e la possibilità di visitare il Palazzo dei Vicari e il Museo dei Ferri Taglienti. \n\nInfo: 055.8468165 – www.prolocoscarperia.it \n  \n \n 
URL:https://www.eventiintoscana.it/evento/sagra-del-fritto-misto-scarperia-2
CATEGORIES:Firenze,Rassegne e Sagre
ATTACH;FMTTYPE=image/jpeg:https://www.eventiintoscana.it/wp-content/uploads/2026/02/Sagra-fritto-misto-Scarperia.jpg
END:VEVENT
BEGIN:VEVENT
DTSTART;VALUE=DATE:20260412
DTEND;VALUE=DATE:20260413
DTSTAMP:20260421T041808
CREATED:20260328T144214Z
LAST-MODIFIED:20260403T145801Z
UID:324251-1775952000-1776038399@www.eventiintoscana.it
SUMMARY:Profumi di Lari\, Lari
DESCRIPTION:A Lari torna Profumi di Lari\, la rassegna dedicata alla fioritura dei ciliegi\, in programma domenica 12 aprile a partire dalle 10.30. Una giornata tra natura\, gastronomia e cultura nel borgo patria della Ciliegia di Lari Igp. Il programma si articola in diversi percorsi tra cui scegliere: visite ai ciliegi in fiore\, tour guidati del borgo e delle eccellenze locali\, tappe al pastificio e al liquorificio\, oltre alla scoperta del Castello dei Vicari. Non mancano proposte dinamiche come la pedalata o la passeggiata di circa 6 km tra le campagne\, con partenza anche nel pomeriggio (ore 14.30). I percorsi includono\, in molti casi\, il pranzo sotto le logge del mercato o tra i ciliegi\, con quote a partire da 5 euro fino a 30 euro a seconda delle attività scelte (riduzioni per bambini). Consigliate scarpe comode per raggiungere le aree di fioritura. \n\nInfo e pren.: 353.3455164 – vivilariassociazione@gmail.com
URL:https://www.eventiintoscana.it/evento/profumi-di-lari-lari
CATEGORIES:Pisa,Rassegne e Sagre
ATTACH;FMTTYPE=image/jpeg:https://www.eventiintoscana.it/wp-content/uploads/2026/03/Profumi-di-Lari-v.2.jpg
END:VEVENT
BEGIN:VEVENT
DTSTART;TZID=Europe/Rome:20260417T110000
DTEND;TZID=Europe/Rome:20260420T233000
DTSTAMP:20260421T041808
CREATED:20260325T151546Z
LAST-MODIFIED:20260403T145855Z
UID:323883-1776423600-1776727800@www.eventiintoscana.it
SUMMARY:Wine & Spirits Festival\, Prato
DESCRIPTION:Dal 17 al 20 aprile torna Wine & Spirits Festival\, l’evento giunto alla quarta edizione che celebra l’eccellenza vinicola italiana. La manifestazione si svolge nel centro storico di Prato\, presso il suggestivo Palazzo Vaj (via Pugliesi\, 26). I visitatori potranno degustare gli oltre 100 vini provenienti da 20 regioni delle 30 cantine ospitate\, ma anche gli amari e i distillati in un’area esterna dedicata. Gli altri stand\, invece\, offriranno proposte culinarie in abbinamento ai vini\, mentre al Wine Shop sarà possibile acquistare le migliori etichette con l’assistenza di esperti sommelier. Orari: venerdì 18-24; sabato 15-24; domenica 12-23 e lunedì 11-18 (riservato agli addetti ai lavori). \n\nInfo: 331.4417741 – www.facebook.com/pratowine
URL:https://www.eventiintoscana.it/evento/wine-spirits-festival-prato
CATEGORIES:Prato,Rassegne e Sagre
ATTACH;FMTTYPE=image/jpeg:https://www.eventiintoscana.it/wp-content/uploads/2026/03/prato-wine-festival.jpg
END:VEVENT
BEGIN:VEVENT
DTSTART;TZID=Europe/Rome:20260418T103000
DTEND;TZID=Europe/Rome:20260419T190000
DTSTAMP:20260421T041808
CREATED:20260326T152853Z
LAST-MODIFIED:20260403T150537Z
UID:323963-1776508200-1776625200@www.eventiintoscana.it
SUMMARY:Sangiovese Festival\, San Giovanni Valdarno
DESCRIPTION:Il Sangiovese Festival di San Giovanni Valdarno\, evento enogastronomico e culturale dedicato al vitigno Sangiovese\, re dei vini rossi dell’Italia centrale\, è in programma sabato 18 e domenica 19 aprile nel centro storico della cittadina in provincia di Arezzo. L’iniziativa vuole celebrare\, raccontare e far conoscere il Sangiovese attraverso degustazioni\, mercato di vini\, masterclass\, talk\, musica e spettacoli diffusi nelle piazze principali come Piazza Cavour e Piazza Masaccio. \nIl festival trasforma la città in un grande palcoscenico per appassionati\, turisti e operatori del settore. Oltre alla degustazione di numerose etichette prodotte da cantine italiane e internazionali\, si alternano momenti di approfondimento sul vitigno\, incontri con esperti e professionisti del mondo del vino\, food truck con specialità gastronomiche e attività di intrattenimento musicale e culturale. L’evento non è solo una fiera mercato: è pensato come un’esperienza collettiva che fonde gusto\, convivialità e scoperta territoriale. Il pubblico può partecipare a sessioni di degustazione guidata\, scoprire le caratteristiche diverse del Sangiovese nei vari territori di produzione e confrontarsi con produttori e sommelier. Il programma include inoltre spazi dedicati a talk tematici\, performance dal vivo e iniziative legate alla cultura del vino. \nOrganizzato dal Comune di San Giovanni Valdarno con il sostegno di partner istituzionali e associazioni di categoria\, il Sangiovese Festival rappresenta una vetrina per promuovere la viticoltura locale e nazionale\, valorizzare l’identità del territorio e offrire ai visitatori un’esperienza ricca e coinvolgente nel cuore della primavera toscana. \n\nInfo: 055.9126268 – www.sangiovesefestival.it \n  \n \n 
URL:https://www.eventiintoscana.it/evento/323963
CATEGORIES:arezzo,Rassegne e Sagre
ATTACH;FMTTYPE=image/jpeg:https://www.eventiintoscana.it/wp-content/uploads/2026/03/sangiovese.jpg
END:VEVENT
BEGIN:VEVENT
DTSTART;TZID=Europe/Rome:20260423T080000
DTEND;TZID=Europe/Rome:20260426T233000
DTSTAMP:20260421T041808
CREATED:20260325T152615Z
LAST-MODIFIED:20260403T150015Z
UID:323889-1776931200-1777246200@www.eventiintoscana.it
SUMMARY:Festa del Carciofo\, Chiusure
DESCRIPTION:Da giovedì 23 a domenica 26 aprile\, torna la Festa del carciofo\, la tradizionale sagra che si svolge ogni anno a Chiusure\, caratteristico borgo nel comune di Asciano\, durante il ponte del 25 aprile. Le specialità dell’evento sono ovviamente i carciofi\, presentati nel menù in diverse modalità: dalla zuppa alla pasta al sugo di carciofo\, passando dagli sfiziosi carciofi fritti e arrivando perfino al singolare spritz al carciofo. La manifestazione\, inoltre\, propone stand con interessanti prodotti tipici locali e numerose attività all’aperto tra passeggiate in mezzo a paesaggi mozzafiato\, trekking del carciofo\, tour in Mountain bike\, laboratori per grandi e bambini ed esibizioni di gruppi folkloristici insieme a concerti e dj set. \n\nInfo: 0577.718666 – 320.0787722 – www.prolocoasciano.it
URL:https://www.eventiintoscana.it/evento/festa-del-carciofo-chiusure
CATEGORIES:Rassegne e Sagre,Siena
ATTACH;FMTTYPE=image/png:https://www.eventiintoscana.it/wp-content/uploads/2026/03/festa-del-carciofo.png
END:VEVENT
BEGIN:VEVENT
DTSTART;TZID=Europe/Rome:20260424T160000
DTEND;TZID=Europe/Rome:20260426T190000
DTSTAMP:20260421T041808
CREATED:20260325T153122Z
LAST-MODIFIED:20260403T150047Z
UID:323892-1777046400-1777230000@www.eventiintoscana.it
SUMMARY:Orcia Wine Festival\, San Quirico d’Orcia
DESCRIPTION:In arrivo la 15ª edizione di Orcia Wine Festival\, la mostra mercato del vino Orcia Doc promossa dal Comune di San Quirico d’Orcia in collaborazione con il Consorzio del Vino Orcia e in programma da venerdì 24 a domenica 26 aprile. L’evento avrà inizio venerdì 24 alle ore 16 nelle sale di Palazzo Chigi con la degustazione dei vini accompagnati dalla mostra mercato e terminerà domenica 26 alle ore 19. Oltre al banco d’assaggio\, durante la manifestazione sarà possibile partecipare a molte altre attività: dalla visita guidata ai monumenti del centro storico  alle esposizioni d’arte\, dal trekking al laboratorio di cucina e gaming per bambini e ragazzi. Un appuntamento da non perdere per tutti i wine lovers\, ma anche per chi vuole scoprire il territorio della Val d’Orcia e tutti i suoi prodotti. \n\nInfo: 0577.899728 – www.facebook.com/orciawinefestival
URL:https://www.eventiintoscana.it/evento/orcia-wine-festival-san-quirico-dorcia
CATEGORIES:Rassegne e Sagre,Siena
ATTACH;FMTTYPE=image/png:https://www.eventiintoscana.it/wp-content/uploads/2026/03/orcia-wine-festival.png
END:VEVENT
BEGIN:VEVENT
DTSTART;VALUE=DATE:20260425
DTEND;VALUE=DATE:20260426
DTSTAMP:20260421T041808
CREATED:20260325T151037Z
LAST-MODIFIED:20260403T150221Z
UID:323880-1777075200-1777161599@www.eventiintoscana.it
SUMMARY:De Gusto\, Serravalle Pistoiese
DESCRIPTION:Sabato 25 aprile a Serravalle Pistoiese torna l’evento De Gusto. I sapori del Montalbano. Un’intera giornata\, dalle ore 11 fino al tramonto\, con degustazioni guidate dei vini e prodotti tipici del territorio. Oltre all’intrattenimento musicale\, ci saranno le visite guidate al borgo medievale\, le prove di tiro con l’arco e l’open day di tennis. Mentre la Confraternita di Parte Guelfa accompagnerà i visitatori durante la visita alla Cappella del SS.Sacramento e San Lodovico. I vari produttori saranno pronti a presentare\, raccontare e far gustare le tante etichette dei loro vini. Inoltre\, da località Masotti e località Ponte di Serravalle\, dalle ore 12 alle 19.30 sarà disponibile un bus navetta per agevolare lo spostamento dei visitatori. \n\nInfo: 348.5103185 – www.stradadileonardo.it
URL:https://www.eventiintoscana.it/evento/de-gusto-serravalle-pistoiese
CATEGORIES:Pistoia,Rassegne e Sagre
ATTACH;FMTTYPE=image/jpeg:https://www.eventiintoscana.it/wp-content/uploads/2026/03/de-gusto.jpg
END:VEVENT
BEGIN:VEVENT
DTSTART;VALUE=DATE:20260425
DTEND;VALUE=DATE:20260426
DTSTAMP:20260421T041808
CREATED:20260326T161025Z
LAST-MODIFIED:20260403T150254Z
UID:323999-1777075200-1777161599@www.eventiintoscana.it
SUMMARY:Fiera del Gusto\, Fucecchio
DESCRIPTION:La Fiera del Gusto di Fucecchio\, manifestazione enogastronomica e meraviglioso mercato dei sapori\, torna il 25 aprile nel centro storico di Fucecchio\, promossa dalla Pro Loco di Fucecchio con il patrocinio del Comune e dell’UNPLI Toscana. L’evento celebra le tradizioni culinarie toscane con particolare attenzione alla norcineria locale\, ai formaggi\, ai vini\, al miele\, ai dolci e ad altri prodotti artigianali di qualità\, offrendo ai visitatori la possibilità di degustare e acquistare specialità agroalimentari tipiche della regione. \nLa Fiera si svolge per tutta la giornata in Piazza Montanelli e nelle vie circostanti\, con stand di produttori locali\, mercatini artigianali e apertura straordinaria dei negozi del Centro Commerciale Naturale\, creando un’atmosfera vivace e partecipata. Tra le iniziative collaterali si possono trovare gare culinarie\, come quella dedicata alla preparazione dello zuccherino fucecchiese\, show cooking con chef e produttori\, laboratori tematici e momenti di intrattenimento\, che rendono la Fiera una festa popolare rivolta a famiglie\, appassionati di cucina e turisti. Orario: dalle ore 9 alle 20. \n\nInfo: 0571.242717 – www.prolocofucecchio.it \n  \n \n 
URL:https://www.eventiintoscana.it/evento/fiera-del-gusto-fucecchio
CATEGORIES:Firenze,Rassegne e Sagre
ATTACH;FMTTYPE=image/jpeg:https://www.eventiintoscana.it/wp-content/uploads/2026/03/fiera-del-gusto.jpg
END:VEVENT
BEGIN:VEVENT
DTSTART;TZID=Europe/Rome:20260501T100000
DTEND;TZID=Europe/Rome:20260503T190000
DTSTAMP:20260421T041808
CREATED:20260326T155038Z
LAST-MODIFIED:20260417T093925Z
UID:323987-1777629600-1777834800@www.eventiintoscana.it
SUMMARY:Primi dei Primi\, Sansepolcro
DESCRIPTION:Torna la seconda edizione di Primi dei Primi\, il grande festival gastronomico dedicato ai primi piatti e alla cultura della pasta\, che anima Sansepolcro per tre giorni tra il 1 e il 3 maggio\, trasformando il borgo in un palcoscenico diffuso di gusto\, creatività e tradizione culinaria italiana. L’iniziativa\, promossa dal Comune di Sansepolcro con Confcommercio\, Terretrusche e altri partner istituzionali\, vuole valorizzare l’identità storica della città\, riconosciuta come una delle culle della pasta grazie alla prima produzione industriale del mondo iniziata nel 1827. \nIl centro storico diventa un grande laboratorio a cielo aperto dove si alternano degustazioni\, showcooking e Street Chef\, con oltre trenta chef ospiti – tra cui nomi stellati – che propongono interpretazioni classiche e moderne della pasta da gustare passeggiando tra piazze e vicoli. Il cuore dell’evento è spesso allestito con scenografie simboliche\, come un campo di grano in piazza Torre di Berta\, che richiama il legame profondo tra terra\, produzione e cucina. Accanto alle esperienze culinarie ci sono masterclass formative\, talk tematici sulla cultura alimentare\, laboratori per tutte le età\, mostre sulla storia del pastaio e installazioni artistiche che coinvolgono botteghe e vetrine del borgo. \nNon mancano momenti di convivialità come la Cena di Gala stellata in location d’eccezione\, il Pranzo della Domenica in stile conviviale e il “Pasta Party” serale con musica e atmosfera festosa. In tutto\, “Primi dei Primi” è pensato come un’esperienza multisensoriale che celebra la pasta italiana non solo come piatto gastronomico\, ma come simbolo identitario e culturale\, promuovendo stili di vita sani\, attenzione alle materie prime e inclusività anche per chi ha esigenze alimentari specifiche. \n\nInfo: 0575.606887 – www.primideiprimi.it \n 
URL:https://www.eventiintoscana.it/evento/primi-dei-primi-sansepolcro
CATEGORIES:arezzo,Rassegne e Sagre
ATTACH;FMTTYPE=image/jpeg:https://www.eventiintoscana.it/wp-content/uploads/2026/03/Primi-dei-Primi.jpg
END:VEVENT
BEGIN:VEVENT
DTSTART;TZID=Europe/Rome:20260501T120000
DTEND;TZID=Europe/Rome:20260510T233000
DTSTAMP:20260421T041808
CREATED:20260326T162705Z
LAST-MODIFIED:20260403T150415Z
UID:324011-1777636800-1778455800@www.eventiintoscana.it
SUMMARY:Sagra del Tortello e del Prugnolo\, Scarperia
DESCRIPTION:La Sagra del Tortello e del Prugnolo è una festa gastronomica primaverile che si tiene nel borgo di Scarperia\, organizzata dall’Asd Pattinaggio Mugello presso il Circolo MCL di via San Martino. L’evento si tiene i primi due week end di maggio: venerdì 1\, sabato 2 e domenica 3\, sabato 9 e domenica 10. La sagra celebra due eccellenze della cucina mugellana: i tortelli di patate fatti a mano\, simbolo della tradizione contadina locale\, e il prugnolo\, il prelibato fungo selvatico primaverile tipico delle colline toscane. \nNelle serate del sabato dalla cena e delle domeniche e festivi anche a pranzo\, gli stand gastronomici riscaldati del Circolo MCL offrono questi piatti insieme ad altre specialità tipiche\, in un ambiente accogliente e conviviale. L’iniziativa è pensata per valorizzare i sapori del territorio\, promuovendo prodotti locali e ricette tradizionali in un contesto familiare e festoso. La sagra è un’occasione ideale per gli amanti della buona cucina\, le famiglie e i visitatori che desiderano immergersi nella cultura gastronomica del Mugello\, gustando i piatti tipici primaverili e scoprendo la ricchezza enogastronomica della zona. L’atmosfera è calda e festosa\, con profumi e sapori che raccontano la tradizione rurale toscana\, accompagnata dall’ospitalità e dalla passione degli organizzatori e degli espositori. \n\nInfo: 338.7353857 \n 
URL:https://www.eventiintoscana.it/evento/sagra-del-tortello-e-del-prugnolo-scarperia
CATEGORIES:Firenze,Rassegne e Sagre
ATTACH;FMTTYPE=image/jpeg:https://www.eventiintoscana.it/wp-content/uploads/2026/03/IMG-20260325-WA0094-2.jpg
END:VEVENT
END:VCALENDAR