BEGIN:VCALENDAR
VERSION:2.0
PRODID:-//Eventi in Toscana By Toscana Tascabile - ECPv6.15.12.2//NONSGML v1.0//EN
CALSCALE:GREGORIAN
METHOD:PUBLISH
X-WR-CALNAME:Eventi in Toscana By Toscana Tascabile
X-ORIGINAL-URL:https://www.eventiintoscana.it
X-WR-CALDESC:Eventi per Eventi in Toscana By Toscana Tascabile
REFRESH-INTERVAL;VALUE=DURATION:PT1H
X-Robots-Tag:noindex
X-PUBLISHED-TTL:PT1H
BEGIN:VTIMEZONE
TZID:Europe/Rome
BEGIN:DAYLIGHT
TZOFFSETFROM:+0100
TZOFFSETTO:+0200
TZNAME:CEST
DTSTART:20240331T010000
END:DAYLIGHT
BEGIN:STANDARD
TZOFFSETFROM:+0200
TZOFFSETTO:+0100
TZNAME:CET
DTSTART:20241027T010000
END:STANDARD
BEGIN:DAYLIGHT
TZOFFSETFROM:+0100
TZOFFSETTO:+0200
TZNAME:CEST
DTSTART:20250330T010000
END:DAYLIGHT
BEGIN:STANDARD
TZOFFSETFROM:+0200
TZOFFSETTO:+0100
TZNAME:CET
DTSTART:20251026T010000
END:STANDARD
BEGIN:DAYLIGHT
TZOFFSETFROM:+0100
TZOFFSETTO:+0200
TZNAME:CEST
DTSTART:20260329T010000
END:DAYLIGHT
BEGIN:STANDARD
TZOFFSETFROM:+0200
TZOFFSETTO:+0100
TZNAME:CET
DTSTART:20261025T010000
END:STANDARD
END:VTIMEZONE
BEGIN:VEVENT
DTSTART;TZID=Europe/Rome:20251115T120000
DTEND;TZID=Europe/Rome:20251208T233000
DTSTAMP:20260422T153215
CREATED:20251029T191330Z
LAST-MODIFIED:20251112T173153Z
UID:321098-1763208000-1765236600@www.eventiintoscana.it
SUMMARY:Sagra del Tortello\, Polenta e Cinghiale\, Scarperia
DESCRIPTION:Autunno di sapori a Scarperia\, il suggestivo borgo nel cuore del Mugello! A novembre nei giorni 15-16 e 22-23-29 e ancora il 6\, 7 e 8 dicembre\, l’ADS Fortis Juventus organizza la ‘Sagra del Tortello\, Polenta e Cinghiale’ al Campo Sportivo Le Cortine. Tutti i giorni a pranzo e cena si potranno gustare tante specialità tipiche\, fra cui l’immancabile carne alla brace e la bistecca\, il classico tortello mugellano ripieno di patate e il gustoso cinghiale. I locali sono al coperto e riscaldati\, per cui la sagra si svolge anche in caso di pioggia. Tradizione\, profumi d’autunno e gusto autentico del Mugello! \n_______________________________________________________________________ \nInfo: 333.5438336 
URL:https://www.eventiintoscana.it/evento/sagra-del-tortello-polenta-e-cinghiale-scarperia
CATEGORIES:Firenze,Rassegne e Sagre
ATTACH;FMTTYPE=image/jpeg:https://www.eventiintoscana.it/wp-content/uploads/2025/10/tortello-.jpg
END:VEVENT
BEGIN:VEVENT
DTSTART;TZID=Europe/Rome:20251129T110000
DTEND;TZID=Europe/Rome:20251201T160000
DTSTAMP:20260422T153215
CREATED:20251029T132716Z
LAST-MODIFIED:20251029T132716Z
UID:320997-1764414000-1764604800@www.eventiintoscana.it
SUMMARY:MareDiVino e DiGusto\, Livorno
DESCRIPTION:Dal 29 novembre al 1° dicembre 2025\, il Modigliani Forum ospita la tredicesima edizione di MareDiVino e DiGusto\, evento enogastronomico dedicato alle eccellenze vitivinicole e gastronomiche della costa toscana. Oltre 150 produttori vinicoli e 40 realtà Slow Food animeranno l’evento con degustazioni\, show-cooking\, masterclass e incontri tematici. Tra le specialità locali\, non mancheranno la torta di ceci e il celebre “5 e 5”\, simbolo dello street food livornese. La manifestazione si svolgerà sabato 29 e domenica 30 novembre dalle 11:00 alle 19:00 (aperta al pubblico)\, mentre lunedì 1° dicembre dalle 11:00 alle 16:00 sarà riservata agli operatori del settore. Un’occasione imperdibile per scoprire i sapori autentici della Toscana in una cornice moderna e accogliente. \n\nInfo: segreteria@maredivinoedigusto.it\, www.maredivinoedigusto.it.
URL:https://www.eventiintoscana.it/evento/maredivino-e-digusto-livorno
CATEGORIES:Livorno,Rassegne e Sagre
ATTACH;FMTTYPE=image/jpeg:https://www.eventiintoscana.it/wp-content/uploads/2025/10/mare_di_vino.jpg
END:VEVENT
BEGIN:VEVENT
DTSTART;TZID=Europe/Rome:20251201T080000
DTEND;TZID=Europe/Rome:20251215T170000
DTSTAMP:20260422T153215
CREATED:20251128T150127Z
LAST-MODIFIED:20251204T120052Z
UID:321820-1764576000-1765818000@www.eventiintoscana.it
SUMMARY:Dolce Vernio\, Vernio
DESCRIPTION:Dall’1 al 15 dicembre torna Dolce Vernio\, la rassegna dedicata al miele e ai sapori della Val di Bisenzio\, con mostre mercato\, degustazioni e incontri con i produttori locali. Il programma propone piccoli eventi diffusi tra laboratori\, passeggiate\, visite alle aziende apistiche e iniziative gastronomiche legate ai prodotti tipici. Non mancano le tradizionali Feste della castagna curate dalle associazioni del territorio\, che affiancano la manifestazione con assaggi\, ricette e momenti conviviali. Un appuntamento semplice e genuino\, pensato per valorizzare le eccellenze locali in un’atmosfera autunnale. \n\nInfo: 0574.931027 – www.comune.vernio.po.it \n 
URL:https://www.eventiintoscana.it/evento/dolce-vernio-vernio-3
CATEGORIES:Prato,Rassegne e Sagre
ATTACH;FMTTYPE=image/jpeg:https://www.eventiintoscana.it/wp-content/uploads/2025/11/dolce-vernio.jpg
END:VEVENT
BEGIN:VEVENT
DTSTART;TZID=Europe/Rome:20251205T080000
DTEND;TZID=Europe/Rome:20251208T170000
DTSTAMP:20260422T153215
CREATED:20251128T171626Z
LAST-MODIFIED:20251204T115842Z
UID:321833-1764921600-1765213200@www.eventiintoscana.it
SUMMARY:Festa dell’Olio\, San Quirico d’Orcia
DESCRIPTION:Dal 5 all’8 dicembre San Quirico d’Orcia ospita la 32ª Festa dell’Olio\, quattro giorni dedicati all’extravergine nuovo e ai sapori della Val d’Orcia. Nel centro storico aprono gli stand dei produttori\, con degustazioni guidate AICOO\, assaggi nelle aziende\, frantoi aperti e momenti di approfondimento sulla qualità dell’olio locale. Il programma include trekking dell’olio\, tour guidati in e-bike\, laboratori\, mostre\, musica e animazione nelle vie del borgo. Da non perdere il Mercatino dell’Olio Extravergine (6-7 dicembre) e il Premio Extravergine dell’8 dicembre. Un appuntamento che unisce gusto\, tradizione e la scoperta di uno dei paesaggi più iconici della Toscana. \n\nInfo: 0577.899728 – www.lafestadellolio.com
URL:https://www.eventiintoscana.it/evento/festa-dellolio-san-quirico-dorcia-4
CATEGORIES:Rassegne e Sagre,Siena
ATTACH;FMTTYPE=image/jpeg:https://www.eventiintoscana.it/wp-content/uploads/2025/11/festa-olio.jpg
END:VEVENT
BEGIN:VEVENT
DTSTART;TZID=Europe/Rome:20251206T080000
DTEND;TZID=Europe/Rome:20251208T233000
DTSTAMP:20260422T153215
CREATED:20251126T152121Z
LAST-MODIFIED:20251126T152121Z
UID:321686-1765008000-1765236600@www.eventiintoscana.it
SUMMARY:Vinicoli\, Anghiari
DESCRIPTION:Nel centro storico di Anghiari\, dal 6 all’8 dicembre\, torna la terza edizione di ‘Vinicoli’: un itinerario di scorci e sapori tra le migliori espressioni vitivinicole nazionali ed internazionali. Sarà possibile camminare tra i vicoli vinicoli e rifugiarsi in un ambiente magico ed accogliente\, degustando ottimi vini in abbinamento a piatti tipici del territorio. La manifestazione offre la possibilità di incrociare consumatori\, professionisti del settore e wine lovers in uno dei Borghi più belli della Toscana\, creando nuove connessioni e nuovi linguaggi per raccontare uno dei settori più importanti del Made in Italy. \n\nInfo: 0575.789522 – www.vinicoli.it
URL:https://www.eventiintoscana.it/evento/vinicoli-anghiari-2
CATEGORIES:arezzo,Rassegne e Sagre
ATTACH;FMTTYPE=image/png:https://www.eventiintoscana.it/wp-content/uploads/2025/11/Vinicoli-Anghiari.png
END:VEVENT
BEGIN:VEVENT
DTSTART;TZID=Europe/Rome:20251206T100000
DTEND;TZID=Europe/Rome:20251208T190000
DTSTAMP:20260422T153215
CREATED:20251126T160318Z
LAST-MODIFIED:20251204T145530Z
UID:321703-1765015200-1765220400@www.eventiintoscana.it
SUMMARY:Barga in Cioccolato\, Barga
DESCRIPTION:Dal 6 all’8 dicembre a Barga torna il 19° Festival del Cioccolato. Un appuntamento irrinunciabile per gli amanti del cacao\, che nelle ‘botteghe’ poste lungo le vie e nelle piazze del centro storico possono trovare cioccolaterie artigianali e scaldarsi lungo il percorso con una gustosa cioccolata calda. Tre giorni dedicati ai colori e suoni natalizi\, con animazioni per grandi e piccini a fare da contorno al cacao. Tra le varie attività\, oltre alla Befana di Barga a disposizione dei bambini\, troviamo musica dal vivo\, Willy Wonka e la Fabbrica di Cioccolato\, banchi con prodotti artigianali e laboratori realizzati per conoscere i segreti del cacao. Aperto in orario 10-19. \n\nInfo: 331.3526137 – bargaincioccolato@gmail.com – Barga-in-Cioccolato
URL:https://www.eventiintoscana.it/evento/barga-in-cioccolato-barga
CATEGORIES:Lucca,Rassegne e Sagre
ATTACH;FMTTYPE=image/png:https://www.eventiintoscana.it/wp-content/uploads/2025/11/Barga-in-Cioccolato.png
END:VEVENT
BEGIN:VEVENT
DTSTART;TZID=Europe/Rome:20251207T080000
DTEND;TZID=Europe/Rome:20251208T203000
DTSTAMP:20260422T153215
CREATED:20251125T131247Z
LAST-MODIFIED:20251204T114636Z
UID:321483-1765094400-1765225800@www.eventiintoscana.it
SUMMARY:Saranno Famosi nel Vino\, Firenze
DESCRIPTION:Il 7 e l’8 dicembre alla Stazione Leopolda di Firenze torna la 4ª edizione di Saranno Famosi nel Vino\, evento delle cantine emergenti e di quelle che negli ultimi 10 anni hanno presentato nuove etichette\, con realtà da tutta Italia\, giovani e storiche. Domenica (11-20) e lunedì (11-18) si possono degustare i vini\, incontrare i produttori e partecipare a cooking-show e masterclass del giornalista enogastronomico Leonardo Romanelli\, direttore artistico della kermesse\, e della Fisar partner dell’evento. Nei due giorni si può esplorare anche l’universo del Gin e scoprire realtà artigianali che producono questo distillato che\, grazie alla continua ricerca di botaniche ed alla loro unione\, racconta storie di tradizione e di appartenenza ad un territorio. \n_______________________________________________________________________ \nInfo: 379.2583313 – www.sarannofamosinelvino.it
URL:https://www.eventiintoscana.it/evento/saranno-famosi-nel-vino-firenze-2
CATEGORIES:Firenze,Rassegne e Sagre
ATTACH;FMTTYPE=image/jpeg:https://www.eventiintoscana.it/wp-content/uploads/2025/11/saranno-famosi-nel-vino-firenze.jpg
END:VEVENT
BEGIN:VEVENT
DTSTART;TZID=Europe/Rome:20251207T090000
DTEND;TZID=Europe/Rome:20251208T220000
DTSTAMP:20260422T153215
CREATED:20251128T135711Z
LAST-MODIFIED:20251204T143617Z
UID:321909-1765098000-1765231200@www.eventiintoscana.it
SUMMARY:Sapori di Natale\, Fivizzano
DESCRIPTION:Il 7 e 8 dicembre Fivizzano torna a celebrare i Sapori di Natale\, un appuntamento dedicato a tradizione\, gusto e intrattenimento. Mercatini Slow Food\, dimostrazioni di cottura nel testo di coccio e degustazioni animano il centro\, mentre i bambini possono incontrare Babbo Natale che scende dal campanile\, partecipare a laboratori creativi e assistere al cinema sferico. Si possono scoprire mostre d’arte e ceramiche\, vedere gli spettacoli del Gruppo Storico e seguire il convegno dedicato alla Spongata della Lunigiana\, che si conclude con il tradizionale concorso e degustazione del celebre dolce. L’accensione delle illuminazioni e le proiezioni sulla piazza Medicea completano l’atmosfera di festa. \n\nInfo: 0585.92058 – 0585.942138
URL:https://www.eventiintoscana.it/evento/sapori-di-natale-fivizzano-2
CATEGORIES:Massa e Carrara,Rassegne e Sagre
ATTACH;FMTTYPE=image/jpeg:https://www.eventiintoscana.it/wp-content/uploads/2025/11/Locandina-SAPORI-DI-NATALE-2025.jpg
END:VEVENT
END:VCALENDAR