BEGIN:VCALENDAR
VERSION:2.0
PRODID:-//Eventi in Toscana By Toscana Tascabile - ECPv6.15.12.2//NONSGML v1.0//EN
CALSCALE:GREGORIAN
METHOD:PUBLISH
X-ORIGINAL-URL:https://www.eventiintoscana.it
X-WR-CALDESC:Eventi per Eventi in Toscana By Toscana Tascabile
REFRESH-INTERVAL;VALUE=DURATION:PT1H
X-Robots-Tag:noindex
X-PUBLISHED-TTL:PT1H
BEGIN:VTIMEZONE
TZID:Europe/Rome
BEGIN:DAYLIGHT
TZOFFSETFROM:+0100
TZOFFSETTO:+0200
TZNAME:CEST
DTSTART:20240331T010000
END:DAYLIGHT
BEGIN:STANDARD
TZOFFSETFROM:+0200
TZOFFSETTO:+0100
TZNAME:CET
DTSTART:20241027T010000
END:STANDARD
BEGIN:DAYLIGHT
TZOFFSETFROM:+0100
TZOFFSETTO:+0200
TZNAME:CEST
DTSTART:20250330T010000
END:DAYLIGHT
BEGIN:STANDARD
TZOFFSETFROM:+0200
TZOFFSETTO:+0100
TZNAME:CET
DTSTART:20251026T010000
END:STANDARD
BEGIN:DAYLIGHT
TZOFFSETFROM:+0100
TZOFFSETTO:+0200
TZNAME:CEST
DTSTART:20260329T010000
END:DAYLIGHT
BEGIN:STANDARD
TZOFFSETFROM:+0200
TZOFFSETTO:+0100
TZNAME:CET
DTSTART:20261025T010000
END:STANDARD
END:VTIMEZONE
BEGIN:VEVENT
DTSTART;TZID=Europe/Rome:20250305T120000
DTEND;TZID=Europe/Rome:20250413T190000
DTSTAMP:20260425T234825
CREATED:20250312T145440Z
LAST-MODIFIED:20250312T145652Z
UID:315383-1741176000-1744570800@www.eventiintoscana.it
SUMMARY:Sagra del fritto misto\, Scarperia (Firenze)
DESCRIPTION:Nei due weekend sabato 5\, domenica 6 e sabato 12 e domenica 13 aprile\, torna la Sagra del fritto misto a Scarperia. Il protagonista è il gran fritto toscano\, ma da non perdere anche i tortelli mugellani di patate e varie carni alla brace. L’appuntamento è al CIRCOLO MCL in Via San Martino 16 a Scarperia: \n\nSabato 5 aprile dalle ore 19:00 (cena)\nDomenica 6 aprile dalle ore 12:00 (pranzo) e dalle ore 19:00 (cena)\nSabato 12 aprile dalle ore 19:00 (cena)\nDomenica 13 aprile dalle ore 12:00 (pranzo) e dalle ore 19:00 (cena).\n\nIn queste due ultime date sarà presente anche una specialità\, lo sciatt valtellinese! \nNon è necessaria la prenotazione. \n________________________________________________________________________________ \nInfo: 055-8468165
URL:https://www.eventiintoscana.it/evento/sagra-del-fritto-scarperia-firenze
CATEGORIES:Firenze,Rassegne e Sagre
ATTACH;FMTTYPE=image/jpeg:https://www.eventiintoscana.it/wp-content/uploads/2025/03/sagra-fritto-misto-2025.jpg
END:VEVENT
BEGIN:VEVENT
DTSTART;TZID=Europe/Rome:20250401T200000
DTEND;TZID=Europe/Rome:20250415T200000
DTSTAMP:20260425T234825
CREATED:20250324T202522Z
LAST-MODIFIED:20250324T202522Z
UID:315684-1743537600-1744747200@www.eventiintoscana.it
SUMMARY:Chianina in tavola tour
DESCRIPTION:Proseguono fino al 15 maggio gli appuntamenti con il Chianina Tour cominciato il 27 febbraio. La quarta edizione delle cene-incontro esplora vari ristoranti della Valdichiana senese e aretina per per valorizzare la carne di razza Chianina certificata Vitellone Bianco dell’Appennino Centrale IGP\, esaltarne il legame con il suo territorio e promuovere il corretto utilizzo in cucina. Un totale di otto cene aperte sia agli operatori del settore che agli allevatori e a coloro che amano la carne. \nNel mese di aprile: \n\ngiovedì 3 la Lady chef Katia Maccari\, del ristorante ‘I Salotti di Villa il Patriarca’ di Chiusi ospita la Lady chef Silvia Baracchi\, del ristorante ‘Il Falconiere’ di Cortona;\nmentre venerdì 11 aprile lo chef Enrico Madini\, di Osteria Nova a Castiglione del Lago\, ospiterà lo chef Emiliano Rossi\, dell’Osteria del Teatro di Cortona.\n\nInfo e prenotazioni: 0577.42984 -info@chianinavalley.eu
URL:https://www.eventiintoscana.it/evento/chianina-in-tavola-tour
CATEGORIES:arezzo,Rassegne e Sagre
ATTACH;FMTTYPE=image/png:https://www.eventiintoscana.it/wp-content/uploads/2025/03/Screenshot-2025-03-24-alle-21.24.04.png
END:VEVENT
BEGIN:VEVENT
DTSTART;TZID=Europe/Rome:20250404T090000
DTEND;TZID=Europe/Rome:20250406T190000
DTSTAMP:20260425T234825
CREATED:20250325T204127Z
LAST-MODIFIED:20250325T204127Z
UID:315749-1743757200-1743966000@www.eventiintoscana.it
SUMMARY:Ponte a Egola\, Sagra del tartufo marzuolo
DESCRIPTION:Nel weekend dal 4 al 6 aprile\, nei locali dell’Associazione Culturale ‘La Ruga’ a Ponte a Egola si terrà la prima edizione della Sagra del tartufo marzuolo. L’evento\, organizzato dal Comitato Palio del Cuoio e dai Rioni\, celebra uno dei prodotti più pregiati del territorio: il tartufo marzuolo. Durante la manifestazione sarà possibile gustare specialità culinarie a base di tartufo preparate secondo le tradizioni locali\, all’interno di un’atmosfera conviviale e accogliente. Un’occasione imperdibile per scoprire i sapori autentici di questo straordinario prodotto della terra. \nInfo: 351.4106613
URL:https://www.eventiintoscana.it/evento/ponte-a-egola-sagra-del-tartufo-marzuolo
CATEGORIES:Pisa,Rassegne e Sagre
ATTACH;FMTTYPE=image/png:https://www.eventiintoscana.it/wp-content/uploads/2025/03/Screenshot-2025-03-25-alle-21.39.01.png
END:VEVENT
BEGIN:VEVENT
DTSTART;TZID=Europe/Rome:20250405T090000
DTEND;TZID=Europe/Rome:20250406T190000
DTSTAMP:20260425T234825
CREATED:20250307T173105Z
LAST-MODIFIED:20250307T173423Z
UID:315330-1743843600-1743966000@www.eventiintoscana.it
SUMMARY:Festa di Primavera\, Carmignano (Prato)
DESCRIPTION:Sabato 5 e domenica 6 aprile si svolgerà la Festa di Primavera in Piazza Matteotti e Piazza Vittorio Emanuele II a Carmignano. Tanti appuntamenti in programma con Io Creo\, Mostra di pittura\, Degustazioni\, ma anche Laboratori e tutorial.\n________________________________________________________________________________ \nInfo: 055/8712468 info@carmignanodivino.prato.i
URL:https://www.eventiintoscana.it/evento/festa-di-primavera-carmignano-prato
CATEGORIES:Prato,Rassegne e Sagre
ATTACH;FMTTYPE=image/jpeg:https://www.eventiintoscana.it/wp-content/uploads/2025/03/Carmignano.jpeg
END:VEVENT
BEGIN:VEVENT
DTSTART;VALUE=DATE:20250406
DTEND;VALUE=DATE:20250407
DTSTAMP:20260425T234825
CREATED:20250325T204945Z
LAST-MODIFIED:20250325T204945Z
UID:315755-1743897600-1743983999@www.eventiintoscana.it
SUMMARY:Marliana\, Sagra delle frittelle dolci
DESCRIPTION:Domenica 6 aprile a Marliana\, in provincia di Pistoia\, arriva la 59° edizione della Sagra delle frittelle dolci. Dalle 15.30 fino alle 20 nella piazza principale del paese saranno distribuite frittelle dolci preparate con farina di castagne in una grande padella del diametro di due metri e mezzo. Tante bancarelle sparse per tutto il centro e dal pomeriggio musica dal vivo e degustazioni dei prodotti tipici di Marliana come necci dolci e salati\, vino e farina di castagne in tutte le sue forme. \nLa sagra è organizzata dalla proloco di Marliana con il patrocinio del Comune. Questa manifestazione risale ai primi anni ’60 e la prima edizione si deve alla volontà di un gruppo di marlianesi amanti delle tradizioni locali. L’ingresso è libero. \nInfo: 377.1438282
URL:https://www.eventiintoscana.it/evento/marliana-sagra-delle-frittelle-dolci
CATEGORIES:Pistoia,Rassegne e Sagre
ATTACH;FMTTYPE=image/png:https://www.eventiintoscana.it/wp-content/uploads/2025/03/Screenshot-2025-03-25-alle-21.48.09.png
END:VEVENT
BEGIN:VEVENT
DTSTART;TZID=Europe/Rome:20250411T100000
DTEND;TZID=Europe/Rome:20250414T200000
DTSTAMP:20260425T234825
CREATED:20250319T160808Z
LAST-MODIFIED:20250319T161446Z
UID:315544-1744365600-1744660800@www.eventiintoscana.it
SUMMARY:PratoWine & Spirits Festival 2025\, Prato
DESCRIPTION:A Prato dall’11 al 14 aprile è in programma la PratoWine & Spirits Festival 2025\, rassegna enogastronomica all’insegna del gusto e dell’eccellenza vinicola. Degustazioni di 30 cantine speciali\, banco distillati e champagne\, master class su prenotazione in Palazzo Vaj\, area food pratese\, wine shop\, presentazioni. Ingresso 15 €. Orario: ven. 18-24\, sab. 15-24\, dom. 12-23\, lun. 11-18 (lunedì riservato ristoratori).\n________________________________________________________________________________ \nInfo: www.ilgaribaldi.it
URL:https://www.eventiintoscana.it/evento/pratowine-spirits-festival-2025-prato
CATEGORIES:Prato,Rassegne e Sagre
ATTACH;FMTTYPE=image/jpeg:https://www.eventiintoscana.it/wp-content/uploads/2025/03/Bicchieri-Vino.jpg
END:VEVENT
BEGIN:VEVENT
DTSTART;TZID=Europe/Rome:20250412T100000
DTEND;TZID=Europe/Rome:20250413T190000
DTSTAMP:20260425T234825
CREATED:20250324T205825Z
LAST-MODIFIED:20250407T235537Z
UID:315705-1744452000-1744570800@www.eventiintoscana.it
SUMMARY:Wine Expò\, Empoli
DESCRIPTION:Per la prima volta\, Empoli diventa capitale del vino italiano e ospita un evento unico nel prestigioso Palazzo delle Esposizioni: dal 12 al 14 aprile arriva ‘Wine Expò’ dedicato alla celebrazione della tradizione e dell’innovazione vitivinicola. Produttori\, cantine e aziende agricole provenienti da ogni angolo d’Italia si riuniranno per dare vita a una manifestazione che esalta la qualità\, la passione e la varietà del vino italiano. \nTre giorni di emozioni e scoperte\, in cui il vino sarà il protagonista assoluto. Tra degustazioni guidate\, incontri diretti con i produttori e approfondimenti tematici come talk\, seminari e masterclass per esplorare ogni aspetto del settore\, dalle tecniche di produzione alle nuove tendenze. Un’occasione imperdibile sia per gli appassionati che per i professionisti desiderosi di scoprire le nuove frontiere del gusto e della tradizione. \n________________________________________________________________________________ \nInfo: 0571.22266
URL:https://www.eventiintoscana.it/evento/empoli-wine-expo
CATEGORIES:Firenze,Rassegne e Sagre
ATTACH;FMTTYPE=image/png:https://www.eventiintoscana.it/wp-content/uploads/2025/03/Screenshot-2025-03-24-alle-21.57.10.png
END:VEVENT
BEGIN:VEVENT
DTSTART;TZID=Europe/Rome:20250412T100000
DTEND;TZID=Europe/Rome:20250413T200000
DTSTAMP:20260425T234825
CREATED:20250324T201811Z
LAST-MODIFIED:20250407T235415Z
UID:315678-1744452000-1744574400@www.eventiintoscana.it
SUMMARY:San Giovese Festival\, San Giovanni Valdarno (Arezzo)
DESCRIPTION:Nel weekend del 12 e 13 aprile San Giovanni Valdarno\, in provincia di Arezzo\, si trasforma nella capitale del vino con il San Giovese Festival. Nelle splendide cornici di Piazza Cavour e Piazza Masaccio\, oltre 80 produttori presenteranno le loro eccellenze\, con più di 400 vini in degustazione e vendita. \nUn’esperienza unica per scoprire nuovi sapori\, partecipare a masterclass\, talk\, show e godersi ottima musica dal vivo. E per chi desidera una pausa gourmet\, non mancheranno i food truck pronti a deliziare tutti i palati. Un evento imperdibile\, ad ingresso libero\, che celebra la tradizione enologica e gastronomica locale. Due giorni di pura passione per il vino e la buona compagnia. \n________________________________________________________________________________ \nInfo: info@sangiovesefestival.it
URL:https://www.eventiintoscana.it/evento/san-giovanni-valdarno-san-giovese-festival
CATEGORIES:arezzo,Rassegne e Sagre
ATTACH;FMTTYPE=image/jpeg:https://www.eventiintoscana.it/wp-content/uploads/2025/03/480297060_599067056343546_4168059169605288360_n.jpg
END:VEVENT
BEGIN:VEVENT
DTSTART;TZID=Europe/Rome:20250412T100000
DTEND;TZID=Europe/Rome:20250413T220000
DTSTAMP:20260425T234825
CREATED:20250325T204702Z
LAST-MODIFIED:20250408T000644Z
UID:315752-1744452000-1744581600@www.eventiintoscana.it
SUMMARY:Sagra della schiacciata e del carciofo fritto\, Ponte a Egola (Pisa)
DESCRIPTION:Sedicesima edizione per la Sagra della schiacciata di Pasqua e del carciofo fritto organizzata dall’Associazione culturale La Ruga presso i suoi stessi locali e in programma per il fine settimana di sabato 12 e domenica 13 aprile. Tipica del periodo pasquale la schiacciata è un dolce casalingo della tradizione contadina\, conosciuto e realizzato solo nella provincia di Pisa\, e qui proposto insieme al carciofo\, altro prodotto tipico della zona. \nLa sagra nasce quindi dall’idea de La Ruga di celebrare e promuovere due prodotti strettamente legati al territorio e alla nostra tradizione\, rispettandoli con le ricette originali tramandate dai tempi dei nostri nonni. Più in generale la sagra propone anche altri piatti tipici toscani. Dalla sede dell’Associazione si potrà poi partire per una passeggiata alla scoperta dei boschi e delle colline nei dintorni. \nInfo: 339.2393899
URL:https://www.eventiintoscana.it/evento/ponte-a-egola-sagra-della-schiacciata-e-del-carciofo-fritto
CATEGORIES:Pisa,Rassegne e Sagre
ATTACH;FMTTYPE=image/png:https://www.eventiintoscana.it/wp-content/uploads/2025/03/Screenshot-2025-03-25-alle-21.45.40.png
END:VEVENT
BEGIN:VEVENT
DTSTART;TZID=Europe/Rome:20250423T120000
DTEND;TZID=Europe/Rome:20250504T220000
DTSTAMP:20260425T234825
CREATED:20250426T170330Z
LAST-MODIFIED:20250426T170330Z
UID:316655-1745409600-1746396000@www.eventiintoscana.it
SUMMARY:Piombino (LI)\, Sagra del carciofo
DESCRIPTION:A Riotorto\, frazione di Piombino\, nel Parco Comunale La Pinetina ci sarà prosegue fino al 4 maggio la 54° edizione della Sagra del Carciofo. Il carciofo è il protagonista indiscusso\, accompagnato da altri gustosissimi piatti. Tra i primi troviamo i tortelli maremmani al ragù e con i carciofi\, così come le lasagne e le penne. \nTra i secondi ci sarà un vasto assortimento di carni come ad esempio bistecca di manzo\, scamerita\, rosticciana e salsiccia. Le carni alla griglia sono cotte con carbone di legna dei boschi pisani. E non mancheranno i contorni: carciofi fritti\, carciofi trifolati\, insalata di carciofi e carciofi grigliati\, ma anche patatine fritte\, e i vini della Val Cornia Doc. Musica dal vivo tutte le sere e in programma anche la seconda edizione della gara podistica. \nOrari: il 2 e 3 dalle 19\, 1 e 4 pranzo e cena. \nInfo: assculturaespettacoloriotorto@gmail.com
URL:https://www.eventiintoscana.it/evento/piombino-li-sagra-del-carciofo
CATEGORIES:Livorno,Rassegne e Sagre
ATTACH;FMTTYPE=image/png:https://www.eventiintoscana.it/wp-content/uploads/2025/04/Screenshot-2025-04-26-alle-19.01.59.png
END:VEVENT
BEGIN:VEVENT
DTSTART;TZID=Europe/Rome:20250424T100000
DTEND;TZID=Europe/Rome:20250427T200000
DTSTAMP:20260425T234825
CREATED:20250312T143947Z
LAST-MODIFIED:20250409T163413Z
UID:315380-1745488800-1745784000@www.eventiintoscana.it
SUMMARY:Orcia Wine Festival\, San Quirico d'Orcia (Siena)
DESCRIPTION:Orcia Wine Festival è l’evento che\, nel ponte del 25 aprile\, promuove il vino Orcia e le produzioni vitivinicole di eccellenza della Val d’Orcia. Una mostra mercato con banchi di assaggio e degustazioni guidate dove scoprire i vini della Val d’Orcia ideata e organizzata dal Comune di San Quirico d’Orcia\, con la collaborazione del Consorzio del Vino Orcia e di OnavSiena. All’interno delle sale affrescate di Palazzo Chigi spazio per degustazioni tecniche guidate\,\nbanchi d’assaggio dei vini Doc\, oltre alla possibilità per gli enoturisti di visitare direttamente le cantine con tour guidati dove ad accogliergli troveranno direttamente i produttori. _______________________________________________________________________________ \nInfo: 0577.899728 – 379.1294369 \n 
URL:https://www.eventiintoscana.it/evento/orcia-wine-festival-san-quirico-dorcia-siena-2
CATEGORIES:Rassegne e Sagre,Siena
ATTACH;FMTTYPE=image/png:https://www.eventiintoscana.it/wp-content/uploads/2025/03/OWF2024.png
END:VEVENT
BEGIN:VEVENT
DTSTART;TZID=Europe/Rome:20250424T100000
DTEND;TZID=Europe/Rome:20250427T220000
DTSTAMP:20260425T234825
CREATED:20250325T210114Z
LAST-MODIFIED:20250325T210114Z
UID:315762-1745488800-1745791200@www.eventiintoscana.it
SUMMARY:Chiusure (SI)\, Festa del carciofo
DESCRIPTION:Da giovedì 24 a domenica 27 aprile torna la Festa del carciofo di Chiusure\, la tradizionale sagra che si svolge ogni anno durante il ponte del 25 aprile nel caratteristico borgo nel comune di Asciano\, località in provincia di Siena. Le specialità sono ovviamente i carciofi\, che arrivano alla fine della loro stagione\, con pranzi e cene ad esso dedicate oltre a numerosi altri prodotti tipici locali e artigianali proposti dagli espositori protagonisti nel mercato organizzato nelle vie del piccolo centro. La quattro giorni\, oltre a celebrare il carciofo come fulcro della manifestazione\, propone stand con interessanti prodotti tipici locali\, musica\, laboratori per grandi e piccini e passeggiate tra paesaggi mozzafiato. \nInfo: info@prolocoasciano.it
URL:https://www.eventiintoscana.it/evento/chiusure-si-festa-del-carciofo
CATEGORIES:Rassegne e Sagre,Siena
ATTACH;FMTTYPE=image/png:https://www.eventiintoscana.it/wp-content/uploads/2025/03/Screenshot-2025-03-25-alle-22.00.17.png
END:VEVENT
BEGIN:VEVENT
DTSTART;VALUE=DATE:20250425
DTEND;VALUE=DATE:20250426
DTSTAMP:20260425T234825
CREATED:20250324T210256Z
LAST-MODIFIED:20250422T110050Z
UID:315708-1745539200-1745625599@www.eventiintoscana.it
SUMMARY:Fiera del gusto\, Fucecchio
DESCRIPTION:Giovedì 25 aprile arriva a Fucecchio la Fiera del gusto: la vetrina mercato della norcineria toscana che\, come da tradizione\, animerà piazza Montanelli che in quest’occasione si trasforma in capitale del gusto. Quest’anno la fiera è arrivata alla sua 19esima edizione con decine di espositori che per tutta la giornata proporranno gustose specialità gastronomiche con particolare interesse per gli antichi sapori e le tradizioni culinarie. \nDalle ore 9 alle ore 20 sarà possibile degustare sapori tipici artigianali locali\, come ad esempio prodotti norcini\, formaggi\, vini\, miele\, panetteria e dolci. Tra le carni e gli insaccati d’eccellenza sarà scelto e premiato il miglior prosciutto toscano. Per tutta la giornata i buongustai e i golosi avranno l’opportunità di stare in un vero e proprio paradiso dell’eccellenza made in Italy. Le strade del borgo saranno pervase da un’atmosfera festosa\, con musica e spettacoli a rendere ancora più speciale questa giornata dedicata al gusto. \n________________________________________________________________________________ \nInfo: 0571.242717
URL:https://www.eventiintoscana.it/evento/fucecchio-fiera-del-gusto
CATEGORIES:Firenze,Rassegne e Sagre
ATTACH;FMTTYPE=image/png:https://www.eventiintoscana.it/wp-content/uploads/2025/03/Screenshot-2025-03-24-alle-22.00.55.png
END:VEVENT
BEGIN:VEVENT
DTSTART;TZID=Europe/Rome:20250425T110000
DTEND;TZID=Europe/Rome:20250425T200000
DTSTAMP:20260425T234825
CREATED:20250305T165319Z
LAST-MODIFIED:20250405T233451Z
UID:315302-1745578800-1745611200@www.eventiintoscana.it
SUMMARY:De Gusto 2025\, Serravalle Pistoiese (Pistoia)
DESCRIPTION:Il 25 aprile 2025 nel Comune di Serravalle Pistoiese si svolgerà De Gusto 2025 – i sapori del Montalbano\, un evento dedicato agli amanti del buon cibo e del buon vino. Questa manifestazione celebra i prodotti tipici e i vini del Montalbano\, area\, famosa per la sua tradizione enogastronomica.\nL’evento si terrà dalle ore 11:00 fino al tramonto nel suggestivo centro storico di Serravalle Pistoiese.\nLe attività in programma sono: \n\nDegustazioni guidate di vini pregiati e prodotti tipici del Montalbano\nVisite guidate al Borgo Medievale\, partenza e prenotazione presso l’Ufficio Turismo (tel. 3386685749)\nProve di tiro con l’arco presso la Rocca\nPasseggiata con i pony nel piazzale della Rocca per i più piccoli.\nMostre d’arte presso la Chiesa di San Michele Arcangelo\nPresentazioni di libri\, con autori locali che raccontano il territorio.\nOpen day Tennis al Tennis Club le Torri (info: 3397821400).\nPasseggiata da S. Jacopo a S. Lodovico\, con visita della Cappella del S.S. Sacramento e San Lodovico.\n\nNon mancheranno concerti dal vivo e spettacoli per bambini.\nPrevisto servizio navetta dalle 12:00 alle 19:30.\n________________________________________________________________________________ \nInfo: info@stradadileonardo.org
URL:https://www.eventiintoscana.it/evento/de-gusto-2025-serravalle-pistoiese-pistoia
CATEGORIES:Pistoia,Rassegne e Sagre
ATTACH;FMTTYPE=image/jpeg:https://www.eventiintoscana.it/wp-content/uploads/2025/03/De_gusto_Serravalle.jpg
END:VEVENT
BEGIN:VEVENT
DTSTART;TZID=Europe/Rome:20250425T120000
DTEND;TZID=Europe/Rome:20250504T190000
DTSTAMP:20260425T234825
CREATED:20250324T212010Z
LAST-MODIFIED:20250502T105931Z
UID:315717-1745582400-1746385200@www.eventiintoscana.it
SUMMARY:Sagra del tortello e prugnolo\, Scarperia (Firenze)
DESCRIPTION:Nuovo appuntamento con la Sagra del tortello e del prugnolo organizzata dall’Associazione Sportiva Dilettantistica Pattinaggio Mugello 2002 presso il Circolo MCL di Scarperia. Le date della sagra interessano due weekend: da venerdì 25 a domenica 27 aprile e quello successivo nei giorni 1\, 3 e 4 maggio. Nel corso dell’evento sarà possibile assaggiare le specialità proposte dalla cucina e in particolare i famosi tortelli mugellani ripieni di patate e conditi con i prugnoli\, ovvero i funghi tipicamente primaverili. Il sabato gli spazi sono aperti a cena dalle ore 19 e la domenica anche a pranzo dalle ore 12. \n \nInfo: 338.7353857
URL:https://www.eventiintoscana.it/evento/scarperia-sagra-del-tortello-e-prugnolo
CATEGORIES:Firenze,Rassegne e Sagre
ATTACH;FMTTYPE=image/png:https://www.eventiintoscana.it/wp-content/uploads/2025/03/Screenshot-2025-03-24-alle-22.18.22.png
END:VEVENT
BEGIN:VEVENT
DTSTART;TZID=Europe/Rome:20250426T080000
DTEND;TZID=Europe/Rome:20250426T170000
DTSTAMP:20260425T234825
CREATED:20250426T155457Z
LAST-MODIFIED:20250505T225245Z
UID:316630-1745654400-1745686800@www.eventiintoscana.it
SUMMARY:Chianti Lovers Week\, Firenze
DESCRIPTION:Dal 5 all’11 maggio il Consorzio Vino Chianti lancia la prima edizione della Chianti Lovers Week: una settimana di eventi diffusi che porterà il Chianti Docg tra le strade\, i locali\, i luoghi della cultura e della convivialità di Firenze e di tutta la Toscana. Un modo nuovo e dinamico di raccontare l’identità di uno dei più iconici vini italiani\, tra degustazioni\, esperienze immersive e contaminazioni con il cinema\, l’arte e la musica\, aperitivi a tema\, trekking tra i filari e visite in cantina organizzate da produttori storici. Un totale di 40 tra ristoranti\, enoteche e cantine e un ricco programma di eventi indipendenti che attraversano l’intera regione: da Impruneta a Empoli\, da Pisa ad Arezzo\, da Siena a Montepulciano. Tra gli appuntamenti in programma a Firenze il 6 ‘Shopping Night’ alla Rinascente; l’8 ‘Wine & Cinema Experience’ a Nana Bianca una masterclass immersiva e l’11 il gran finale alla Manifattura Tabacchi con il ‘Chianti Lovers Closing Party’: una festa aperta al pubblico tra degustazioni libere\, street food d’eccellenza\, swing e DJ set vintage. Il programma completo è consultabile sul sito ufficiale.\n________________________________________________________________________________ \nInfo: 055.333600
URL:https://www.eventiintoscana.it/evento/firenze-chianti-lovers-week
CATEGORIES:Firenze,Rassegne e Sagre
ATTACH;FMTTYPE=image/png:https://www.eventiintoscana.it/wp-content/uploads/2025/04/Screenshot-2025-04-26-alle-17.52.38.png
END:VEVENT
END:VCALENDAR