BEGIN:VCALENDAR
VERSION:2.0
PRODID:-//Eventi in Toscana By Toscana Tascabile - ECPv6.15.12.2//NONSGML v1.0//EN
CALSCALE:GREGORIAN
METHOD:PUBLISH
X-WR-CALNAME:Eventi in Toscana By Toscana Tascabile
X-ORIGINAL-URL:https://www.eventiintoscana.it
X-WR-CALDESC:Eventi per Eventi in Toscana By Toscana Tascabile
REFRESH-INTERVAL;VALUE=DURATION:PT1H
X-Robots-Tag:noindex
X-PUBLISHED-TTL:PT1H
BEGIN:VTIMEZONE
TZID:Europe/Rome
BEGIN:DAYLIGHT
TZOFFSETFROM:+0100
TZOFFSETTO:+0200
TZNAME:CEST
DTSTART:20210328T010000
END:DAYLIGHT
BEGIN:STANDARD
TZOFFSETFROM:+0200
TZOFFSETTO:+0100
TZNAME:CET
DTSTART:20211031T010000
END:STANDARD
BEGIN:DAYLIGHT
TZOFFSETFROM:+0100
TZOFFSETTO:+0200
TZNAME:CEST
DTSTART:20220327T010000
END:DAYLIGHT
BEGIN:STANDARD
TZOFFSETFROM:+0200
TZOFFSETTO:+0100
TZNAME:CET
DTSTART:20221030T010000
END:STANDARD
BEGIN:DAYLIGHT
TZOFFSETFROM:+0100
TZOFFSETTO:+0200
TZNAME:CEST
DTSTART:20230326T010000
END:DAYLIGHT
BEGIN:STANDARD
TZOFFSETFROM:+0200
TZOFFSETTO:+0100
TZNAME:CET
DTSTART:20231029T010000
END:STANDARD
END:VTIMEZONE
BEGIN:VEVENT
DTSTART;TZID=Europe/Rome:20220401T100000
DTEND;TZID=Europe/Rome:20220403T233000
DTSTAMP:20260422T200906
CREATED:20220401T152603Z
LAST-MODIFIED:20220401T152603Z
UID:297172-1648807200-1649028600@www.eventiintoscana.it
SUMMARY:Sapori del mondo - Montespertoli (Firenze)
DESCRIPTION:Ritorna a Montespertoli la 2° edizione di Sapori del Mondo. \nA Montespertoli in piazza del Popolo\, dalle 10 alle 24\,\ntre giorni dedicati al meglio sia del cibo di strada sia dal mondo che italiano e birre artigianali. \n\nPer info: 389 1084308 – 331 3221274 – Evento Facebook
URL:https://www.eventiintoscana.it/evento/sapori-del-mondo-montespertoli-firenze
CATEGORIES:Firenze,Rassegne e Sagre
ATTACH;FMTTYPE=image/jpeg:https://www.eventiintoscana.it/wp-content/uploads/2022/04/Sapori-del-mondo-Montespertoli.jpg
END:VEVENT
BEGIN:VEVENT
DTSTART;TZID=Europe/Rome:20220402T000000
DTEND;TZID=Europe/Rome:20220403T235900
DTSTAMP:20260422T200906
CREATED:20220302T095517Z
LAST-MODIFIED:20220404T080822Z
UID:296020-1648857600-1649030340@www.eventiintoscana.it
SUMMARY:Anteprima Vernaccia di San Gimignano - San Gimignano (Siena)
DESCRIPTION:L’Anteprima della Vernaccia di San Gimignano\, la presentazione delle nuove annate alla stampa all’interno del programma delle Anteprime di Toscana\, si tiene quest’anno mercoledì 23 marzo a San Gimignano. \nPer sei giorni (26-27-28 marzo e 2-3-4 aprile) nella sala allestita con dodici postazioni sedute a distanza di sicurezza e con servizio di sommelier\, i wine lover e gli operatori di settore potranno assaggiare le nuove annate di Vernaccia di San Gimignano\, la 2021\, le Riserve 2020 e i vini di annate precedenti ma ancora non commercializzati \nProtagonisti i vini i vini dell’ultima vendemmia\, la 2021\, e l’annata 2020 per la tipologia Riserva. \nMercoledì 23 marzo la giornata verrà dedicata alla stampa italiana e internazionale\, con un numero contenuto di accrediti e nel pieno rispetto delle normative anti-Covid vigenti. \nConfermati i luoghi che ospiteranno l’Anteprima: il Museo di Arte Moderna e Contemporanea De Grada per la degustazione dei settantasette vini in anteprima di trentaquattro aziende\, con orario dalle 9.30 alle 12.30 e dalle 14.30 alle 18.00. \nLa Sala Dante del Palazzo Comunale sarà invece sede della XVII edizione del ciclo di degustazioni tecnico-professionali comparate “Il Vino Bianco e i suoi territori”. \nQuest’anno il tema dell’intervento sarà “Antropologia e terroir”\, relatore il Prof. Attilio Scienza\, Professore Ordinario all’Università degli Studi di Milano. \nLa Via Francigena\, che fin dai tempi del Medioevo portava pellegrini\, mercanti e soldati da Canterbury fino a Roma\, sarà il filo conduttore della degustazione. Nel corso dei secoli numerosi vitigni hanno seguito l’uomo e hanno messo le proprie radici lungo questa strada da sempre simbolo di conforto e preghiera. \nL’intervento e la degustazione metteranno in luce come questi vitigni si sono adattati a terreni con caratteristiche simili a quelle delle colline di San Gimignano\, attraverso un sapiente  parallelismo tra i giorni bui tipici del Medioevo con quelli attuali causati dalla pandemia. \nI vini in degustazione saranno presentati dallo scrittore Andrea Zanfi e confrontati con 6 vini Vernaccia di San Gimignano da lui stesso selezionati\, con un particolare focus sulla loro evoluzione nel tempo. \nAziende presenti all’Anteprima della Vernaccia di San Gimignano 2022: \nAbbazia Monteoliveto\, Alessandro Tofanari\, Cantine Guidi\, Cappellasantandrea\, Casa alle Vacche\, Casa Lucii\, Casale Falchini\, Cesani\, Collemucioli\, Collina dei Venti\, Fattoria di Fugnano\, Fattoria Poggio Alloro\, Fattoria San Donato\, Fattorie Melini\, Fornacelle\, Geografico\, Guicciardini Strozzi\, Il Colombaio di Santa Chiara\, Il Lebbio\, Il Palagione\, La Lastra\, Mormoraia\, Montenidoli\, Palagetto\, Panizzi\, Poderi Arcangelo\, San Benedetto\, San Quirico\, Signano\, Tenuta La Vigna\, Tenuta Le Calcinaie\, Teruzzi\, Tollena\, Vagnoni.  \nAl termine di questa parte dedicata alla stampa di settore\, l’anteprima proseguirà alla Rocca di Montestaffoli all’interno di ‘Vernaccia di San Gimignano Wine Experience’.
URL:https://www.eventiintoscana.it/evento/anteprima-vernaccia-di-san-gimignano-san-gimignano-siena
CATEGORIES:Rassegne e Sagre,Siena
ATTACH;FMTTYPE=image/jpeg:https://www.eventiintoscana.it/wp-content/uploads/2021/05/Anteprima-Vernaccia-San-Gimignano.jpg
END:VEVENT
BEGIN:VEVENT
DTSTART;VALUE=DATE:20220407
DTEND;VALUE=DATE:20220411
DTSTAMP:20260422T200906
CREATED:20220331T140022Z
LAST-MODIFIED:20220331T140022Z
UID:296957-1649289600-1649635199@www.eventiintoscana.it
SUMMARY:Montemurlo Street Food - Piazza della Costituzione\, Montemurlo (Prato)
DESCRIPTION:Il Montemurlo Street Food ci aspetta in Piazza della Costituzione a Montemurlo da giovedì 7 a domenica 10 aprile. \nLe serate saranno animate da Street Food\, Live Music\, Mercatino\, Dj set e tanta buona Birra. \nArea con gonfiabili e giochi per bambini \nOrari: \n– Giovedì 07 Aprile stand aperti dalle 18:00\n– Venerdì 08 Aprile stand aperti dalle 18:00\n– Sabato 09 Aprile stand aperti dalle 12:00\n– Domenica 10 Aprile stand aperti dalle 12:00 \nProgramma completo dei live: \nGiovedì 07 Aprile\nLapolveriera \nVenerdì 08 Aprile\nBlues & Jetta \nSabato 09 Aprile\nGhendo + Keystone \nDomenica 10 Aprile\nMichele Mud & Miles Tiles \nTUTTE Le Sere STREET FOOD:\nHamburger di angus\nTortelli al ragù e tanti altri primi piatti\nCannoli e Arancini siciliani\nFrittura di pesce\nPolenta in tutti i modi\nHamburger di chianina e cinghiale\nGiapponese e Thailandese\nLampredotto\nPorchetta\nCoccoli\nDolci e Caffetteria\ne molto altro.. \n\nInfo: Evento Facebook\n3314663757
URL:https://www.eventiintoscana.it/evento/montemurlo-street-food-piazza-della-costituzione-montemurlo-prato-2
CATEGORIES:Prato,Rassegne e Sagre
ATTACH;FMTTYPE=image/jpeg:https://www.eventiintoscana.it/wp-content/uploads/2022/03/Montemurlo-Street-Food.jpg
END:VEVENT
BEGIN:VEVENT
DTSTART;TZID=Europe/Rome:20220407T180000
DTEND;TZID=Europe/Rome:20220410T230000
DTSTAMP:20260422T200906
CREATED:20220330T154437Z
LAST-MODIFIED:20220330T154447Z
UID:296871-1649354400-1649631600@www.eventiintoscana.it
SUMMARY:Poggibonsi Street Food - Poggibonsi (Siena)
DESCRIPTION:Da giovedì 7 a domenica 10 aprile appuntamento con il Poggibonsi Street Food in Piazza Berlinguer. \nLe serate saranno animate da Street Food\, Live Music\, Mercatino\, Dj set e tanta buona Birra. \nPresente un’area con gonfiabili e giochi per bambini. \nOrari: \n– Giovedì 07 Aprile stand aperti dalle 18:00\n– Venerdì 08 Aprile stand aperti dalle 18:00\n– Sabato 09 Aprile stand aperti dalle 12:00\n– Domenica 10 Aprile stand aperti dalle 12:00 \nIngresso gratuito. \nProgramma completo dei live: \nGiovedì 07 Aprile\nFINAZ + open act Andrea Brunini \nVenerdì 08 Aprile\nRato Clash \nSabato 09 Aprile\nLa Monarchia \nDomenica 10 Aprile\nGenerazione di Sconvolti \nLo street food propone tutte le sere: \nArrosticini abruzzesi\nHamburger di Angus\nCannoli e arancini siciliani\nArgentino\nHamburger di chianina\nGelato thailandese\nPizza fritta\nTortellini fritti\nLampredotto\nPanino Gourmet\nFagotto del Chianti\nGnocco fritto e Tigelle con Salumi e Formaggi\nPollo e conigliolo fritto\ne molto altro.. \n\nInfo: 340 0530835
URL:https://www.eventiintoscana.it/evento/poggibonsi-street-food-poggibonsi-siena
CATEGORIES:Rassegne e Sagre,Siena
ATTACH;FMTTYPE=image/jpeg:https://www.eventiintoscana.it/wp-content/uploads/2022/03/Poggibonsi-Street-Food-Poggibonsi-Siena.jpg
END:VEVENT
BEGIN:VEVENT
DTSTART;TZID=Europe/Rome:20220408T100000
DTEND;TZID=Europe/Rome:20220410T200000
DTSTAMP:20260422T200906
CREATED:20220405T085514Z
LAST-MODIFIED:20220405T085514Z
UID:297378-1649412000-1649620800@www.eventiintoscana.it
SUMMARY:Chocomoments. Festa del cioccolato artigianale - San Miniato (Pisa)
DESCRIPTION:Da venerdì 8 a domenica 10 aprile in Piazza del Popolo a San Miniato si svolge Chocomoments\, la Festa del cioccolato artigianale. \nLa dolcezza del vero cioccolato artigianale conquisterà tutti grazie al ricco assortimento di gustose praline\, tavolette di cioccolato al latte\, fondenti e aromatizzate\, creme spalmabili\, liquori al cioccolato\, freschi e deliziosi abbinamenti di frutta e cioccolato fuso etc. \nLe golose tentazioni sono realizzate ad opera dei maestri cioccolatieri che vi aspettano durante la mostra mercato con stand sempre aperti dalle 10:00 alle 20:00 \nPer i più piccoli tutti i giorni c’è lo spazio ChocoBaby aperto dalle 15.30 alle 17.30 nel quale è possibile improvvisare con il cioccolato\, per realizzare deliziosi #cioccolatini con tutte le attrezzature necessarie: grembiuli\, cappellini\, guanti e attrezzi per la lavorazione. \nNon è necessaria la prenotazione\, costo 5 euro\, durata circa 15 min \nUn evento organizzato dal Chocomoments con il patrocinio del Comune di San Miniato in collaborazione con : Confesercenti Toscana Nord\, CCN San Miniato nel cuore\, San Miniato Promozione\, Pro Loco San Miniato e Centro Sirio.
URL:https://www.eventiintoscana.it/evento/chocomoments-festa-del-cioccolato-artigianale-san-miniato-pisa
CATEGORIES:Pisa,Rassegne e Sagre
ATTACH;FMTTYPE=image/jpeg:https://www.eventiintoscana.it/wp-content/uploads/2022/04/Cioccolato_pixabay.jpg
END:VEVENT
BEGIN:VEVENT
DTSTART;VALUE=DATE:20220409
DTEND;VALUE=DATE:20220411
DTSTAMP:20260422T200906
CREATED:20220330T083701Z
LAST-MODIFIED:20220330T083701Z
UID:296805-1649462400-1649635199@www.eventiintoscana.it
SUMMARY:Di seme in seme - Montespertoli (Firenze)
DESCRIPTION:Sabato 9 e domenica 10 aprile a “I Lecci” di Montespertoli appuntamento con Di Seme in Seme\, la rassegna organizzata dall’Associazione Produttori Colline Toscane con l’obiettivo di migliorare la sostenibilità economica e ambientale della filiera delle Colline Toscane. \nDopo il “Grano di tradizione” (2018) e l‘ “Olio Extra Vergine di Oliva” (2019)\, la rassegna 2022 avrà come protagonista il formaggio\, con la tematica “filiera latte”. \nSaranno due giorni ricchi di attività: convegni\, tavole rotonde\, scambio di idee ed esperienze\, con l’immancabile Street Food a Km 0\, dove i soci dell’Apct proporranno piatti della tradizione esaltando le qualità delle loro produzioni. \nInoltre\, un invitante Cheese Bar accoglierà tutti i presenti con degustazioni di formaggi. \nDi seme in seme segna la ripresa delle attività culturali e  conviviali dell’Aptc\, che ospita la manifestazione presso la sua sede operativa. \nQuesta edizione è dedicata alla Toscana con le sue DOP\, per far conoscere a fondo questo straordinario prodotto in tutte le sue lavorazioni e peculiarità”.  \nIl progetto Di seme in seme\nIl progetto è iniziato con il trasferimento di agro-tecniche sostenibili nelle aziende socie dell’ Apct e quelle partner\, puntando sulla tutela e valorizzazione del territorio e sul trasferimento di innovazioni capaci di migliorare i sistemi agro-colturali. \nAl tempo stesso\, con la collaborazione dei soci dell’associazione e delle filiere interessate\, è stata valutata la sostenibilità in termini di impatto ambientale\, consumi energetici\, fornendo una fotografia dello stato attuale che sarà utile per migliorare la qualità dell’operato dei soci-produttori verso una produzione più naturale possibile. 
URL:https://www.eventiintoscana.it/evento/di-seme-in-seme-montespertoli-firenze
CATEGORIES:Firenze,Rassegne e Sagre
ATTACH;FMTTYPE=image/jpeg:https://www.eventiintoscana.it/wp-content/uploads/2022/03/Di-seme-in-seme-Montespertoli-Firenze.jpg
END:VEVENT
BEGIN:VEVENT
DTSTART;TZID=Europe/Rome:20220415T110000
DTEND;TZID=Europe/Rome:20220418T230000
DTSTAMP:20260422T200906
CREATED:20220331T070334Z
LAST-MODIFIED:20220331T070334Z
UID:296899-1650020400-1650322800@www.eventiintoscana.it
SUMMARY:Street food - Lido di Camaiore (Lucca)
DESCRIPTION:Lo street food arriva a Lido di Camaiore da venerdì 15 a lunedì 18 aprile. \nIn viale Kennedy\, di fronte allo spazio di Bussoladomani\, i migliori cuochi itineranti su truck o all’interno di colorati gazebi prepareranno sul posto specialità nazionali e internazionali. \nAppuntamento sia a pranzo che a cena con tavoli a disposizione e animazione per bambini\, giochi e dj set. \nLe cucine mobili entreranno in funzione dalle ore 16 di venerdì 15 aprile per l’inaugurazione dell’evento\, il sabato e per Pasqua e Pasquetta apertura continuata dalle 11 alle 23. \nProposte gastronomiche:\nlampredotto\,ribollita\,pizza cotta a legna\npaella spagnola\npanini gourmet con la guancia\ntacos e burrito dal messico\nhamburger di scottona\npiadina e gnocco fritto\npolenta in tutti i modi\ncarne alla griglia\ncocktail internazionali\npulled pork\npinsa romana e saltimbocca\narrosticini \,olive all’ascolana e specialita’ abruzzesi\nspecialità di angus\nporchetta e stand medievale\nbomboloni\,waffel e crepes\nbirra artigianale e birra danese\, cocktail cubani \nIngresso libero.
URL:https://www.eventiintoscana.it/evento/street-food-lido-di-camaiore-lucca
CATEGORIES:Lucca,Rassegne e Sagre
ATTACH;FMTTYPE=image/jpeg:https://www.eventiintoscana.it/wp-content/uploads/2022/03/Street-food-Lido-di-Camaiore-Lucca.jpg
END:VEVENT
BEGIN:VEVENT
DTSTART;TZID=Europe/Rome:20220421T190000
DTEND;TZID=Europe/Rome:20220424T233000
DTSTAMP:20260422T200906
CREATED:20220420T073900Z
LAST-MODIFIED:20220426T065501Z
UID:297500-1650567600-1650843000@www.eventiintoscana.it
SUMMARY:Tortelli e calamari in ecofesta - loc. Casamora\, Castiglione della Pescaia (Grosseto)
DESCRIPTION:Da giovedì 21 a domenica 24 aprile a Castiglione della Pescaia si svolge Tortelli e calamari in ecofesta. \nGli stand gastronomici aprono alle 19 presso il Palazzetto dello Sport in località Casamora.
URL:https://www.eventiintoscana.it/evento/tortelli-e-calamari-in-ecofesta-loc-casamora-castiglione-della-pescaia-grosseto
CATEGORIES:Grosseto,Rassegne e Sagre
ATTACH;FMTTYPE=image/jpeg:https://www.eventiintoscana.it/wp-content/uploads/2022/04/Tortelli-e-calamari-in-ecofesta-Castiglione-della-Pescaia.jpg
END:VEVENT
BEGIN:VEVENT
DTSTART;VALUE=DATE:20220422
DTEND;VALUE=DATE:20220426
DTSTAMP:20260422T200906
CREATED:20220328T133446Z
LAST-MODIFIED:20220328T133446Z
UID:296718-1650585600-1650931199@www.eventiintoscana.it
SUMMARY:Streetfood 4Wheels - Viale Giotto\, Arezzo
DESCRIPTION:Lo Streetfood 4Wheels arriva in Viale Giotto ad Arezzo dal 22 al 25 aprile. \n\nInfo: Pagina Facebook
URL:https://www.eventiintoscana.it/evento/streetfood-4wheels-viale-giotto-arezzo
CATEGORIES:arezzo,Rassegne e Sagre
ATTACH;FMTTYPE=image/jpeg:https://www.eventiintoscana.it/wp-content/uploads/2021/06/street-food_pixabay.jpg
END:VEVENT
BEGIN:VEVENT
DTSTART;TZID=Europe/Rome:20220422T100000
DTEND;TZID=Europe/Rome:20220425T233000
DTSTAMP:20260422T200906
CREATED:20220421T141912Z
LAST-MODIFIED:20220421T141912Z
UID:297624-1650621600-1650929400@www.eventiintoscana.it
SUMMARY:Sapori del mondo - Castiglione d'Orcia (Siena)
DESCRIPTION:Dal 22 al 25 aprile torna a Castiglione D’orcia Sapori Del Mondo\, la rassegna enogastronomica dedicata al meglio del cibo di strada italiano e dal mondo e birre artigianali. \nOrario: dalle 10.00 alle 24.00. \n\nInfo: 331 3221274 – 3891084308
URL:https://www.eventiintoscana.it/evento/sapori-del-mondo-castiglione-dorcia-siena
CATEGORIES:Rassegne e Sagre,Siena
ATTACH;FMTTYPE=image/jpeg:https://www.eventiintoscana.it/wp-content/uploads/2022/04/Sapori-del-mondo-Castiglione-dOrcia-Grosseto.jpg
END:VEVENT
BEGIN:VEVENT
DTSTART;TZID=Europe/Rome:20220422T120000
DTEND;TZID=Europe/Rome:20220425T230000
DTSTAMP:20260422T200906
CREATED:20190414T151809Z
LAST-MODIFIED:20220426T065442Z
UID:275091-1650628800-1650927600@www.eventiintoscana.it
SUMMARY:Sagra del cinghiale - Chiocchio\, Greve in Chianti (Firenze)
DESCRIPTION:39 edizione per la sagra del cinghiale organizzata presso il Circolo Arci di Chiocchio: appuntamento nei giorni 22\, 23\, 24 e 25 aprile. \nIl menù prevede piatti a base di ottimo cinghiale cacciato nei boschi del Chianti. \nOrari: \nvenerdì 22 aprile: cena \nsabato 23 aprile: pranzo e cena \ndomenica 24 aprile: pranzo e cena \nlunedì 25 aprile: pranzo \nAll’esterno\, chiosco bar per aperitivi e caffè \n\nPrenotazioni ai numeri 331.3886818
URL:https://www.eventiintoscana.it/evento/sagra-del-cinghiale-chiocchio-greve-chianti-firenze
LOCATION:Circolo Arci\, Via Lando Conti 11\, Chiocchio\, Greve in Chianti (Firenze)
CATEGORIES:Firenze,Rassegne e Sagre
ATTACH;FMTTYPE=image/jpeg:https://www.eventiintoscana.it/wp-content/uploads/2019/04/Sagra-del-cinghiale-Chiocchio-Greve-in-Chianti-Firenze.jpg
END:VEVENT
BEGIN:VEVENT
DTSTART;VALUE=DATE:20220423
DTEND;VALUE=DATE:20220426
DTSTAMP:20260422T200906
CREATED:20220330T142057Z
LAST-MODIFIED:20220330T142057Z
UID:296853-1650672000-1650931199@www.eventiintoscana.it
SUMMARY:Street food - Rosignano Solvay (Livorno)
DESCRIPTION:Nei giorni 23\, 24 e 25 aprile appuntamento a Rosignano Solvay con tre giornate di street food e molti altri eventi. \nTra gli eventi previsti: \n\nMusica anni 60/70/80 dal pranzo alla cena (23 aprile con dj Rosko\, 24 aprile la Magic Regoli’s tribute band Pink Floyd\, 25 aprile The Big Monkey)\nstreet food\ngonfiabili\nraduno auto e moto d’epoca\n\nAppuntamento nel parcheggio antistante l’autoscuola Go\, incrocio via Dante Alighieri via dell’artigianato\, in collaborazione con il Bar le Bimbe. \nPer entrare più nell’atmosfera sarà gradito il look a tema anni 60 /70 /80. \n\nInfo: Pagina Facebook
URL:https://www.eventiintoscana.it/evento/street-food-rosignano-solvay-livorno
CATEGORIES:Livorno,Rassegne e Sagre
ATTACH;FMTTYPE=image/jpeg:https://www.eventiintoscana.it/wp-content/uploads/2022/03/Street-food-Rosignano-Solvay-Livorno.jpg
END:VEVENT
BEGIN:VEVENT
DTSTART;TZID=Europe/Rome:20220423T123000
DTEND;TZID=Europe/Rome:20220501T230000
DTSTAMP:20260422T200906
CREATED:20220422T074639Z
LAST-MODIFIED:20220422T074639Z
UID:297639-1650717000-1651446000@www.eventiintoscana.it
SUMMARY:Sagra del tortello e del prugnolo - Circolo MCL\, Scarperia (Firenze)
DESCRIPTION:Nei giorni 23\, 24 e 25 aprile e ancora 30 aprile e 1 maggio\, al Circolo MCL di Scarperia\, appuntamento con la Sagra del tortello e del prugnolo\, \nIl ristorante apre il sabato alle 19\, la domenica alle 12 e alle 19. \nRistorante riscaldato. \n\nInfo: 055 760 3226
URL:https://www.eventiintoscana.it/evento/sagra-del-tortello-e-del-prugnolo-circolo-mcl-scarperia-firenze
CATEGORIES:Firenze,Rassegne e Sagre
ATTACH;FMTTYPE=image/jpeg:https://www.eventiintoscana.it/wp-content/uploads/2022/04/Sagra-del-tortello-e-del-prugnolo-Circolo-MCL-Scarperia-Firenze.jpg
END:VEVENT
BEGIN:VEVENT
DTSTART;TZID=Europe/Rome:20220429T113000
DTEND;TZID=Europe/Rome:20220501T233000
DTSTAMP:20260422T200906
CREATED:20220331T103154Z
LAST-MODIFIED:20220331T103154Z
UID:296935-1651231800-1651447800@www.eventiintoscana.it
SUMMARY:Street food Fest - Monsummano Terme (Pistoia)
DESCRIPTION:Venerdì 29\, sabato 30 aprile e domenica 1 maggio\, appuntamento con lo Street food Fest a Monsummano Terme. \nLo street food è in Piazza Giusti e in Piazza del Popolo. \nMusica live\, dj set\, per i più piccoli giostre\, giochi e animazione. \nOrario: \nvenerdì dalle 17.00 alle 24:00 \nSabato e Domenica dalle 11.30 alle 24:00 \n\nInfo: 329186645 – Evento Facebook
URL:https://www.eventiintoscana.it/evento/street-food-fest-monsummano-terme-pistoia-2
CATEGORIES:Pistoia,Rassegne e Sagre
ATTACH;FMTTYPE=image/jpeg:https://www.eventiintoscana.it/wp-content/uploads/2022/03/Street-Food-Fest-Monsummano-Terme-Pistoia.jpg
END:VEVENT
BEGIN:VEVENT
DTSTART;TZID=Europe/Rome:20220429T120000
DTEND;TZID=Europe/Rome:20220501T230000
DTSTAMP:20260422T200906
CREATED:20170427T101722Z
LAST-MODIFIED:20220427T100220Z
UID:239926-1651233600-1651446000@www.eventiintoscana.it
SUMMARY:Sagra della pizza e del cinghiale - Pontassieve (Firenze)
DESCRIPTION:Prosegue nei giorni 29\, 30 aprile e 1 maggio la Sagra della pizza e del cinghiale a Pontassieve. \nIl menù prevede antipasto toscano\, tortelli\, polenta\, pappardelle al cinghiale\, cinghiale fritto e cinghiale in umido. \nApertura degli stand gastronomici alle 19\, domenica e festivi anche pranzo dalle 12. \nOrganizzato da ASD Pontassieve presso lo Stadio Comunale.
URL:https://www.eventiintoscana.it/evento/sagra-della-pizza-del-cinghiale-pontassieve-firenze
LOCATION:Rufina\, Firenze
CATEGORIES:Firenze,Rassegne e Sagre
ATTACH;FMTTYPE=image/jpeg:https://www.eventiintoscana.it/wp-content/uploads/2017/04/Sagra-del-cinghiale-e-della-pizza.jpg
END:VEVENT
BEGIN:VEVENT
DTSTART;TZID=Europe/Rome:20220430T120000
DTEND;TZID=Europe/Rome:20220501T230000
DTSTAMP:20260422T200906
CREATED:20170405T145543Z
LAST-MODIFIED:20220427T101212Z
UID:238841-1651320000-1651446000@www.eventiintoscana.it
SUMMARY:Sagra del Cacciucco e Gamberoni alla Griglia - Rufina (Firenze)
DESCRIPTION:Prosegue il 30 aprile e 1° maggio la Sagra del Cacciucco e Gamberoni alla Griglia a Rufina. \nIl menù della sagra prevede antipasti\, primi piatti\, cacciucco senza spine\, gamberoni alla griglia\, frittura di calamari e gamberetti\, il tutto accompagnato da ottimi vini. \nPer chi non ama il pesce\, non mancherà la carne alla griglia. \nIl ristorante\, allestito in locali climatizzati presso gli impianti sportivi del paese\, apre la sera a cena dalle 19 e i festivi anche a pranzo dalle 12. \n\nInfo .0558396343 – 335.430999
URL:https://www.eventiintoscana.it/evento/sagra-del-cacciucco-e-gamberoni-alla-griglia-rufina-rufina-firenze-4
LOCATION:Rufina\, Rufina\, Toscana\, 50068\, Italia
CATEGORIES:Firenze,Rassegne e Sagre
ATTACH;FMTTYPE=image/jpeg:https://www.eventiintoscana.it/wp-content/uploads/2017/04/Sagra-del-cacciucco-e-dei-gamberoni-alla-griglia-Rufina.jpg
END:VEVENT
END:VCALENDAR