BEGIN:VCALENDAR
VERSION:2.0
PRODID:-//Eventi in Toscana By Toscana Tascabile - ECPv6.15.12.2//NONSGML v1.0//EN
CALSCALE:GREGORIAN
METHOD:PUBLISH
X-WR-CALNAME:Eventi in Toscana By Toscana Tascabile
X-ORIGINAL-URL:https://www.eventiintoscana.it
X-WR-CALDESC:Eventi per Eventi in Toscana By Toscana Tascabile
REFRESH-INTERVAL;VALUE=DURATION:PT1H
X-Robots-Tag:noindex
X-PUBLISHED-TTL:PT1H
BEGIN:VTIMEZONE
TZID:Europe/Rome
BEGIN:DAYLIGHT
TZOFFSETFROM:+0100
TZOFFSETTO:+0200
TZNAME:CEST
DTSTART:20210328T010000
END:DAYLIGHT
BEGIN:STANDARD
TZOFFSETFROM:+0200
TZOFFSETTO:+0100
TZNAME:CET
DTSTART:20211031T010000
END:STANDARD
BEGIN:DAYLIGHT
TZOFFSETFROM:+0100
TZOFFSETTO:+0200
TZNAME:CEST
DTSTART:20220327T010000
END:DAYLIGHT
BEGIN:STANDARD
TZOFFSETFROM:+0200
TZOFFSETTO:+0100
TZNAME:CET
DTSTART:20221030T010000
END:STANDARD
BEGIN:DAYLIGHT
TZOFFSETFROM:+0100
TZOFFSETTO:+0200
TZNAME:CEST
DTSTART:20230326T010000
END:DAYLIGHT
BEGIN:STANDARD
TZOFFSETFROM:+0200
TZOFFSETTO:+0100
TZNAME:CET
DTSTART:20231029T010000
END:STANDARD
END:VTIMEZONE
BEGIN:VEVENT
DTSTART;TZID=Europe/Rome:20220210T210000
DTEND;TZID=Europe/Rome:20220310T230000
DTSTAMP:20260422T074248
CREATED:20220201T143606Z
LAST-MODIFIED:20220201T143606Z
UID:295652-1644526800-1646953200@www.eventiintoscana.it
SUMMARY:Corsi di avvicinamento al vino - Villa Severi\, Arezzo
DESCRIPTION:Di seguito il calendario del prossimo Corso di Avvicinamento al vino in programma ad Arezzo presso il polo enogastronomico di Villa Severi a partire da giovedì 10 febbraio 2022 \nLe date previste sono: \n1° Lezione 10 febbraio 2022 giovedì\nTecnica della degustazione \n2° Lezione 17 febbraio 2022 giovedì\nViticoltura e tecniche enologiche\, tecniche di servizio.\nCenni ai vini biologici e biodinamici \n3° Lezione 24 febbraio 2022 giovedì\nEnografia nazionale\, legislazione\, l’etichetta \n4° Lezione 3 marzo 2022 giovedì\nEnografia internazionale; Spumanti e Vini Speciali \n5° Lezione 10 marzo 2022 giovedì\nAbbinamento cibo-vino \nPer ogni incontro ci saranno tre vini in degustazione con la presenza diretta di un produttore socio della Strada del Vino Terre di Arezzo. Nell’incontro abbinamento cibo-vino è prevista un’esercitazione pratica con preparazioni idonee in abbinamento. \nGli incontri saranno tenuti da Relatori dell’Associazione Italiana Sommelier \nInizio delle lezioni alle ore 21.00 (durata di ciascun incontro due ore). \nQuota di partecipazione: € 120 \nLa quota comprende attestato di partecipazione\, borsa\, dispense\, tre bicchieri da degustazione. \nSede del corso: Polo enogastronomico Villa Severi (Via F. Redi\, 13 – Arezzo) \nIscrizioni: Strada del Vino Terre di Arezzo info@stradadelvino.arezzo.it \nIN BASE ALLE DISPOSIZIONI IN VIGORE IN MATERIA DI CONTENIMENTO DEL CONTAGIO DA COVID-19 \nPER PARTECIPARE AL CORSO E’ OBBLIGATORIO POSSEDERE E MOSTRARE LA CERTIFICAZIONE VERDE COVID19 – GREEN PASS RAFFORZATO ED INDOSSARE LA MASCHERINA FFP2.
URL:https://www.eventiintoscana.it/evento/corsi-di-avvicinamento-al-vino-villa-severi-arezzo
CATEGORIES:arezzo,Rassegne e Sagre
ATTACH;FMTTYPE=image/jpeg:https://www.eventiintoscana.it/wp-content/uploads/2022/02/Corsi-di-avvicinamento-al-vino-Villa-Severi-Arezzo.jpg
END:VEVENT
BEGIN:VEVENT
DTSTART;TZID=Europe/Rome:20220212T100000
DTEND;TZID=Europe/Rome:20220212T120000
DTSTAMP:20260422T074248
CREATED:20220202T112328Z
LAST-MODIFIED:20220202T112328Z
UID:295709-1644660000-1644667200@www.eventiintoscana.it
SUMMARY:XXI Concorso premio olio di qualità olio extravergine d'oliva del Montalbano - Teatro di Vinci\, Vinci (Firenze)
DESCRIPTION:Sabato 12 febbraio al Teatro di Vinci appuntamento con il XXI Concorso premio olio di qualità olio extravergine d’oliva del Montalbano. \nLa prenimazione è alle ore 10. \nL’olio partecipante al concorso proviene da olive raccolte nell’area del Patto di Montalbano (Comune di Vinci\, Cerreto Guidi\, Lamporecchio\, Larciano\, Quarrata\, Capraia e Limite\, Carmignano\, Serravalle Pistoiese\, Monsummano Terme\, Poggio a Caiano). \n 
URL:https://www.eventiintoscana.it/evento/xxi-concorso-premio-olio-di-qualita-olio-extravergine-doliva-del-montalbano-teatro-di-vinci-vinci-firenze
CATEGORIES:Firenze,Rassegne e Sagre
ATTACH;FMTTYPE=image/jpeg:https://www.eventiintoscana.it/wp-content/uploads/2022/02/Concorso-premio-olio-di-qualità-olio-extravergine-doliva-del-Montalbano.jpg
END:VEVENT
BEGIN:VEVENT
DTSTART;TZID=Europe/Rome:20220226T200000
DTEND;TZID=Europe/Rome:20220226T233000
DTSTAMP:20260422T074248
CREATED:20220221T114246Z
LAST-MODIFIED:20220221T114434Z
UID:295817-1645905600-1645918200@www.eventiintoscana.it
SUMMARY:Cena con delitto di Carnevale - Ristorante Borgo degli Aranci\, Loc. Le Capanne (San Giuliano Terme\, Pisa)
DESCRIPTION:Sabato 26 febbraio al Ristorante Borgo degli Aranci in Loc. Le Capanne\, a San Giuliano Terme\, appuntamento con una Cena con delitto di Carnevale. \nTransilvania\, una notte buia. \nCi vuole sangue fresco… ehm\, freddo per indagare sulla morte di un vampiro in una notte come questa… \nFantasmi\, zombie\, licantropi e streghe\, è proprio in questo strano entourage del castello che si cela il responsabile della morte di Vlad\, il più famoso dei succhiasangue…\nAvrete il coraggio di smascherarlo? \nVenite per un morso… restate per l’omicidio! \n\n\nPrezzo cena con spettacolo 38€ \nPrenotazione obbligatoria tramite info@delittialdente.it –  347 1126587 \nI commensali\, divisi in squadre\, si trasformeranno in équipe investigative che\, in una sfida a colpi di indizi\, prenderanno parte allo spettacolo e dipaneranno il mistero! \nMENU\n– Antipasto\nCrostino di fegatino\, salsiccia e funghi\, salsa verde\, sformato di zucchine con fonduta di parmigiano\n– Primo\nPappardelle lardo e funghi\n– Secondo\nControfiletto di maiale arrosto al profumo di arance e rosmarino\n– Dolce\nCheesecake scomposto \nAcqua\, vino e caffè \nDisponibile anche menù per bambini e variazioni per intolleranze/vegetariani. \n\nEvento di Delitti al Dente
URL:https://www.eventiintoscana.it/evento/cena-con-delitto-di-carnevale-ristorante-borgo-degli-aranci-loc-le-capanne-san-giuliano-terme-pisa
CATEGORIES:Pisa,Rassegne e Sagre
ATTACH;FMTTYPE=image/jpeg:https://www.eventiintoscana.it/wp-content/uploads/2022/02/Cena-con-delitto-a-sangue-freddo-Borgo-degli-aranci.jpg
END:VEVENT
END:VCALENDAR