BEGIN:VCALENDAR
VERSION:2.0
PRODID:-//Eventi in Toscana By Toscana Tascabile - ECPv6.15.12.2//NONSGML v1.0//EN
CALSCALE:GREGORIAN
METHOD:PUBLISH
X-WR-CALNAME:Eventi in Toscana By Toscana Tascabile
X-ORIGINAL-URL:https://www.eventiintoscana.it
X-WR-CALDESC:Eventi per Eventi in Toscana By Toscana Tascabile
REFRESH-INTERVAL;VALUE=DURATION:PT1H
X-Robots-Tag:noindex
X-PUBLISHED-TTL:PT1H
BEGIN:VTIMEZONE
TZID:Europe/Rome
BEGIN:DAYLIGHT
TZOFFSETFROM:+0100
TZOFFSETTO:+0200
TZNAME:CEST
DTSTART:20210328T010000
END:DAYLIGHT
BEGIN:STANDARD
TZOFFSETFROM:+0200
TZOFFSETTO:+0100
TZNAME:CET
DTSTART:20211031T010000
END:STANDARD
BEGIN:DAYLIGHT
TZOFFSETFROM:+0100
TZOFFSETTO:+0200
TZNAME:CEST
DTSTART:20220327T010000
END:DAYLIGHT
BEGIN:STANDARD
TZOFFSETFROM:+0200
TZOFFSETTO:+0100
TZNAME:CET
DTSTART:20221030T010000
END:STANDARD
BEGIN:DAYLIGHT
TZOFFSETFROM:+0100
TZOFFSETTO:+0200
TZNAME:CEST
DTSTART:20230326T010000
END:DAYLIGHT
BEGIN:STANDARD
TZOFFSETFROM:+0200
TZOFFSETTO:+0100
TZNAME:CET
DTSTART:20231029T010000
END:STANDARD
END:VTIMEZONE
BEGIN:VEVENT
DTSTART;VALUE=DATE:20220115
DTEND;VALUE=DATE:20220117
DTSTAMP:20260421T021737
CREATED:20211231T090841Z
LAST-MODIFIED:20211231T090841Z
UID:295224-1642204800-1642377599@www.eventiintoscana.it
SUMMARY:Birraio dell'Anno - Tuscany Hall\, Firenze
DESCRIPTION:Il Birraio dell’Anno\, il festival organizzato dal network Fermento Birra\, torna al Tuscany Hall di Firenze il 15 e il 16 gennaio. \nNato attorno ad un ambito premio nazionale che da 12 anni riconosce il miglior produttore di birra italiana\, l’evento riunirà i 20 candidati al premio Birraio dell’Anno e i 5 giovani in gara per il Birraio Emergente\, che si troveranno fianco a fianco pronti a spillare le loro creazioni. \nLa novità di quest’anno\, per motivi legati al protocollo sanitario\, sarà l’allestimento di una grande area con sedute per il consumo della birra in tutta tranquillità e sicurezza\, e la presenza di un beer pass che garantirà ai visitatori l’assaggio di tutte le birre desiderate senza nessun tipo di pagamento al momento della somministrazione (non sono previsti i gettoni delle edizioni passate). \nDue le sessioni di degustazione previste: sabato 15 gennaio con orario 18-23 animato dalla premiazione sul palco del birraio emergente (ore 21.30)\, e domenica 16 gennaio con orario 12-17 con l’incoronazione del miglior birraio dell’anno prevista alle ore 15.30. \nNon mancheranno inoltre i momenti culturali\, come degustazioni gratuite e incontri realizzati sul palco del teatro\, e nemmeno il buon cibo grazie ad una selezione di street-food (i prodotti gastronomici non sono inclusi nel beer pass e saranno pagati direttamente ai food truck). \nUna evento vetrina per la birra artigianale italiana\, oramai apprezzata a livello internazionale\, che permetterà ai veri beerlover di vivere un’esperienza a contatto con i protagonisti del settore\, godendo delle migliori produzioni. \nQUANTO COSTA LA BIRRA?\nLa birra non ha un costo prefissato: una volta acquistato il beer pass si può bere liberamente. \nORARI\nSabato 15 gennaio 2022 dalle 18 alle 23 (premiazione del Birraio Emergente dalle 21.30 alle 22). La biglietteria apre alle 17.00.\nDomenica 16 gennaio 2022 dalle 12 alle 17 (premiazione del Birraio dell’Anno dalle 15.30 alle 16). La biglietteria apre alle 11.00.
URL:https://www.eventiintoscana.it/evento/birraio-dellanno-tuscany-hall-firenze
CATEGORIES:Firenze,Rassegne e Sagre
ATTACH;FMTTYPE=image/jpeg:https://www.eventiintoscana.it/wp-content/uploads/2021/12/Birraio-dellanno-Firenze.jpg
END:VEVENT
END:VCALENDAR