BEGIN:VCALENDAR
VERSION:2.0
PRODID:-//Eventi in Toscana By Toscana Tascabile - ECPv6.15.12.2//NONSGML v1.0//EN
CALSCALE:GREGORIAN
METHOD:PUBLISH
X-WR-CALNAME:Eventi in Toscana By Toscana Tascabile
X-ORIGINAL-URL:https://www.eventiintoscana.it
X-WR-CALDESC:Eventi per Eventi in Toscana By Toscana Tascabile
REFRESH-INTERVAL;VALUE=DURATION:PT1H
X-Robots-Tag:noindex
X-PUBLISHED-TTL:PT1H
BEGIN:VTIMEZONE
TZID:Europe/Rome
BEGIN:DAYLIGHT
TZOFFSETFROM:+0100
TZOFFSETTO:+0200
TZNAME:CEST
DTSTART:20180325T010000
END:DAYLIGHT
BEGIN:STANDARD
TZOFFSETFROM:+0200
TZOFFSETTO:+0100
TZNAME:CET
DTSTART:20181028T010000
END:STANDARD
BEGIN:DAYLIGHT
TZOFFSETFROM:+0100
TZOFFSETTO:+0200
TZNAME:CEST
DTSTART:20190331T010000
END:DAYLIGHT
BEGIN:STANDARD
TZOFFSETFROM:+0200
TZOFFSETTO:+0100
TZNAME:CET
DTSTART:20191027T010000
END:STANDARD
BEGIN:DAYLIGHT
TZOFFSETFROM:+0100
TZOFFSETTO:+0200
TZNAME:CEST
DTSTART:20200329T010000
END:DAYLIGHT
BEGIN:STANDARD
TZOFFSETFROM:+0200
TZOFFSETTO:+0100
TZNAME:CET
DTSTART:20201025T010000
END:STANDARD
END:VTIMEZONE
BEGIN:VEVENT
DTSTART;TZID=Europe/Rome:20190413T093000
DTEND;TZID=Europe/Rome:20190414T190000
DTSTAMP:20260423T002829
CREATED:20190313T093227Z
LAST-MODIFIED:20190410T131433Z
UID:261974-1555147800-1555268400@www.eventiintoscana.it
SUMMARY:Naturalitas - Pescia (Pistoia)
DESCRIPTION:Nei giorni sabato 13 e domenica 14 aprile  l’Istituto Tecnico Agrario “D. Anzilotti” di Pescia si trasforma in una grande vetrina per gli espositori provenienti dalla Toscana e da altre regioni in occasione di Naturalitas\, mostra mercato con i tradizionali settori legati al florovivaismo\, all’enogastronomia tipica\, all’arredo del giardino\, alle attrezzature per il gardening\, oltre che ovviamente ad una vasta rappresentanza di prodotti e macchine per l’agricoltura\, alla cosmetica naturale\, ai libri\, all’abbigliamento e a molto altro.\nConsapevole che l’agricoltura è anche presidio territoriale\, tutela dell’ambiente\, della qualità della vita e della genuinità\, Naturalitas promuove il settore agricolo con un’attenzione speciale verso la valorizzazione del tessuto socio-economico. L’evento si colloca tra gli appuntamenti ﬁeristici più importanti anche a livello nazionale\, per esperienza\, qualità\, attendibilità e\, soprattutto\, capacità di offrire agli espositori importanti occasioni di vendita e di contatti mirati con fruitori\, operatori e imprenditori agricoli del Centro Italia e non solo. \n—sito ufficiale della manifestazione—
URL:https://www.eventiintoscana.it/evento/naturalitas-pescia-pescia-pistoia
LOCATION:Pescia\, Pescia\, Toscana\, Italia
CATEGORIES:Fiere e Mercatini,Pistoia
ATTACH;FMTTYPE=image/jpeg:https://www.eventiintoscana.it/wp-content/uploads/2018/02/naturalitas.jpg
END:VEVENT
BEGIN:VEVENT
DTSTART;TZID=Europe/Rome:20190413T000000
DTEND;TZID=Europe/Rome:20190915T000000
DTSTAMP:20260423T002829
CREATED:20190902T105257Z
LAST-MODIFIED:20190902T105257Z
UID:278494-1555113600-1568505600@www.eventiintoscana.it
SUMMARY:L’Oratorio di S.Maria della Neve a Montevettolini. Un itinerario di architettura e arte nel segno di Leonardo - Museo della Città e del Territorio\, Monsummano Terme (Pistoia)
DESCRIPTION:Nell’ambito delle Celebrazioni Leonardiane\, una mostra documentaria a cura di Carla G.Romby che propone al visitatore un viaggio sul territorio verso il borgo medievale di Montevettolini\, dalla cui collina Leonardo guardava e disegnava il paesaggio della Valdinievole. Castelli e torri\, pievi\, oratori e tabernacoli disseminati a corona intorno al lago-padule custodiscono tesori d’arte da conoscere e scoprire. Ingresso gratuito. In programma visite e incontri. Orario: lun\, merc e ven 9-13\, mart e giov 9-13 e 16-18\, chiuso sab\, dom e festivi tranne ap. straordinarie.
URL:https://www.eventiintoscana.it/evento/loratorio-di-s-maria-della-neve-a-montevettolini-un-itinerario-di-architettura-e-arte-nel-segno-di-leonardo-museo-della-citta-e-del-territorio-monsummano-terme-pistoia
LOCATION:Museo della Città e del Territorio\, Piazza Ferdinando Martini\, 1\, Monsummano Terme\, Toscana\, 51015\, Italia
CATEGORIES:Mostre d'Arte,Pistoia
ATTACH;FMTTYPE=image/jpeg:https://www.eventiintoscana.it/wp-content/uploads/2019/09/37154__mostra4.jpg
END:VEVENT
BEGIN:VEVENT
DTSTART;TZID=Europe/Rome:20190413T000000
DTEND;TZID=Europe/Rome:20190531T000000
DTSTAMP:20260423T002829
CREATED:20190523T124717Z
LAST-MODIFIED:20190523T142635Z
UID:276216-1555113600-1559260800@www.eventiintoscana.it
SUMMARY:Viaggio Mediterraneo - La Bottega del Caffè\, Monsummano Terme (Pistoia)
DESCRIPTION:Una mostra personale dell’artista Andrea Mattiello che vuole portare l’arte nel quotidiano e nei luoghi di lavoro. Esposta una serie di opere recenti su tela\, alcuni inediti\, e piccoli collages dedicati alle suggestioni delle luci e dei colori legati al viaggio pugliese dell’autore\, in cui la pianta e il frutto ‘fico d’India’ sono indiscussi protagonisti. Ingresso libero. Orario: lun 6.30-13.00\, mart-dom 6.30-21.
URL:https://www.eventiintoscana.it/evento/viaggio-mediterraneo-la-bottega-del-caffe-monsummano-terme-pistoia
LOCATION:La Bottega del Caffè\, Piazza del Popolo\, 245\, Monsummano Terme\, Toscana\, 50060\, Italia
CATEGORIES:Mostre d'Arte,Pistoia
ATTACH;FMTTYPE=image/jpeg:https://www.eventiintoscana.it/wp-content/uploads/2019/05/37146__52Cviaggiomediterraneo2Clivin27art2Clucca2Candreamattiello2Cartistaemergente2Carte2Cartecontemporanea2Ccontemporaryart-2.jpg
END:VEVENT
BEGIN:VEVENT
DTSTART;TZID=Europe/Rome:20190412T210000
DTEND;TZID=Europe/Rome:20190412T210000
DTSTAMP:20260423T002829
CREATED:20190331T224641Z
LAST-MODIFIED:20190331T224641Z
UID:274807-1555102800-1555102800@www.eventiintoscana.it
SUMMARY:Omaggio a Morricone - Teatro Verdi\, Montecatini Terme (Pistoia)
DESCRIPTION: \nEnsemble Le Muse. Direttore e pianoforte Andrea Albertini. Una rassegna dalle più celebri colonne sonore selezionate tra le oltre 400 musiche da film del maestro italiano.
URL:https://www.eventiintoscana.it/evento/omaggio-a-morricone-teatro-verdi-montecatini-terme-pistoia
LOCATION:Teatro Verdi\, Viale Giuseppe Verdi\, 45\, Montecatini Terme\, Toscana\, IT
CATEGORIES:Classica,Pistoia
ATTACH;FMTTYPE=image/jpeg:https://www.eventiintoscana.it/wp-content/uploads/2019/03/36416__musicaclassica_violino.jpg
END:VEVENT
BEGIN:VEVENT
DTSTART;TZID=Europe/Rome:20190412T210000
DTEND;TZID=Europe/Rome:20190412T210000
DTSTAMP:20260423T002829
CREATED:20190331T224548Z
LAST-MODIFIED:20190331T224548Z
UID:274773-1555102800-1555102800@www.eventiintoscana.it
SUMMARY:Sinfonica Promusica: Orquestra de Cadaqués - Teatro Manzoni\, Pistoia (Pistoia)
DESCRIPTION:Gianandrea Noseda (direttore)\, Juan Manuel Canizares (chitarra). Musiche di Albeniz\, Rodrigo\, Beethoven.
URL:https://www.eventiintoscana.it/evento/sinfonica-promusica-orquestra-de-cadaques-teatro-manzoni-pistoia-pistoia
LOCATION:Teatro Manzoni\, Corso Antonio Gramsci\, 127\, Pistoia\, Toscana\, IT
CATEGORIES:Classica,Pistoia
ATTACH;FMTTYPE=image/jpeg:https://www.eventiintoscana.it/wp-content/uploads/2019/03/36251__orchestra.jpg
END:VEVENT
BEGIN:VEVENT
DTSTART;TZID=Europe/Rome:20190412T180000
DTEND;TZID=Europe/Rome:20190412T180000
DTSTAMP:20260423T002829
CREATED:20190331T223742Z
LAST-MODIFIED:20190407T185547Z
UID:274516-1555092000-1555092000@www.eventiintoscana.it
SUMMARY:Promusica: Mario Brunello - Palazzo de Rossi -  Saloncino della Musica\, Pistoia
DESCRIPTION:Violoncello. Coro del Friuli Venezia Giulia. Musiche di Bach.-
URL:https://www.eventiintoscana.it/evento/promusica-mario-brunello-palazzo-de-rossi-saloncino-della-musica-pistoia-pistoia
LOCATION:Palazzo de Rossi\, Via de Rossi\, 26\, Pistoia\, Toscana\, IT
CATEGORIES:Classica,Pistoia
ATTACH;FMTTYPE=image/jpeg:https://www.eventiintoscana.it/wp-content/uploads/2019/03/36253__violino_musicaclassica3.jpg
END:VEVENT
BEGIN:VEVENT
DTSTART;TZID=Europe/Rome:20190412T000000
DTEND;TZID=Europe/Rome:20190602T000000
DTSTAMP:20260423T002829
CREATED:20190523T124746Z
LAST-MODIFIED:20190523T142653Z
UID:276233-1555027200-1559433600@www.eventiintoscana.it
SUMMARY:Il Crocifisso di Jorio Vivarelli per la Chiesa della Vergine - Battistero di San Giovanni in Corte\, Pistoia (Pistoia)
DESCRIPTION:La mostra\, a cura della Fondazione Vivarelli\, mette in risalto l’opera che rappresenta una svolta nell’arte sacra del Novecento italiano attraverso la lettura fotografica di Aurelio Amendola con i suoi 11 scatti. Il Crocifisso esposto in mostra fu commissionato a Jorio Vivarelli nel 1956 dal grande architetto pistoiese Giovanni Michelucci\, incaricato della ricostruzione della Chiesa della Vergine\, distrutta nella seconda Guerra Mondiale. Orario: tutti i giorni 10-18.
URL:https://www.eventiintoscana.it/evento/il-crocifisso-di-jorio-vivarelli-per-la-chiesa-della-vergine-battistero-di-san-giovanni-in-corte-pistoia-pistoia
LOCATION:Battistero di San Giovanni in Corte\, Piazza del Duomo\, Pistoia\, Toscana\, 51100\, Italia
CATEGORIES:Mostre d'Arte,Pistoia
ATTACH;FMTTYPE=image/jpeg:https://www.eventiintoscana.it/wp-content/uploads/2019/05/37273__messa-vivarelli_web.jpg
END:VEVENT
BEGIN:VEVENT
DTSTART;TZID=Europe/Rome:20190407T163000
DTEND;TZID=Europe/Rome:20190407T163000
DTSTAMP:20260423T002829
CREATED:20190331T223842Z
LAST-MODIFIED:20190331T224151Z
UID:274555-1554654600-1554654600@www.eventiintoscana.it
SUMMARY:Giuseppe Giacobazzi - Teatro Verdi\, Montecatini Terme (Pistoia)
DESCRIPTION:
URL:https://www.eventiintoscana.it/evento/giuseppe-giacobazzi-teatro-verdi-montecatini-terme-pistoia
LOCATION:Teatro Verdi\, Viale Giuseppe Verdi\, 45\, Montecatini Terme\, Toscana\, IT
CATEGORIES:Pistoia
ATTACH;FMTTYPE=image/jpeg:https://www.eventiintoscana.it/wp-content/uploads/2019/03/36307__TeatroVerdi_Montecatini-2.jpg
END:VEVENT
BEGIN:VEVENT
DTSTART;TZID=Europe/Rome:20190407T000000
DTEND;TZID=Europe/Rome:20190915T000000
DTSTAMP:20260423T002829
CREATED:20190523T124737Z
LAST-MODIFIED:20190902T105255Z
UID:276222-1554595200-1568505600@www.eventiintoscana.it
SUMMARY:Evanescenze/Evidenze - Mac\,n - Museo di arte contemporanea  e del Novecento\, Villa Renatico Martini\, Monsummano Terme (Pistoia)
DESCRIPTION:Le esperienze di due giovani artisti\, Edoardo Cialfi e Jacopo Francesconi\, sono al centro della nuova proposta di ‘Oblò’\, il progetto dedicato all’arte contemporanea e a quegli artisti che vogliono presentare al pubblico il loro viaggio. Cialfi proviene dalla Street Art ma preferisce utilizzare quella tecnica sul supporto della tela; Francesconi condivide l’esperienza dell’arte di strada ma procede riducendo in forme astratte i soggetti del mondo reale. Ingresso gratuito. Orario: lun\, giov e ven 16-19\, merc 9.30-12.30\, sab e dom 9.30-12.30 e 16-19\, chiusa mart e 15 agosto.
URL:https://www.eventiintoscana.it/evento/evanescenzeevidenze-macn-museo-di-arte-contemporanea-e-del-novecento-villa-renatico-martini-monsummano-terme-pistoia
LOCATION:Mac\,n – Museo di arte contemporanea  e del Novecento\, Villa Renatico Martini\, Via Gragnano 349\, Monsummano Terme\, Toscana\, Italia
CATEGORIES:Mostre d'Arte,Pistoia
ATTACH;FMTTYPE=image/jpeg:https://www.eventiintoscana.it/wp-content/uploads/2019/09/37153__evanescenze.jpg
END:VEVENT
BEGIN:VEVENT
DTSTART;TZID=Europe/Rome:20190407T000000
DTEND;TZID=Europe/Rome:20190630T000000
DTSTAMP:20260423T002829
CREATED:20190523T124736Z
LAST-MODIFIED:20190523T142639Z
UID:276220-1554595200-1561852800@www.eventiintoscana.it
SUMMARY:Pinocchio - La materia del sogno - Parco di Pinocchio\, Pescia (Pistoia)
DESCRIPTION:L’artista salernitano Francesco Siani (classe 1955) dà corpo al sogno attraverso 12 sculture che generano un percorso dove tecnica\, materia e colore creano un’armonia evocativa. Le sculture raffigurano i personaggi ed elementi del romanzo: Geppetto\, Pinocchio\, il Gatto\, Mangiafuoco\, il Carabiniere\, La Volpe\, la Fata turchina\, il Grillo Parlante… Orario: tutti i giorni 9-20.
URL:https://www.eventiintoscana.it/evento/pinocchio-la-materia-del-sogno-parco-di-pinocchio-pescia-pistoia
LOCATION:Parco di Pinocchio\, Via San Gennaro\, 5 loc. Collodi\, Pescia\, Toscana\, 55012\, Italia
CATEGORIES:Mostre d'Arte,Pistoia
ATTACH;FMTTYPE=image/jpeg:https://www.eventiintoscana.it/wp-content/uploads/2019/05/37150__IL-PESCECANE_-francesco-siani.jpg
END:VEVENT
BEGIN:VEVENT
DTSTART;VALUE=DATE:20190407
DTEND;VALUE=DATE:20190422
DTSTAMP:20260423T002829
CREATED:20190107T104927Z
LAST-MODIFIED:20190401T143542Z
UID:273450-1554595200-1555891199@www.eventiintoscana.it
SUMMARY:L'altro secolo - Montecatini Terme (Pistoia)
DESCRIPTION:Artigianato\, collezionismo e vintage a Montecatini\, la prima e la terza domenica di ogni mese\, dalle ore 9 in via Don Minzoni
URL:https://www.eventiintoscana.it/evento/laltro-secolo-montecatini-terme-pistoia
LOCATION:Montecatini Terme\, Montecatini Terme\, Pistoia\, 51016 \, Italia
CATEGORIES:Fiere e Mercatini,Pistoia
ATTACH;FMTTYPE=image/jpeg:https://www.eventiintoscana.it/wp-content/uploads/2018/09/32757__antiquariato7.jpg
END:VEVENT
BEGIN:VEVENT
DTSTART;TZID=Europe/Rome:20190406T210000
DTEND;TZID=Europe/Rome:20190406T210000
DTSTAMP:20260423T002829
CREATED:20190331T223747Z
LAST-MODIFIED:20190331T224115Z
UID:274518-1554584400-1554584400@www.eventiintoscana.it
SUMMARY:Promusica: Quartetto Modigliani - Palazzo de Rossi -  Saloncino della Musica\, Pistoia (Pistoia)
DESCRIPTION:Alessandro Carbonare (clarinetto). Musiche di Brahms.
URL:https://www.eventiintoscana.it/evento/promusica-quartetto-modigliani-palazzo-de-rossi-saloncino-della-musica-pistoia-pistoia
LOCATION:Palazzo de Rossi\, Via de Rossi\, 26\, Pistoia\, Toscana\, IT
CATEGORIES:Classica,Pistoia
ATTACH;FMTTYPE=image/jpeg:https://www.eventiintoscana.it/wp-content/uploads/2019/03/36254__clarinetto-2.jpg
END:VEVENT
BEGIN:VEVENT
DTSTART;TZID=Europe/Rome:20190405T211500
DTEND;TZID=Europe/Rome:20190405T211500
DTSTAMP:20260423T002829
CREATED:20190331T224027Z
LAST-MODIFIED:20190331T224248Z
UID:274616-1554498900-1554498900@www.eventiintoscana.it
SUMMARY:Floema: Andrea Rebaudengo - Auditorio del Seminario Vescovile di Pistoia\, Pistoia (Pistoia)
DESCRIPTION:Andrea Rebaudengo (pianoforte)\, Clarice Curradi (violino)\, Fabio Fausone (violoncello). Ensemble del Liceo Musicale ‘N.Forteguerri’. Musiche di Brahms e Biscione. Prima assoluta.
URL:https://www.eventiintoscana.it/evento/floema-andrea-rebaudengo-auditorio-del-seminario-vescovile-di-pistoia-pistoia-pistoia
LOCATION:Auditorio del Seminario Vescovile di Pistoia\, Via Niccolò Puccini\, 36\, Pistoia\, Toscana\, 51100\, Italia
CATEGORIES:Classica,Pistoia
ATTACH;FMTTYPE=image/jpeg:https://www.eventiintoscana.it/wp-content/uploads/2019/03/36356__pianoforte3.jpg
END:VEVENT
BEGIN:VEVENT
DTSTART;TZID=Europe/Rome:20190331T210000
DTEND;TZID=Europe/Rome:20190331T210000
DTSTAMP:20260423T002829
CREATED:20190226T153213Z
LAST-MODIFIED:20190226T153213Z
UID:273992-1554066000-1554066000@www.eventiintoscana.it
SUMMARY:Otto donne e un mistero - Teatro Comunale di Lamporecchio\, Lamporecchio (Pistoia)
DESCRIPTION:Di Robert Thomas. Con Anna Galiena\, Debora Caprioglio\, Caterina Murino. Regia Guglielmo Ferro. Una commedia thriller incentrata su un mistero che vede come protagoniste otto donne.
URL:https://www.eventiintoscana.it/evento/otto-donne-e-un-mistero-teatro-comunale-di-lamporecchio-lamporecchio-pistoia
LOCATION:Teatro Comunale di Lamporecchio\, Via della Costituzione\, Lamporecchio\, Toscana\, IT
CATEGORIES:Pistoia
ATTACH;FMTTYPE=image/jpeg:https://www.eventiintoscana.it/wp-content/uploads/2019/02/35819__Comunale_Lamporecchio.jpg
END:VEVENT
BEGIN:VEVENT
DTSTART;TZID=Europe/Rome:20190330T000000
DTEND;TZID=Europe/Rome:20190929T000000
DTSTAMP:20260423T002829
CREATED:20190902T105237Z
LAST-MODIFIED:20190902T105237Z
UID:278479-1553904000-1569715200@www.eventiintoscana.it
SUMMARY:Assenze. Tra le voci del ‘Cenacolo’ di Leonardo da Vinci e gli ‘Evanescenti suoni’ delle colorate installazioni - Mac\,n - Museo di arte contemporanea  e del Novecento\, Villa Renatico Martini\, Monsummano Terme (Pistoia)
DESCRIPTION:La città di Monsummano ricorda Leonardo da Vinci con una mostra curata da Lucia Fiaschi che presenta una serie di opere-installazioni dell’artista Andrea Dami (Pistoia\, 1946)\, alcune delle quali dedicate al ‘Cenacolo’ vinciano. Si tratta delle installazioni ‘Giardino sacro’ e ‘Rinascita’\, del grande quadro ‘Assenze’\, del bassorilievo ‘Il quadrato assente’\, della scultura sonora in metallo ‘Presenza/Assenza’ e dell’opera ‘Barca-carro’\, che ricorda un’imbarcazione antica. Orario: tutti i giorni 16-19\, merc 9.30-12.30\, chiuso mart e 15 agosto.
URL:https://www.eventiintoscana.it/evento/assenze-tra-le-voci-del-cenacolo-di-leonardo-da-vinci-e-gli-evanescenti-suoni-delle-colorate-installazioni-macn-museo-di-arte-contemporanea-e-del-novecento
LOCATION:Mac\,n – Museo di arte contemporanea  e del Novecento\, Villa Renatico Martini\, Via Gragnano 349\, Monsummano Terme\, Toscana\, Italia
CATEGORIES:Mostre d'Arte,Pistoia
ATTACH;FMTTYPE=image/jpeg:https://www.eventiintoscana.it/wp-content/uploads/2019/09/36707__mostra4.jpg
END:VEVENT
BEGIN:VEVENT
DTSTART;TZID=Europe/Rome:20190323T210000
DTEND;TZID=Europe/Rome:20190323T210000
DTSTAMP:20260423T002829
CREATED:20190226T153820Z
LAST-MODIFIED:20190226T153820Z
UID:274190-1553374800-1553374800@www.eventiintoscana.it
SUMMARY:The legend of Thor - Teatro Verdi\, Montecatini Terme (Pistoia)
DESCRIPTION:Il primo episodio della serie ‘La morte degli dei’\, che vedrà protagonista Thor\, figlio di Odino\, re degli Dei\, e di Joro\, dea della terra.
URL:https://www.eventiintoscana.it/evento/the-legend-of-thor-teatro-verdi-montecatini-terme-pistoia
LOCATION:Teatro Verdi\, Viale Giuseppe Verdi\, 45\, Montecatini Terme\, Toscana\, IT
CATEGORIES:Pistoia
ATTACH;FMTTYPE=image/jpeg:https://www.eventiintoscana.it/wp-content/uploads/2019/02/35688__TeatroVerdi_Montecatini.jpg
END:VEVENT
BEGIN:VEVENT
DTSTART;TZID=Europe/Rome:20190323T210000
DTEND;TZID=Europe/Rome:20190323T210000
DTSTAMP:20260423T002829
CREATED:20190226T153713Z
LAST-MODIFIED:20190324T203009Z
UID:274139-1553374800-1553374800@www.eventiintoscana.it
SUMMARY:Sinfonia Promusica: Direttore Daniele Giorgi - Teatro Manzoni\, Pistoia
DESCRIPTION:Orchestra Leonore. Midori (violino). Musiche di Stravinskij\, Prokof’ev\, Bach\, Schumann.
URL:https://www.eventiintoscana.it/evento/sinfonia-promusica-direttore-daniele-giorgi-teatro-manzoni-pistoia-pistoia
LOCATION:Teatro Manzoni\, Corso Antonio Gramsci\, 127\, Pistoia\, Toscana\, IT
CATEGORIES:Classica,Pistoia
ATTACH;FMTTYPE=image/jpeg:https://www.eventiintoscana.it/wp-content/uploads/2019/02/35590__violino_musicaclassica3.jpg
END:VEVENT
BEGIN:VEVENT
DTSTART;TZID=Europe/Rome:20190322T210000
DTEND;TZID=Europe/Rome:20190322T210000
DTSTAMP:20260423T002829
CREATED:20190226T153817Z
LAST-MODIFIED:20190226T153817Z
UID:274188-1553288400-1553288400@www.eventiintoscana.it
SUMMARY:Massimo Lopez & Tullio Solenghi Show - Teatro Verdi\, Montecatini Terme (Pistoia)
DESCRIPTION:Con Massimo Lopez e Tullio Solenghi.
URL:https://www.eventiintoscana.it/evento/massimo-lopez-tullio-solenghi-show-teatro-verdi-montecatini-terme-pistoia
LOCATION:Teatro Verdi\, Viale Giuseppe Verdi\, 45\, Montecatini Terme\, Toscana\, IT
CATEGORIES:Pistoia
ATTACH;FMTTYPE=image/jpeg:https://www.eventiintoscana.it/wp-content/uploads/2019/02/35687__TeatroVerdi_Montecatini.jpg
END:VEVENT
BEGIN:VEVENT
DTSTART;TZID=Europe/Rome:20190316T210000
DTEND;TZID=Europe/Rome:20190316T210000
DTSTAMP:20260423T002829
CREATED:20190226T153814Z
LAST-MODIFIED:20190226T153814Z
UID:274186-1552770000-1552770000@www.eventiintoscana.it
SUMMARY:Il rigore che non c'era - Teatro Verdi\, Montecatini Terme (Pistoia)
DESCRIPTION:Di e con Federico Buffa. Con Marco  Caronna\, Jvonne Giò\, Alessandro  Nidi. Regia Marco  Caronna. Un percorso che passa dalla storia di Sendero Luminoso a  quella  di  George   Best\,  da  Leo  Messi  al  Grande  Torino\, il  tutto  punteggiato  dalla  musica\, che  impreziosisce  e  accompagna  le  parole  di  Buffa.
URL:https://www.eventiintoscana.it/evento/il-rigore-che-non-cera-teatro-verdi-montecatini-terme-pistoia
LOCATION:Teatro Verdi\, Viale Giuseppe Verdi\, 45\, Montecatini Terme\, Toscana\, IT
CATEGORIES:Pistoia
ATTACH;FMTTYPE=image/jpeg:https://www.eventiintoscana.it/wp-content/uploads/2019/02/35686__TeatroVerdi_Montecatini.jpg
END:VEVENT
BEGIN:VEVENT
DTSTART;TZID=Europe/Rome:20190308T210000
DTEND;TZID=Europe/Rome:20190308T210000
DTSTAMP:20260423T002829
CREATED:20190226T151111Z
LAST-MODIFIED:20190226T153342Z
UID:273812-1552078800-1552078800@www.eventiintoscana.it
SUMMARY:Ermal Meta - In tour nei teatri con Gnu Quartet - Nuovo Teatro Verdi\, Montecatini Terme (Pistoia)
DESCRIPTION:
URL:https://www.eventiintoscana.it/evento/ermal-meta-in-tour-nei-teatri-con-gnu-quartet-nuovo-teatro-verdi-montecatini-terme-pistoia
LOCATION:Nuovo Teatro Verdi\, Viale Giuseppe Verdi\, 45\, Montecatini Terme\, Toscana\, 51016\, Italia
CATEGORIES:Pistoia
ATTACH;FMTTYPE=image/jpeg:https://www.eventiintoscana.it/wp-content/uploads/2019/02/36082__concerto5.jpg
END:VEVENT
BEGIN:VEVENT
DTSTART;TZID=Europe/Rome:20190307T210000
DTEND;TZID=Europe/Rome:20190307T210000
DTSTAMP:20260423T002829
CREATED:20190226T153810Z
LAST-MODIFIED:20190226T153810Z
UID:274184-1551992400-1551992400@www.eventiintoscana.it
SUMMARY:Sento la terra girare - Teatro Verdi\, Montecatini Terme (Pistoia)
DESCRIPTION:Di Teresa Mannino e Giovanna Donini. Regia di Teresa Mannino.
URL:https://www.eventiintoscana.it/evento/sento-la-terra-girare-teatro-verdi-montecatini-terme-pistoia
LOCATION:Teatro Verdi\, Viale Giuseppe Verdi\, 45\, Montecatini Terme\, Toscana\, IT
CATEGORIES:Pistoia
ATTACH;FMTTYPE=image/jpeg:https://www.eventiintoscana.it/wp-content/uploads/2019/02/35685__TeatroVerdi_Montecatini.jpg
END:VEVENT
BEGIN:VEVENT
DTSTART;TZID=Europe/Rome:20190305T210000
DTEND;TZID=Europe/Rome:20190305T210000
DTSTAMP:20260423T002829
CREATED:20190226T153806Z
LAST-MODIFIED:20190311T092105Z
UID:274182-1551819600-1551819600@www.eventiintoscana.it
SUMMARY:Flashdance - Il musical - Teatro Verdi\, Montecatini Terme (Pistoia)
DESCRIPTION:Testo di Tom Hedley e Robert Cary. Con Valeria Belleudi. Regia Chiara Noschese. Coreografie\, musica e canzoni faranno da cornice ad una grande storia d’amore\, di amicizia e di riscatto personale\, la storia di un sogno e del coraggio di poterlo realizzare.
URL:https://www.eventiintoscana.it/evento/flashdance-il-musical-teatro-verdi-montecatini-terme-pistoia
LOCATION:Teatro Verdi\, Viale Giuseppe Verdi\, 45\, Montecatini Terme\, Toscana\, IT
CATEGORIES:Pistoia
ATTACH;FMTTYPE=image/jpeg:https://www.eventiintoscana.it/wp-content/uploads/2019/02/35684__TeatroVerdi_Montecatini.jpg
END:VEVENT
BEGIN:VEVENT
DTSTART;TZID=Europe/Rome:20190301T210000
DTEND;TZID=Europe/Rome:20190301T210000
DTSTAMP:20260423T002830
CREATED:20190226T153710Z
LAST-MODIFIED:20190226T153710Z
UID:274137-1551474000-1551474000@www.eventiintoscana.it
SUMMARY:Sinfonia Promusica: Alexander Lonquich - Teatro Manzoni\, Pistoia (Pistoia)
DESCRIPTION:Orchestra Leonore. Alexander Lonquich (direttore e solista)\, Giuliano Sommerhalder (tromba). Musiche di Mozart\, Sostakovic\, Haydn.
URL:https://www.eventiintoscana.it/evento/sinfonia-promusica-alexander-lonquich-teatro-manzoni-pistoia-pistoia
LOCATION:Teatro Manzoni\, Corso Antonio Gramsci\, 127\, Pistoia\, Toscana\, IT
CATEGORIES:Classica,Pistoia
ATTACH;FMTTYPE=image/jpeg:https://www.eventiintoscana.it/wp-content/uploads/2019/02/35589__flauto_classica.jpg
END:VEVENT
BEGIN:VEVENT
DTSTART;TZID=Europe/Rome:20190222T210000
DTEND;TZID=Europe/Rome:20190222T210000
DTSTAMP:20260423T002830
CREATED:20190127T175933Z
LAST-MODIFIED:20190224T200227Z
UID:273556-1550869200-1550869200@www.eventiintoscana.it
SUMMARY:Big One - The Division Bell Tour - Nuovo Teatro Verdi\, Montecatini Terme (Pistoia)
DESCRIPTION:The European Pink Floyd Show.
URL:https://www.eventiintoscana.it/evento/big-one-the-division-bell-tour-nuovo-teatro-verdi-montecatini-terme-pistoia
LOCATION:Nuovo Teatro Verdi\, Viale Giuseppe Verdi\, 45\, Montecatini Terme\, Toscana\, 51016\, Italia
CATEGORIES:Pistoia
ATTACH;FMTTYPE=image/jpeg:https://www.eventiintoscana.it/wp-content/uploads/2019/02/35326__concerto3.jpg
END:VEVENT
BEGIN:VEVENT
DTSTART;TZID=Europe/Rome:20190127T163000
DTEND;TZID=Europe/Rome:20190127T163000
DTSTAMP:20260423T002830
CREATED:20181221T092614Z
LAST-MODIFIED:20190127T180736Z
UID:273238-1548606600-1548606600@www.eventiintoscana.it
SUMMARY:Cavalleria Rusticana - Teatro Verdi\, Montecatini Terme (Pistoia)
DESCRIPTION:Musiche di Mascagni. Orchestra OMEGA. Marina Schevchenko (soprano)\, Alberto Profeta (tenore). Direttore Alexey Nikonov.
URL:https://www.eventiintoscana.it/evento/cavalleria-rusticana-teatro-verdi-montecatini-terme-pistoia-2
LOCATION:Teatro Verdi\, Viale Giuseppe Verdi\, 45\, Montecatini Terme\, Toscana\, IT
CATEGORIES:Classica,Pistoia
ATTACH;FMTTYPE=image/jpeg:https://www.eventiintoscana.it/wp-content/uploads/2018/12/34468__pianoforte3.jpg
END:VEVENT
BEGIN:VEVENT
DTSTART;TZID=Europe/Rome:20190126T210000
DTEND;TZID=Europe/Rome:20190126T210000
DTSTAMP:20260423T002830
CREATED:20181221T092707Z
LAST-MODIFIED:20181221T092707Z
UID:273278-1548536400-1548536400@www.eventiintoscana.it
SUMMARY:In...tolleranza 2.0 - Teatro Verdi\, Montecatini Terme (Pistoia)
DESCRIPTION:Di e con Andrea Pucci. Con la Zurawski Live Band. Regia Dino Pecorella.
URL:https://www.eventiintoscana.it/evento/in-tolleranza-2-0-teatro-verdi-montecatini-terme-pistoia
LOCATION:Teatro Verdi\, Viale Giuseppe Verdi\, 45\, Montecatini Terme\, Toscana\, IT
CATEGORIES:Pistoia
ATTACH;FMTTYPE=image/jpeg:https://www.eventiintoscana.it/wp-content/uploads/2018/12/34533__TeatroVerdi_Montecatini.jpg
END:VEVENT
BEGIN:VEVENT
DTSTART;TZID=Europe/Rome:20190119T180000
DTEND;TZID=Europe/Rome:20190119T180000
DTSTAMP:20260423T002830
CREATED:20181221T092838Z
LAST-MODIFIED:20181221T092838Z
UID:273347-1547920800-1547920800@www.eventiintoscana.it
SUMMARY:Promusica: Accademia Hermans - Palazzo de Rossi -  Saloncino della Musica\, Pistoia (Pistoia)
DESCRIPTION:Musiche di Vivaldi\, Albinoni\, Marcello\, Bach.
URL:https://www.eventiintoscana.it/evento/promusica-accademia-hermans-palazzo-de-rossi-saloncino-della-musica-pistoia-pistoia
LOCATION:Palazzo de Rossi\, Via de Rossi\, 26\, Pistoia\, Toscana\, IT
CATEGORIES:Classica,Pistoia
ATTACH;FMTTYPE=image/jpeg:https://www.eventiintoscana.it/wp-content/uploads/2018/12/34611__pianoforte.jpg
END:VEVENT
BEGIN:VEVENT
DTSTART;TZID=Europe/Rome:20190118T210000
DTEND;TZID=Europe/Rome:20190120T000000
DTSTAMP:20260423T002830
CREATED:20181221T092703Z
LAST-MODIFIED:20181221T092703Z
UID:273274-1547845200-1547942400@www.eventiintoscana.it
SUMMARY:Il gabbiano - Teatro Manzoni\, Pistoia (Pistoia)
DESCRIPTION:Di Anton Chechov. Con Roberto Alinghieri\, Alice Arcuri\, Elsa Bossi\, Eva Cambiale. Regia Marco Sciaccaluga.
URL:https://www.eventiintoscana.it/evento/il-gabbiano-teatro-manzoni-pistoia-pistoia
LOCATION:Teatro Manzoni\, Corso Antonio Gramsci\, 127\, Pistoia\, Toscana\, IT
CATEGORIES:Pistoia
ATTACH;FMTTYPE=image/jpeg:https://www.eventiintoscana.it/wp-content/uploads/2018/12/34521__TeatroManzoniPistoia.jpg
END:VEVENT
BEGIN:VEVENT
DTSTART;TZID=Europe/Rome:20190113T173000
DTEND;TZID=Europe/Rome:20190113T173000
DTSTAMP:20260423T002830
CREATED:20181221T092611Z
LAST-MODIFIED:20181221T092611Z
UID:273235-1547400600-1547400600@www.eventiintoscana.it
SUMMARY:Floema: Dall'Orchestra Leonore - Tommaso Lonquich - Fondazione Pistoiese Jorio Vivarelli\, Pistoia (Pistoia)
DESCRIPTION:Clarinetto. Roberto Prosseda (pianoforte). Musiche di Brahms\, Rota\, Araujo.
URL:https://www.eventiintoscana.it/evento/floema-dallorchestra-leonore-tommaso-lonquich-fondazione-pistoiese-jorio-vivarelli-pistoia-pistoia
LOCATION:Fondazione Pistoiese Jorio Vivarelli\, Via di Felceti\, Pistoia\, Toscana\, IT
CATEGORIES:Classica,Pistoia
ATTACH;FMTTYPE=image/jpeg:https://www.eventiintoscana.it/wp-content/uploads/2018/12/34461__violino_musicaclassica3.jpg
END:VEVENT
BEGIN:VEVENT
DTSTART;VALUE=DATE:20190113
DTEND;VALUE=DATE:20190114
DTSTAMP:20260423T002830
CREATED:20190107T103257Z
LAST-MODIFIED:20190107T104108Z
UID:273445-1547337600-1547423999@www.eventiintoscana.it
SUMMARY:Sagra dell'arte norcina - San Michele di Agliana (Pistoia)
DESCRIPTION:Domenica 13 gennaio dalle ore 10 in località San Michele ad Agliana\, la 17esima sagra dell’arte norcina.
URL:https://www.eventiintoscana.it/evento/sagra-dellarte-norcina-san-michele-agliana-pistoia
LOCATION:San Michele ad Agliana\, Agliana\, Pistoia\, Italia
CATEGORIES:Pistoia,Rassegne e Sagre
ATTACH;FMTTYPE=image/jpeg:https://www.eventiintoscana.it/wp-content/uploads/2019/01/norcineria.jpg
END:VEVENT
END:VCALENDAR