BEGIN:VCALENDAR
VERSION:2.0
PRODID:-//Eventi in Toscana By Toscana Tascabile - ECPv6.15.12.2//NONSGML v1.0//EN
CALSCALE:GREGORIAN
METHOD:PUBLISH
X-ORIGINAL-URL:https://www.eventiintoscana.it
X-WR-CALDESC:Eventi per Eventi in Toscana By Toscana Tascabile
REFRESH-INTERVAL;VALUE=DURATION:PT1H
X-Robots-Tag:noindex
X-PUBLISHED-TTL:PT1H
BEGIN:VTIMEZONE
TZID:Europe/Rome
BEGIN:DAYLIGHT
TZOFFSETFROM:+0100
TZOFFSETTO:+0200
TZNAME:CEST
DTSTART:20240331T010000
END:DAYLIGHT
BEGIN:STANDARD
TZOFFSETFROM:+0200
TZOFFSETTO:+0100
TZNAME:CET
DTSTART:20241027T010000
END:STANDARD
BEGIN:DAYLIGHT
TZOFFSETFROM:+0100
TZOFFSETTO:+0200
TZNAME:CEST
DTSTART:20250330T010000
END:DAYLIGHT
BEGIN:STANDARD
TZOFFSETFROM:+0200
TZOFFSETTO:+0100
TZNAME:CET
DTSTART:20251026T010000
END:STANDARD
BEGIN:DAYLIGHT
TZOFFSETFROM:+0100
TZOFFSETTO:+0200
TZNAME:CEST
DTSTART:20260329T010000
END:DAYLIGHT
BEGIN:STANDARD
TZOFFSETFROM:+0200
TZOFFSETTO:+0100
TZNAME:CET
DTSTART:20261025T010000
END:STANDARD
BEGIN:DAYLIGHT
TZOFFSETFROM:+0100
TZOFFSETTO:+0200
TZNAME:CEST
DTSTART:20270328T010000
END:DAYLIGHT
BEGIN:STANDARD
TZOFFSETFROM:+0200
TZOFFSETTO:+0100
TZNAME:CET
DTSTART:20271031T010000
END:STANDARD
BEGIN:DAYLIGHT
TZOFFSETFROM:+0100
TZOFFSETTO:+0200
TZNAME:CEST
DTSTART:20280326T010000
END:DAYLIGHT
BEGIN:STANDARD
TZOFFSETFROM:+0200
TZOFFSETTO:+0100
TZNAME:CET
DTSTART:20281029T010000
END:STANDARD
END:VTIMEZONE
BEGIN:VEVENT
DTSTART;TZID=Europe/Rome:20250108T000000
DTEND;TZID=Europe/Rome:20270107T235900
DTSTAMP:20260421T061842
CREATED:20230425T143016Z
LAST-MODIFIED:20260407T092047Z
UID:302818-1736294400-1799366340@www.eventiintoscana.it
SUMMARY:Le Mostre a Pistoia e provincia
DESCRIPTION:Fino al 12 aprile\nDonne in Bilico\nLe Sale Affrescate del Palazzo comunale di Pistoia ospitano una mostra della fotografa\, africanista e viaggiatrice torinese Anna Alberghina (classe 1960)\, un allestimento che racconta\, attraverso intensi ritratti\, l’identità femminile nelle culture non globalizzate. Realizzata a cura di Marta Cugnasca\, direttrice artistica del Museo d’Arte e Scienza di Milano\, con la collaborazione dell’Associazione culturale ‘Donne Vive’ di Milano\, la mostra espone 40 ritratti\, selezionati da questo ampio lavoro\, in un percorso espositivo che invita a riflettere sulla forza\, la resilienza e l’identità delle donne nel mondo. Proposto per la Festa della Donna\, l’evento si propone di dare voce e volto a donne appartenenti a culture antiche\, provenienti da luoghi remoti e spesso poco conosciuti\, che custodiscono e raccontano tradizioni millenarie. Il volto di queste donne prende forma negli scatti raccolti da Anna Alberghina nel corso di una vita di viaggi ed esplorazioni. Ogni immagine racconta la storia di un popolo e mette in luce il ruolo centrale delle donne come custodi della tradizione: segni incisi sulla pelle\, intrecci nei capelli\, ornamenti e simboli tramandati di madre in figlia diventano espressione visibile di un patrimonio culturale vivo. \nIngresso libero. Orario: dal martedì al venerdì 10-12 e 15-18\, sabato e domenica 10-12 e 15-17. \nSale Affrescate del Palazzo comunale – Piazza del Duomo\, 1 – Pistoia \nInfo: 0573.3711 – www.comune.pistoia.it \n\nFino al 24 maggio\nVisceralità primitiva\nLa Fondazione POMA Liberatutti di Pescia dedica una mostra a Paolo Tesi (Pistoia\, 1945)\, artista la cui ricerca si è costruita nel tempo come un percorso autonomo e riconoscibile\, lontano da scuole e appartenenze. Pittore\, incisore\, illustratore\, Tesi ha sempre attraversato i linguaggi con una naturalezza che rifugge le categorie rigide\, definendosi “pittore con la tentazione di scrivere”\, diplomato all’Accademia di Belle Arti di Firenze e poi fondatore della rivista di arte e letteratura ‘Ombrone’. L’esposizione introduce il visitatore all’universo visivo dell’artista\, fondato su una pratica del segno intensa e continua\, in cui pittura e grafia diventano strumenti di esplorazione interiore. Ventisette i lavori esposti\, tutti realizzate nel corso del 2025 appositamente per la mostra: una serie a colori di 10 lavori di inchiostro su carta e una serie monocromi di 17 lavori di pastello a cera su carta. Si tratta di esemplari di grandi dimensioni\, ampi spazi di cui l’artista ha bisogno per racchiudere e unire le opere attraverso un temi che si richiamano tra loro. Al centro del progetto sta l’idea di una ‘visceralità primitiva’\, che dà titolo alla mostra\, i contenuti riguardano sogni\, stati d’animo\, visioni e allucinazioni. I soggetti\, che nascono dal subconscio\, sono tenuti insieme da lettere che\, oltre a simboleggiare il desiderio di narrare\, sollecitano l’artista a esprimersi attraverso segni e colori. \nIngresso libero. Orario: dal mercoledì al sabato 10-12.30 e 17.30-22\, domenica 10-12 e 17.30 alle 22\, chiuso lunedì e martedì. \nFondazione POMA Liberatutti – Piazza San Francesco 12 – Pescia \nInfo: 0572.1770011 – www.pomaliberatutti.it \n\nFino al 30 maggio\nWedge\nSpazioA di Pistoia accoglie nelle sue sale una mostra personale di Finn Theuws\, giovane artista olandese che ha debuttato nel 2023 nella project space e che torna ora con una personale nello spazio principale della galleria. ‘Wedge’ presenta nuovi lavori di Theuws: espandendo la sua pratica attuale di scultura e installazione\, la mostra ruota attorno ai temi dell’intimità domestica\, The Weird (oggetto inusuale) e della fenomenologia (queer). I lavori presentati non vanno interpretati come pure metafore\, non servono a illustrare concetti ma agiscono a livello dell’immagine stessa. Per quanto referenziale\, il lavoro di Theuws intende produrre immagini di immediata risonanza fenomenologica; immagini che emergono alla coscienza dell’individuo ma non vi hanno ancora affondato le radici. Si possono affrontare questi lavori da una prospettiva di Fenomenologia Queer\, una fenomenologia improntata al disorientamento\, nel senso che i lavori si sforzano di produrre immagini che precedono l’orientamento. ‘Wedge’ sollecita forme di disorientamento e mira a decentrare lo spettatore\, indirizzandolo verso l’effetto trascendentale del primo incontro. Per questa mostra Theuws ha raccolto oggetti domestici (tavoli\, mobiletti\, scrivanie\, cassetti) e ha levigato i segni dell’usura\, conferendo alle sue sculture una qualità sospesa. \nIngresso libero. Orario: dal martedì al sabato 11-14 e 15-19 o su appuntamento. \nSpazioA – Via Amati\, 13 – Pistoia \nInfo: 0573.977354 – www.spazioa.it \n\nFino al 7 giugno\nGaleazzo Nardini. Arte Sciopero\nLa Galleria civica MO.C.A. di Montecatini Terme rende omaggio a Galeazzo Nardini (1938 – 2016)\, figura eclettica e radicale del panorama artistico internazionale\, con una mostra dedicata al suo progetto più audace e identitario: ‘Arte Sciopero’. Era il 1976 quando Galeazzo\, già noto per le sue collaborazioni con artisti come Ben Vautier e Giuseppe Chiari\, concepì l’idea di uno sciopero artistico ininterrotto. Una protesta solitaria contro lo sfruttamento degli artisti e la censura\, che lo portò a rinunciare alla vendita delle proprie opere. La mostra\, prodotta da Contemplazioni\, ripercorre i quarant’anni (1976 – 2016) durante i quali Galeazzo ha trasformato la parola ‘Sciopero’ in una performance artistica totale. Sebbene avesse smesso di vendere\, l’artista non smise mai di produrre: espositi oltre cento lavori tra tele\, cartoni\, quaderni e materiali d’archivio\, dove la parola ‘Sciopero’ è declinata in ogni forma e stile possibile\, occupando ogni superficie. Nell’allestimento anche il film-documentario ‘Arte Sciopero’\, diretto da Luca Immesi\, scritto con la figlia dell’artista Hélène Nardini\, che esplora la vita di Galeazzo evidenziando come l’Arte Sciopero abbia pervaso ogni aspetto della sua esistenza\, riuscendo a collegare la Toscana alle grandi capitali internazionali del contemporaneo. \nOrario: da martedì a venerdì 10-12\, sabato e domenica 10.30-12.30 e 16-19\, chiuso lunedì. \nMO.C.A. – Montecatini Contemporary Art – Palazzo Comunale  – Viale Giuseppe Verdi\, 46 – Montecatini Terme  \nInfo: 366.7529702 – 0572.918299 – cultura@mct.it – mocamct@gmail.com \n\nFino al 26 luglio\nIo sono un architetto. Ettore Sottsass\nIl Palazzo Buontalenti di Pistoia celebra Ettore Sottsass (1917-2007)\, pittore\, grafico\, fotografo\, figura cardine del design e dell’architettura italiana del Novecento\, un artista che ha attraversato l’intero secolo con uno sguardo sempre critico\, apparentemente disincantato\, ma partecipe e sensibile ai cambiamenti in atto nella società. L’esposizione\, curata da Enrico Morteo e organizzata da Fondazione Pistoia Musei ed Electa\, si costruisce attorno al ricco fondo che l’architetto affidò al CSAC di Parma\, per rileggere criticamente un trentennio di attività\, dall’immediato dopoguerra ai primi anni Settanta. Particolare attenzione viene data al legame con la Toscana e con le realtà artigianali e industriali che vi si sono sviluppate e affermate: dalle ceramiche realizzate con Aldo Londi a Montelupo Fiorentino alle esperienze con Sergio Cammilli e Poltronova ad Agliana. Attraverso disegni\, fotografie\, ceramiche\, oggetti e documenti d’archivio – molti dei quali esposti per la prima volta – l’allestimento restituisce l’evoluzione di un pensiero che\, segnato dalla disillusione nei confronti della società del progresso\, cerca nella forma\, nel colore e nella luce la possibilità di un nuovo umanesimo del progetto. \nOrario: dal mercoledì alla domenica 10-19\, chiuso lunedì e martedì. \nPalazzo Buontalenti – Via de’ Rossi\, 7 – Pistoia \nInfo: 0573.974267 – www.pistoiamusei.it \n\nFino al 27 settembre\nMarino Marini: la pittura\nGli spazi del Museo del Novecento e del Contemporaneo accolgono un prezioso nucleo di dipinti di Marino Marini\, un percorso che ripropone una parte del patrimonio artistico che appartiene alla città e che da tempo non era più visibile. Il progetto è frutto della collaborazione tra la Fondazione Marino Marini\, il Comune di Pistoia e la Fondazione Caript. L’allestimento riconsegna ai visitatori una selezione immersiva e fortemente cromatica di opere di uno dei maggiori artisti del Novecento\, offrendo uno sguardo approfondito su uno dei capitoli più ricchi e meno esplorati della produzione di Marino Marini (1901-1980): quello della pittura\, sviluppata in percorsi percorsi pressoché paralleli alla scultura\, sia nei iconografici che nelle scelte di linguaggio e soluzioni compositive. Attraverso un significativo numero di dipinti\, dalla metà degli anni Venti alla metà degli anni Settanta\, le opere esposte pongono in piena luce la forza espressiva del colore di Marino\, la versatilità di un segno che ora delinea finemente le curve sottili di pomone\, giocolieri o di aggraziate ballerine\, ora invece ritma con forza gli scatti energici di cavalli e cavalieri\, fino a esplodere nella radicale dimensione del ciclo iconografico del ‘grido’. Il percorso è arricchito da scorci e prospettive inedite sulla pittura di Marino\, così da sottolineare il ruolo centrale che in lui sempre ha giocato il colore. \nOrario: dal martedì al venerdì 10-14\, sabato\, domenica e festivi 10-18\, chiuso lunedì; dal 3 giugno dal martedì al venerdì 15-19\, sabato\, domenica e festivi 11-19\, chiuso lunedì. \nMuseo del Novecento e del Contemporaneo – Palazzo Fabroni – Via Sant’Andrea\, 18 – Pistoia \nInfo: 0573.371817 – www.musei.comune.pistoia.it
URL:https://www.eventiintoscana.it/evento/le-mostre-in-corso-a-pistoia
CATEGORIES:Mostra d'Arte,Mostre,Mostre d'Arte,Pistoia
ATTACH;FMTTYPE=image/jpeg:https://www.eventiintoscana.it/wp-content/uploads/2022/10/PISTOIA.jpg
END:VEVENT
BEGIN:VEVENT
DTSTART;TZID=Europe/Rome:20250813T180000
DTEND;TZID=Europe/Rome:20251231T233000
DTSTAMP:20260421T061842
CREATED:20250801T114831Z
LAST-MODIFIED:20251204T151107Z
UID:319703-1755108000-1767223800@www.eventiintoscana.it
SUMMARY:Acqua in bocca ma non troppo\, Montecatini Terme
DESCRIPTION:Fino al 31 dicembre\, nello storico stabilimento termale Tettuccio di Montecatini Terme (sito Unesco)\, è in programma l’ottava edizione della rassegna culturale Acqua in bocca ma non troppo\, ideata e diretta dalla giornalista Simona Peselli. Con il patrocinio dell’assessorato alla cultura del Comune di Montecatini Terme\, la manifestazione propone un ricco calendario di appuntamenti a ingresso gratuito\, consolidandosi come una delle iniziative più apprezzate della stagione.Nel corso degli anni ha ospitato oltre 350 protagonisti del mondo della cultura\, del giornalismo\, della musica e dello spettacolo: tra gli altri\, Andrea Bocelli\, Aldo Cazzullo\, Giordano Bruno Guerri\, Angelo Branduardi\, Albano\, Sigfrido Ranucci\, Vittorio Sgarbi. \nTra le novità dell’edizione 2025\, l’apertura agli studi storici grazie alla collaborazione con Riccardo Nencini\, presidente del Gabinetto Vieusseux\, con incontri che vedranno protagonisti Franco Cardini\, Guido Vannini\, Daniela Ferrari\, Michele Nucciotti e altri nomi di primo piano della ricerca storica e storico-artistica. Confermata anche la sezione speciale “A tu per tu con la violenza”\, a cura di Ilaria Bonuccelli\, che propone testimonianze dirette di vittime di violenza di genere\, in un formato che restituisce profondità e complessità a vicende troppo spesso banalizzate dalla cronaca.Non mancheranno momenti dedicati alla musica\, alla letteratura e alla criminologia\, con appuntamenti come l’omaggio a Franco Battiato a cura di Fabio Zuffanti\, e gli incontri con la criminologa Virginia Ciaravolo. Prevista anche la partecipazione di Eugenio Giani e Beppe Severgnini per la presentazione delle loro ultime pubblicazioni. \n\nInfo: https://www.facebook.com/acquainboccamanontroppo?locale=it_IT
URL:https://www.eventiintoscana.it/evento/acqua-in-bocca-ma-non-troppo-montecatini-terme-pistoia
CATEGORIES:Incontri,Pistoia
ATTACH;FMTTYPE=image/jpeg:https://www.eventiintoscana.it/wp-content/uploads/2025/08/Acqua-in-bocca-ma-non-troppo.jpg
END:VEVENT
BEGIN:VEVENT
DTSTART;TZID=Europe/Rome:20250822T180000
DTEND;TZID=Europe/Rome:20251107T200000
DTSTAMP:20260421T061842
CREATED:20250727T003259Z
LAST-MODIFIED:20251029T133340Z
UID:319435-1755885600-1762545600@www.eventiintoscana.it
SUMMARY:Oasi Dynamo\, San Marcello Piteglio
DESCRIPTION:OCA (Oasy Contemporary Art and Architecture) svela il nuovo itinerario in cui arte contemporanea e architettura si fondono in un dialogo profondo con la natura incontaminata di Oasi Dynamo. Sotto la direzione artistica di Emanuele Montibeller e col supporto dell’architetto Roberto Castellani\, il percorso accoglie opere originali dei più importanti architetti e artisti contemporanei\, tra cui: Alejandro Aravena\, Quayola\, Mariangela Gualtieri con Michele De Lucchi\, Kengo Kuma\, David Svensson\, Pascale Marthine Tayou e Matteo Thun. L’allestimento\, visitabile fino al 7 novembre\, è perfettamente integrato nell’ambiente\, trasformando una semplice camminata in un atto di scoperta e meraviglia. Lunedì 2 l’Oasi propone I Rimedi della Nonna\, le piante spontanee e i loro usi. Un’escursione con Guida Ambientale sulle proprietà terapeutiche e nutritive delle piante della Riserva. \nInfo: 055.2347273 –  www.oasycontemporaryart.com
URL:https://www.eventiintoscana.it/evento/oasi-dynamo-san-marcello-piteglio-pistoia
CATEGORIES:Natura e Sport,Pistoia
ATTACH;FMTTYPE=image/jpeg:https://www.eventiintoscana.it/wp-content/uploads/2025/07/Oasi-Dynamo.jpg
END:VEVENT
BEGIN:VEVENT
DTSTART;TZID=Europe/Rome:20250905T200000
DTEND;TZID=Europe/Rome:20251115T233000
DTSTAMP:20260421T061842
CREATED:20250805T172613Z
LAST-MODIFIED:20250805T172613Z
UID:319772-1757102400-1763249400@www.eventiintoscana.it
SUMMARY:Girogustando\, Arezzo\, Grosseto\, Pistoia e Siena
DESCRIPTION:La rassegna Girogustando\, ideata da Confesercenti\, ritorna nel 2025 con la sua 24ª edizione\, pronta a offrire un calendario ricco di eventi gastronomici tra settembre e dicembre. Dopo un’anteprima primaverile e una pausa estiva\, la rassegna proporrà 18 appuntamenti nei ristoranti di Arezzo\, Grosseto\, Pistoia e Siena\, sempre con la formula distintiva di menu inediti a quattro mani\, preparati da uno chef locale e da un ospite proveniente da altre regioni d’Italia. \nIl 5 settembre si riapre la stagione con un evento speciale al Bagno Moby Dick a Marina di Grosseto\, dove il Ristorante Michele di Siena sarà ospite. Seguono altri eventi imperdibili\, come il ritorno delle cucine balneari con il Labirinto di Adriano\, ospite al Bagno Moderno di Marina di Grosseto il 29 settembre. Tra gli appuntamenti più curiosi\, il 15 ottobre il Sindia di Siena ospiterà l’Iru Ramen di Grosseto\, dando vita a una cena fusion toscana-giapponese. \nL’autunno di Girogustando vedrà anche il coinvolgimento delle terme\, con un evento speciale a bordo piscina il 15 novembre alle Piscine Theia di Chianciano Terme\, con L’Ambientino del Pescatore di Marina di Grosseto. A chiudere la rassegna\, eventi che coinvolgeranno cuochi di domani\, ovvero gli allievi degli Istituti alberghieri di Grosseto e Chianciano Terme.\nTutti gli eventi sono aperti al pubblico e rappresentano una vetrina unica per il turismo enogastronomico\, con la collaborazione di Vetrina Toscana\, Toscana Promozione Turistica\, Fondazione Sistema Toscana e altre realtà regionali. \n\nInfo:  www.girogustando.tv – www.vetrina.toscana.it
URL:https://www.eventiintoscana.it/evento/girogustando-arezzo-grosseto-pistoia-e-siena
CATEGORIES:arezzo,Grosseto,Pistoia,Rassegne e Sagre,Siena
ATTACH;FMTTYPE=image/jpeg:https://www.eventiintoscana.it/wp-content/uploads/2025/08/Pietanza-2.jpg
END:VEVENT
BEGIN:VEVENT
DTSTART;TZID=Europe/Rome:20250926T210000
DTEND;TZID=Europe/Rome:20260430T233000
DTSTAMP:20260421T061842
CREATED:20250731T202544Z
LAST-MODIFIED:20260417T144556Z
UID:319696-1758920400-1777591800@www.eventiintoscana.it
SUMMARY:Teatri di Pistoia\, Pistoia
DESCRIPTION:‘Ecocentrici. Siamo natura’ è il titolo della stagione 25/26 della Fondazione Teatri di Pistoia\, una programmazione ricca di prosa\, musica\, danza e teatro ragazzi. \nSi conclude il 18 aprile a Il Funaro anche la stagione per ragazzi ‘Ri-belli’: in scena ‘Extraterrestri’\, spettacolo di e con Danila Barone\, Dario Garofalo\, Ilaria Gelmi e Paolo Piano: è la storia di un gruppo di alieni che visita la Terra attratto dalle meraviglie del pianeta (ore 17). Nel corso del mese a Funaro sono inoltre in programma alcuni incontri dedicati alla riscoperta dei libri. Il 17 aprile al Teatro Comunale di Lamporecchio arriva ‘Contrazioni Pericolose’\, commedia scritta\, diretta e interpretata da Gabriele Pignotta con Rocío Muñoz Morales e Giorgio Lupano. La pièce racconta con ironia e ritmo serrato una nascita imminente e un segreto da svelare. Sempre il 17\, al Teatro Francini di Casalguidi\, è la volta di ‘Nikita’\, scritto e interpretato da Francesca Sarteanesi con Alessia Spinelli: è il ritratto di una donna fuori dagli schemi\, ironica e malinconica. Il 19 al Teatro Pacini di Pescia è in programma ‘Le Nozze di Figaro di Mozart’\, con l’Orchestra Leonore diretta da Daniele Giorgi (pag. 13)\, mentre il 24 aprile a Villa Smilea di Montale\, per la nuova rassegna ‘Montale a Teatro’ arriva Alessandro Benvenuti con ‘Letture scapigliate’\, tratto da testi suoi e di Ugo Chiti. \n\nInfo: 0573.991609 – 0573.27112 – www.teatridipistoia.it
URL:https://www.eventiintoscana.it/evento/teatri-di-pistoia-pistoia-4
CATEGORIES:Pistoia,Teatro
ATTACH;FMTTYPE=image/jpeg:https://www.eventiintoscana.it/wp-content/uploads/2025/07/Immagine-2025-07-31-222354.jpg
END:VEVENT
BEGIN:VEVENT
DTSTART;TZID=Europe/Rome:20251020T210000
DTEND;TZID=Europe/Rome:20260516T233000
DTSTAMP:20260421T061842
CREATED:20251126T135920Z
LAST-MODIFIED:20260123T145343Z
UID:321644-1760994000-1778974200@www.eventiintoscana.it
SUMMARY:Teatro Verdi\, Montecatini
DESCRIPTION:Proseguono i concerti al Teatro Verdi di Montecatini. Quattro gli appuntamenti tra dicembre e gennaio\, a partire da mercoledì 10 dicembre con I Negrita nel loro ‘Canzoni per anni spietati Tour’ nel quale la band\, in formazione completa in uno show elettrico\, propone i brani dell’omonimo ultimo disco oltre le canzoni di 30 anni della loro storia. Sabato 27 live dei Nomadi capitanati dall’intramontabile Beppe Carletti che da oltre 60 anni porta in giro la sua Carovana Rock che non si arresta mai\, con oltre 90 concerti all’anno e 1.000.000 di spettatori tra bambini\, genitori e nonni. Venerdì 9 gennaio la Soundtracks Orchestra con i suoi 40 elementi propone le più grandiose colonne sonore della storia del cinema. Venerdì 23 gennaio c’è Dardust in ‘Urban Impressionism Tour’. Il pianista\, produttore e compositore\, porta il suo stile ridisegnando i confini tra classico e contemporaneo. \n_______________________________________________________________________ \nInfo: 0572.78903 – www.teatroverdimontecatini.it
URL:https://www.eventiintoscana.it/evento/teatro-verdi-montecatini
CATEGORIES:Musica e festival,Pistoia
ATTACH;FMTTYPE=image/png:https://www.eventiintoscana.it/wp-content/uploads/2025/11/Teatro-Verdi-Montecatini.png
END:VEVENT
BEGIN:VEVENT
DTSTART;TZID=Europe/Rome:20251101T203000
DTEND;TZID=Europe/Rome:20251121T210000
DTSTAMP:20260421T061842
CREATED:20251029T173959Z
LAST-MODIFIED:20251029T173959Z
UID:321065-1762029000-1763758800@www.eventiintoscana.it
SUMMARY:Teatro Verdi\, Montecatini Terme
DESCRIPTION:Una bella dose di pop a novembre al Verdi di Montecatini. Sabato 1 partenza top con Francesco De Gregori che festeggia i 50 anni di ‘Rimmel’ coi capolavori che hanno conquistato intere generazioni\, da ‘Buonanotte Fiorellino’ a ‘La donna cannone’. Sabato 15 arriva un altro gigante\, Massimo Ranieri con ‘Tutti i sogni ancora in volo’\, un’avventura tra canto\, recitazione\, sketch divertenti e racconti inediti. Giovedì 20 la poesia di Marco Masini in ‘Ci vorrebbe il mare’\, un tour per celebrare 35 anni di successi. Venerdì 21 Silvia Mezzanotte ci racconta ‘La nostra storia nei Matia Bazar’ insieme a Carlo Marrale\, cofondatore dello storico gruppo: un viaggio attraverso successi indimenticabili. \n_______________________________________________________________________ \nInfo: 0572.78903 – www.teatroverdimontecatini.it
URL:https://www.eventiintoscana.it/evento/teatro-verdi-montecatini-terme-2
CATEGORIES:Musica e festival,Pistoia
ATTACH;FMTTYPE=image/jpeg:https://www.eventiintoscana.it/wp-content/uploads/2025/10/matia-bazar-.jpg
END:VEVENT
BEGIN:VEVENT
DTSTART;TZID=Europe/Rome:20251102T180000
DTEND;TZID=Europe/Rome:20251129T190000
DTSTAMP:20260421T061842
CREATED:20251025T134510Z
LAST-MODIFIED:20251025T134510Z
UID:320927-1762106400-1764442800@www.eventiintoscana.it
SUMMARY:POMA Liberatutti\, Pescia
DESCRIPTION:Nel cinquantenario della scomparsa di Pier Paolo Pasolini\, Pescia rende omaggio al grande intellettuale e poeta friulano con ‘Una storia sbagliata. Pasolini sotto assedio’: un mese di incontri\, lezioni e dialoghi ospitati dalla Fondazione POMA Liberatutti dal 2 al 29 novembre. L’iniziativa propone un percorso attraverso le molte sfaccettature della sua opera tra poesia\, cinema\, giornalismo\, arte\, musica per raccontare un autore che continua a interrogare il presente con forza e lucidità. Ogni fine settimana si alterneranno studiosi\, scrittori\, giornalisti e musicisti in una serie di appuntamenti pensati per restituire la complessità di una figura unica nella cultura del Novecento. Si parte il 2 novembre con il professor Gianfranco Bonelli e la riflessione sulla vita e la morte di un intellettuale scomodo. L’8 novembre doppio incontro con Francesco Sgarano del Centro Mauro Bolognini e Fabio Falugiani sul cinema e il “sacro perduto” dei film di Pasolini. Il 9 novembre spazio a Tommaso Tempestini e a Maria Salerno per parlare dell’intellettuale tra contraddizioni\, scrittura e giornalismo. Seguiranno\, il 15 e 16 novembre\, Giovanni Ricci\, Gabriele Bonci e Francesco Girasoli con approfondimenti su sacro\, musica e impegno civile\, mostrando come la figura di Pasolini sia diventata un vero e proprio martire culturale. Il 23 novembre Laura Diafani e Franco Zabagli del Gabinetto Vieusseux esploreranno l’intreccio tra poesia e sceneggiatura\, mentre il 29 novembre Paolo Benassai e Teresa Recami della Fondazione di Studi di Storia dell’Arte Roberto Longhi chiuderanno il ciclo con un focus sugli anni della formazione bolognese e sui rapporti artistici di Pasolini. \n\nInfo: 0572.1770011 – www.pomaliberatutti.it \n 
URL:https://www.eventiintoscana.it/evento/poma-liberatutti-pescia
CATEGORIES:Incontri,Pistoia
ATTACH;FMTTYPE=image/jpeg:https://www.eventiintoscana.it/wp-content/uploads/2025/10/Pier-Paolo-Pasolini.jpeg
END:VEVENT
END:VCALENDAR