BEGIN:VCALENDAR
VERSION:2.0
PRODID:-//Eventi in Toscana By Toscana Tascabile - ECPv6.15.12.2//NONSGML v1.0//EN
CALSCALE:GREGORIAN
METHOD:PUBLISH
X-ORIGINAL-URL:https://www.eventiintoscana.it
X-WR-CALDESC:Eventi per Eventi in Toscana By Toscana Tascabile
REFRESH-INTERVAL;VALUE=DURATION:PT1H
X-Robots-Tag:noindex
X-PUBLISHED-TTL:PT1H
BEGIN:VTIMEZONE
TZID:Europe/Rome
BEGIN:DAYLIGHT
TZOFFSETFROM:+0100
TZOFFSETTO:+0200
TZNAME:CEST
DTSTART:20250330T010000
END:DAYLIGHT
BEGIN:STANDARD
TZOFFSETFROM:+0200
TZOFFSETTO:+0100
TZNAME:CET
DTSTART:20251026T010000
END:STANDARD
BEGIN:DAYLIGHT
TZOFFSETFROM:+0100
TZOFFSETTO:+0200
TZNAME:CEST
DTSTART:20260329T010000
END:DAYLIGHT
BEGIN:STANDARD
TZOFFSETFROM:+0200
TZOFFSETTO:+0100
TZNAME:CET
DTSTART:20261025T010000
END:STANDARD
BEGIN:DAYLIGHT
TZOFFSETFROM:+0100
TZOFFSETTO:+0200
TZNAME:CEST
DTSTART:20270328T010000
END:DAYLIGHT
BEGIN:STANDARD
TZOFFSETFROM:+0200
TZOFFSETTO:+0100
TZNAME:CET
DTSTART:20271031T010000
END:STANDARD
END:VTIMEZONE
BEGIN:VEVENT
DTSTART;TZID=Europe/Rome:20260124T090000
DTEND;TZID=Europe/Rome:20261227T170000
DTSTAMP:20260420T054919
CREATED:20260109T103656Z
LAST-MODIFIED:20260403T135522Z
UID:322277-1769245200-1798390800@www.eventiintoscana.it
SUMMARY:Collezionare in Piazza\, Prato
DESCRIPTION:Tanti appuntamenti anche nel 2026 con Collezionare in Piazza\, il mercatino di piccolo antiquariato\, collezionismo\, modernariato\, rigatteria\, vintage\, artigianato e hobbisti protagonista ogni ultimo fine settimana del mese in piazza San Francesco a Prato. \nDopo aver preso il via a gennaio\, gli appuntamenti targati associazione culturale Il Penny proseguono il 25 e 26 aprile\, il 30 e 31 maggio\, il 27 giugno\, il 26 e 27 settembre\, il 24 e 25 ottobre\, il 28 e 29 novembre e il 27 dicembre. A queste si aggiunge un’edizione straordinaria natalizia del mercato\, in programma martedì 8 dicembre e poi nel fine settimana del 18\, 19 e 20 dicembre.\n \n\nInfo: 339.5423347 (solo whatsapp) – ilpenny@virgilio.it – Pagina Facebook
URL:https://www.eventiintoscana.it/evento/collezionare-in-piazza-prato
CATEGORIES:Fiere e Mercatini,Prato
ATTACH;FMTTYPE=image/jpeg:https://www.eventiintoscana.it/wp-content/uploads/2026/01/Collezionare-in-Piazza-Prato.jpeg
END:VEVENT
BEGIN:VEVENT
DTSTART;TZID=Europe/Rome:20260423T100000
DTEND;TZID=Europe/Rome:20260503T200000
DTSTAMP:20260420T054919
CREATED:20260224T143033Z
LAST-MODIFIED:20260403T141312Z
UID:323481-1776938400-1777838400@www.eventiintoscana.it
SUMMARY:Agrifiera\, Pontasserchio
DESCRIPTION:Dal 23 aprile al 3 maggio torna Agrifiera\, la storica fiera agricola che anche quest’anno si svolgerà nel Parco della Pace ‘Tiziano Terzani’ di Pontasserchio.  L’edizione numero 116 promuove come sempre l’agricoltura\, il territorio\, ma anche la qualità della vita e la genuinità dei prodotti enogastronomici. Nelle tendostrutture e nei padiglioni\, organizzati in isole e corsie\, trovano spazio oltre 100 aziende agricole e produttori di vari settori quali il florovivaismo\, la zootecnia\, l’arredo giardino e tanti altri. Agrifiera non è solo una mostra-mercato: è un luogo in cui tradizione agricola\, innovazione\, prodotti locali e cultura rurale si incontrano\, attirando visitatori\, operatori e famiglie da tutta la regione e oltre. Durante la fiera sono previste molte attività e iniziative per tutti i visitatori: dalle esposizioni di tecnologie e macchine agricole ai laboratori didattici per bambini\, dagli spazi dedicati alla zootecnia alla riproduzione di un villaggio medievale\, dagli spettacoli di intrattenimento musicale allo street food e percorsi enogastronomici con prodotti tipici locali. Previsto un servizio navetta gratuito con fermate in punti strategici di San Giuliano Terme. Orari: dalle 10 alle 20 (alcuni giorni con orario esteso fino alle 23). \n\nInfo: 333.3405845 – 333.4317972 – www.alteregofiere.com
URL:https://www.eventiintoscana.it/evento/agrifiera-pontasserchio
CATEGORIES:Fiere e Mercatini,Pisa
ATTACH;FMTTYPE=image/jpeg:https://www.eventiintoscana.it/wp-content/uploads/2026/02/Agrifiera.jpg
END:VEVENT
BEGIN:VEVENT
DTSTART;TZID=Europe/Rome:20260424T090000
DTEND;TZID=Europe/Rome:20260426T183000
DTSTAMP:20260420T054919
CREATED:20260326T165336Z
LAST-MODIFIED:20260403T141358Z
UID:324028-1777021200-1777228200@www.eventiintoscana.it
SUMMARY:Fiera del Madonnino e Game Fair\, Braccagni
DESCRIPTION:La Fiera del Madonnino 2026 giunge alla sua 46ª edizione. L’appuntamento della Toscana dell’agricoltura è in programma venerdì 24\, sabato 25 e domenica 26 aprile nella zona fieristica di Braccagni\, frazione di Grosseto. È considerata la principale manifestazione regionale dedicata al mondo rurale\, alle tecnologie e ai macchinari agricoli\, con una lunga storia di promozione delle filiere produttive del territorio. Oltre 365 espositori\, 96.000 mq di superficie espositiva\, più di 100 animali in esposizione\, 80 spettacoli al giorno. Qui si incontrano  produttori\, imprenditori\, operatori del settore e appassionati per scoprire le novità in tema di agricoltura\, zootecnia\, vivaismo\, agroalimentare e innovazione tecnologica per la ruralità. La fiera copre settori come macchine agricole\, attrezzature\, servizi\, prodotti agroalimentari e aree dimostrative\, con spazi espositivi dedicati anche a casalinghi\, arredi\, elettronica e abbigliamento. \nAll’interno della Fiera del Madonnino torna anche il Game Fair Italia\, giunto alla sua 34ª edizione\, il più grande evento italiano dedicato alla cultura outdoor\, alla natura e alle attività all’aria aperta: caccia\, tiro\, cinofilia\, falconeria\, vita con i cavalli\, fattorie didattiche\, percorsi di survival e altre attrazioni rivolte a famiglie\, sportivi e appassionati di outdoor. Offre numerose aree tematiche come linee di tiro\, dimostrazioni con animali e laboratori per bambini\, un villaggio del metal detector\, percorsi gastronomici e spazi dedicati ai prodotti tipici della tradizione. \nPer il 2026 la manifestazione agricola ha inserito anche Etruria Vinum\, una nuova rassegna dedicata alla viticoltura e all’enologia\, con tecnologie e servizi per la filiera del vino\, riflettendo l’importanza di questo settore per l’economia toscana. L’ingresso è aperto al pubblico dalle ore 9:00 alle 18:30 con biglietti che permettono di visitare entrambi gli eventi in un’unica esperienza fieristica\, con possibilità di formule giornaliere o abbonamenti per più giorni\, e l’ingresso gratuito per i bambini fino a 12 anni. \n\nInfo: 0564.410979 – www.fieradelmadonnino.it – www.gamefairitalia.it
URL:https://www.eventiintoscana.it/evento/fiera-del-madonnino-e-game-fair-braccagni
CATEGORIES:Fiere e Mercatini,Grosseto
ATTACH;FMTTYPE=image/jpeg:https://www.eventiintoscana.it/wp-content/uploads/2026/03/madonnino-game-fair-2026.jpg
END:VEVENT
BEGIN:VEVENT
DTSTART;TZID=Europe/Rome:20260424T100000
DTEND;TZID=Europe/Rome:20260426T200000
DTSTAMP:20260420T054919
CREATED:20260326T171822Z
LAST-MODIFIED:20260403T141453Z
UID:324051-1777024800-1777233600@www.eventiintoscana.it
SUMMARY:Elba Comics Plus Players\, Porto Azzurro
DESCRIPTION:L’Elba Comics Plus Players è un festival dedicato alla cultura pop\, al fumetto e al gaming che anima per tre giorni\, dal 24 al 26 aprile\, l’Isola d’Elba\, trasformando Porto Azzurro in un polo di creatività e intrattenimento. Nato da un’idea del direttore artistico Stefano Picchi\, questa manifestazione unisce la passione per i fumetti\, i giochi da tavolo e digitali\, il cosplay e le tecnologie interattive. \nIl programma si articola in più aree tematiche: una dedicata ai fumetti classici e moderni\, una per i “players” con sessioni di giochi elettronici e analogici\, spazi per fan art e illustrazione\, aree di didattica e formazione con workshop e masterclass e una zona “movie” con proiezioni ed eventi legati al mondo delle serie animate e del cinema pop. L’evento include anche un concorso cosplay per premiare i migliori costumi\, tornei di gioco e attività interattive pensate per tutte le età. \n\nInfo: 0565.921654 – 351.7195991
URL:https://www.eventiintoscana.it/evento/elba-comics-plus-players-porto-azzurro
CATEGORIES:Fiere e Mercatini,Livorno
ATTACH;FMTTYPE=image/jpeg:https://www.eventiintoscana.it/wp-content/uploads/2026/03/elba-comics-2.jpg
END:VEVENT
BEGIN:VEVENT
DTSTART;TZID=Europe/Rome:20260424T100000
DTEND;TZID=Europe/Rome:20260426T200000
DTSTAMP:20260420T054919
CREATED:20260326T173519Z
LAST-MODIFIED:20260403T141549Z
UID:324066-1777024800-1777233600@www.eventiintoscana.it
SUMMARY:Country & Garden Show\, Marina di Pietrasanta
DESCRIPTION:Il Country & Garden Show si svolge a Marina di Pietrasanta\, nel Parco e nella Villa La Versiliana\, dal 24 al 26 aprile\, con ingresso gratuito e orario continuato dalle ore 10:00 alle 20:00. La mostra mercato\, dedicata al ‘vivere in campagna’\, porta in Versilia decine di espositori da tutta Italia con proposte legate alla natura\, alla casa e allo stile country. Tra gli stand si trovano fiori\, piante\, arredi da giardino\, complementi d’arredo\, accessori per la casa\, abbigliamento\, oggettistica di gusto retrò e prodotti tipici enogastronomici. L’evento celebra l’arrivo della primavera con colori\, profumi e idee per il giardino e la casa\, offrendo spunti per decorazioni esterne e interne\, soluzioni verdi e creazioni artigianali originali. \n\nInfo: www.facebook.com/countrygardenshow
URL:https://www.eventiintoscana.it/evento/country-garden-show-marina-di-pietrasanta
CATEGORIES:Fiere e Mercatini,Lucca
ATTACH;FMTTYPE=image/jpeg:https://www.eventiintoscana.it/wp-content/uploads/2026/03/country-e-garden-show.jpg
END:VEVENT
BEGIN:VEVENT
DTSTART;TZID=Europe/Rome:20260424T100000
DTEND;TZID=Europe/Rome:20260503T190000
DTSTAMP:20260420T054919
CREATED:20260326T165827Z
LAST-MODIFIED:20260403T141629Z
UID:324033-1777024800-1777834800@www.eventiintoscana.it
SUMMARY:Mostra Mercato dell'Artigianato della Valtiberina\, Anghiari
DESCRIPTION:51ª edizione per la Mostra Mercato dell’Artigianato della Valtiberina Toscana\, in programma ad Anghiari dal 24 al 26 aprile e dal 1 al 3 maggio. E’ un appuntamento culturale e commerciale di grande rilievo che trasforma il centro storico del borgo in una suggestiva vetrina dedicata al mondo del fatto a mano. La manifestazione porta in scena un percorso diffuso di artigianato artistico e tradizionale\, richiamando visitatori\, appassionati di creatività e operatori del settore da tutta la Toscana e oltre. \nNei due fine settimana\, passeggiando tra le vie e le piazze acciottolate di Anghiari\, si incontrano botteghe e laboratori allestiti con maestri artigiani che espongono e lavorano dal vivo materiali come legno\, cuoio\, ferro battuto\, ceramica\, tessuti e metalli preziosi. Durante la mostra mercato sono frequenti anche dimostrazioni dal vivo e workshop che invitano i visitatori a osservare direttamente i processi creativi\, dalla lavorazione del legno alla ceramica\, dalla tessitura alla lavorazione del metallo. Un importante spazio è dedicato all’artigianato artistico\, nella Sala del Consiglio di Palazzo Pretorio\, nell’esposizione ‘I mestieri dell’arte fra Tevere ed Arno’. \nLe botteghe artigiane sono aperte dal 24 al 26 aprile e dal 1 al 3 maggio dalle ore 10 alle 19. \n\nInfo: 0575.749279 – www.mostramercatovaltiberina.it
URL:https://www.eventiintoscana.it/evento/mostra-mercato-dellartigianato-della-valtiberina-anghiari
CATEGORIES:arezzo,Fiere e Mercatini
ATTACH;FMTTYPE=image/jpeg:https://www.eventiintoscana.it/wp-content/uploads/2026/03/Mostra-artigianato-Valtiberina-Anghiari.jpg
END:VEVENT
END:VCALENDAR