BEGIN:VCALENDAR
VERSION:2.0
PRODID:-//Eventi in Toscana By Toscana Tascabile - ECPv6.15.12.2//NONSGML v1.0//EN
CALSCALE:GREGORIAN
METHOD:PUBLISH
X-ORIGINAL-URL:https://www.eventiintoscana.it
X-WR-CALDESC:Eventi per Eventi in Toscana By Toscana Tascabile
REFRESH-INTERVAL;VALUE=DURATION:PT1H
X-Robots-Tag:noindex
X-PUBLISHED-TTL:PT1H
BEGIN:VTIMEZONE
TZID:Europe/Rome
BEGIN:DAYLIGHT
TZOFFSETFROM:+0100
TZOFFSETTO:+0200
TZNAME:CEST
DTSTART:20250330T010000
END:DAYLIGHT
BEGIN:STANDARD
TZOFFSETFROM:+0200
TZOFFSETTO:+0100
TZNAME:CET
DTSTART:20251026T010000
END:STANDARD
BEGIN:DAYLIGHT
TZOFFSETFROM:+0100
TZOFFSETTO:+0200
TZNAME:CEST
DTSTART:20260329T010000
END:DAYLIGHT
BEGIN:STANDARD
TZOFFSETFROM:+0200
TZOFFSETTO:+0100
TZNAME:CET
DTSTART:20261025T010000
END:STANDARD
BEGIN:DAYLIGHT
TZOFFSETFROM:+0100
TZOFFSETTO:+0200
TZNAME:CEST
DTSTART:20270328T010000
END:DAYLIGHT
BEGIN:STANDARD
TZOFFSETFROM:+0200
TZOFFSETTO:+0100
TZNAME:CET
DTSTART:20271031T010000
END:STANDARD
END:VTIMEZONE
BEGIN:VEVENT
DTSTART;TZID=Europe/Rome:20260124T090000
DTEND;TZID=Europe/Rome:20261227T170000
DTSTAMP:20260420T032228
CREATED:20260109T103656Z
LAST-MODIFIED:20260403T135522Z
UID:322277-1769245200-1798390800@www.eventiintoscana.it
SUMMARY:Collezionare in Piazza\, Prato
DESCRIPTION:Tanti appuntamenti anche nel 2026 con Collezionare in Piazza\, il mercatino di piccolo antiquariato\, collezionismo\, modernariato\, rigatteria\, vintage\, artigianato e hobbisti protagonista ogni ultimo fine settimana del mese in piazza San Francesco a Prato. \nDopo aver preso il via a gennaio\, gli appuntamenti targati associazione culturale Il Penny proseguono il 25 e 26 aprile\, il 30 e 31 maggio\, il 27 giugno\, il 26 e 27 settembre\, il 24 e 25 ottobre\, il 28 e 29 novembre e il 27 dicembre. A queste si aggiunge un’edizione straordinaria natalizia del mercato\, in programma martedì 8 dicembre e poi nel fine settimana del 18\, 19 e 20 dicembre.\n \n\nInfo: 339.5423347 (solo whatsapp) – ilpenny@virgilio.it – Pagina Facebook
URL:https://www.eventiintoscana.it/evento/collezionare-in-piazza-prato
CATEGORIES:Fiere e Mercatini,Prato
ATTACH;FMTTYPE=image/jpeg:https://www.eventiintoscana.it/wp-content/uploads/2026/01/Collezionare-in-Piazza-Prato.jpeg
END:VEVENT
BEGIN:VEVENT
DTSTART;TZID=Europe/Rome:20260409T110000
DTEND;TZID=Europe/Rome:20260412T190000
DTSTAMP:20260420T032228
CREATED:20260326T170135Z
LAST-MODIFIED:20260403T140204Z
UID:324036-1775732400-1776020400@www.eventiintoscana.it
SUMMARY:Creative Factory\, Firenze
DESCRIPTION:L’appuntamento di aprile con l’urban market fiorentino dedicato all’artigianato contemporaneo\, design indipendente e creatività emergente\, ideato e curato dall’Associazione Heyart\, è previsto l’11 ed il 12 aprile. In Piazza dei Ciompi si possono scoprire creazioni uniche\, autoproduzioni\, gioielli\, abbigliamento\, ceramiche\, moda indipendente e design sostenibile. Il Creative Factory offre l’opportunità di incontrare direttamente gli artigiani ed acquistare pezzi originali in serie limitata. Accanto al market\, dal 9 al 12 aprile\, prende vita Inside Factory\, l’evento collaterale che\, tramite laboratori creativi\, accoglie diversi designer selezionati tra i quali Yuliya Biagini (il 10 alle ore 16) e Terr.Ari (il 12 alle ore 16). Durante le 4 giornate la fashion designer Meeja Furlan offrirà consulenze stilistiche personalizzate. \n\nInfo: www.facebook.com/creativefactoryfirenze
URL:https://www.eventiintoscana.it/evento/creative-factory-firenze-12
CATEGORIES:Fiere e Mercatini,Firenze
ATTACH;FMTTYPE=image/jpeg:https://www.eventiintoscana.it/wp-content/uploads/2026/03/creative-factory-1.jpg
END:VEVENT
BEGIN:VEVENT
DTSTART;TZID=Europe/Rome:20260410T100000
DTEND;TZID=Europe/Rome:20260412T200000
DTSTAMP:20260420T032228
CREATED:20260222T101730Z
LAST-MODIFIED:20260403T140257Z
UID:323410-1775815200-1776024000@www.eventiintoscana.it
SUMMARY:VerdeMura\, Lucca
DESCRIPTION:Da venerdì 10 a domenica 12 aprile torna a Lucca\, per la 17ª edizione\, l’appuntamento con VerdeMura: la mostra mercato del giardinaggio e del vivere all’aria aperta organizzata nel bellissimo contesto delle Mura urbane di Lucca\, sui baluardi San Regolo\, La Libertà e nell’Orto Botanico. Oltre 170 espositori italiani e stranieri – perlopiù vivaisti e con un’offerta che spazia in tutti i settori del mondo vegetale – propongono nei propri stand piante e specie orticole\, arbusti\, bulbi\, attrezzi e arredi per il giardino e per l’orto\, oltre a prodotti artigianali di eccellenza. All’interno di un ricco programma culturale\, botanico e orticolo\, ci saranno mostre tematiche\, ma anche incontri\, novità editoriali e soprattutto laboratori aperti a chiunque per intrattenere i visitatori e regalare una giornata indimenticabile. \n\nInfo: 366.4228615 – www.verdemura.it
URL:https://www.eventiintoscana.it/evento/verdemura-lucca-4
CATEGORIES:Fiere e Mercatini,Lucca
ATTACH;FMTTYPE=image/png:https://www.eventiintoscana.it/wp-content/uploads/2026/02/verde-mura-2.png
END:VEVENT
BEGIN:VEVENT
DTSTART;TZID=Europe/Rome:20260410T100000
DTEND;TZID=Europe/Rome:20260412T220000
DTSTAMP:20260420T032228
CREATED:20260326T173049Z
LAST-MODIFIED:20260403T140336Z
UID:324063-1775815200-1776031200@www.eventiintoscana.it
SUMMARY:Tattoo Expo\, Lucca
DESCRIPTION:Lucca Tattoo Expo giunge all’edizione numero 13 dell’appuntamento dedicato all’arte del tatuaggio e del body art\, in programma dal 10 al 12 aprile presso il Lucca Polo Fiere & Tecnologia Spa a Sorbano del Giudice. L’evento riunisce oltre 200 artisti del tatuaggio e piercer provenienti da tutta Italia e dall’estero\, offrendo ai visitatori la possibilità di scoprire stili diversi\, assistere a esecuzioni dal vivo e incontrare i creativi dietro le opere. Oltre alla parte espositiva\, la fiera propone spettacoli\, musica dal vivo\, dj set\, stand di merchandising\, aree dedicate al cibo e zone relax. Un elemento di grande richiamo è la competizione tra tatuatori\, con un montepremi di €1 000 in tatuaggi\, che premia le opere e gli artisti più apprezzati nelle diverse categorie. \n\nInfo: 392.7253325 – www.luccatattooexpo.it
URL:https://www.eventiintoscana.it/evento/lucca-tattoo-expo-lucca-2
CATEGORIES:Fiere e Mercatini,Lucca
ATTACH;FMTTYPE=image/jpeg:https://www.eventiintoscana.it/wp-content/uploads/2026/03/lucca-tattoo-expo.jpg
END:VEVENT
BEGIN:VEVENT
DTSTART;TZID=Europe/Rome:20260411T110000
DTEND;TZID=Europe/Rome:20260412T200000
DTSTAMP:20260420T032228
CREATED:20260326T170716Z
LAST-MODIFIED:20260403T140441Z
UID:324042-1775905200-1776024000@www.eventiintoscana.it
SUMMARY:Hand Made MMXXVI\, Firenze
DESCRIPTION:Le Eccellenze Artigiane si svolge sabato 11 e domenica 12 aprile al The Stellar\, in piazza di Cestello 10 a Firenze\, con ingresso libero dalle ore 11 alle 20. L’evento Hand Made MMXXVI\, dedicato alla creatività e alla qualità dell’artigianato italiano\, offre un’esperienza unica tra tradizione e design. La location\, uno storico palazzo noto come Il Granaio dell’Abbondanza\, oggi trasformato in uno spazio multifunzionale elegante e contemporaneo\, accoglie espositori di bijoux e gioielli artigianali\, abbigliamento\, borse e accessori\, profumi\, decorazioni per la casa e selezioni enogastronomiche di alta qualità. \n\nInfo: 329.8056528 – 333.2521819
URL:https://www.eventiintoscana.it/evento/hand-made-mmxxvi-firenze
CATEGORIES:Fiere e Mercatini,Firenze
ATTACH;FMTTYPE=image/jpeg:https://www.eventiintoscana.it/wp-content/uploads/2026/03/hand-made-MMXXVI.jpg
END:VEVENT
END:VCALENDAR