BEGIN:VCALENDAR
VERSION:2.0
PRODID:-//Eventi in Toscana By Toscana Tascabile - ECPv6.15.12.2//NONSGML v1.0//EN
CALSCALE:GREGORIAN
METHOD:PUBLISH
X-WR-CALNAME:Eventi in Toscana By Toscana Tascabile
X-ORIGINAL-URL:https://www.eventiintoscana.it
X-WR-CALDESC:Eventi per Eventi in Toscana By Toscana Tascabile
REFRESH-INTERVAL;VALUE=DURATION:PT1H
X-Robots-Tag:noindex
X-PUBLISHED-TTL:PT1H
BEGIN:VTIMEZONE
TZID:Europe/Rome
BEGIN:DAYLIGHT
TZOFFSETFROM:+0100
TZOFFSETTO:+0200
TZNAME:CEST
DTSTART:20250330T010000
END:DAYLIGHT
BEGIN:STANDARD
TZOFFSETFROM:+0200
TZOFFSETTO:+0100
TZNAME:CET
DTSTART:20251026T010000
END:STANDARD
BEGIN:DAYLIGHT
TZOFFSETFROM:+0100
TZOFFSETTO:+0200
TZNAME:CEST
DTSTART:20260329T010000
END:DAYLIGHT
BEGIN:STANDARD
TZOFFSETFROM:+0200
TZOFFSETTO:+0100
TZNAME:CET
DTSTART:20261025T010000
END:STANDARD
BEGIN:DAYLIGHT
TZOFFSETFROM:+0100
TZOFFSETTO:+0200
TZNAME:CEST
DTSTART:20270328T010000
END:DAYLIGHT
BEGIN:STANDARD
TZOFFSETFROM:+0200
TZOFFSETTO:+0100
TZNAME:CET
DTSTART:20271031T010000
END:STANDARD
END:VTIMEZONE
BEGIN:VEVENT
DTSTART;TZID=Europe/Rome:20260124T090000
DTEND;TZID=Europe/Rome:20261227T170000
DTSTAMP:20260420T215444
CREATED:20260109T103656Z
LAST-MODIFIED:20260403T135522Z
UID:322277-1769245200-1798390800@www.eventiintoscana.it
SUMMARY:Collezionare in Piazza\, Prato
DESCRIPTION:Tanti appuntamenti anche nel 2026 con Collezionare in Piazza\, il mercatino di piccolo antiquariato\, collezionismo\, modernariato\, rigatteria\, vintage\, artigianato e hobbisti protagonista ogni ultimo fine settimana del mese in piazza San Francesco a Prato. \nDopo aver preso il via a gennaio\, gli appuntamenti targati associazione culturale Il Penny proseguono il 25 e 26 aprile\, il 30 e 31 maggio\, il 27 giugno\, il 26 e 27 settembre\, il 24 e 25 ottobre\, il 28 e 29 novembre e il 27 dicembre. A queste si aggiunge un’edizione straordinaria natalizia del mercato\, in programma martedì 8 dicembre e poi nel fine settimana del 18\, 19 e 20 dicembre.\n \n\nInfo: 339.5423347 (solo whatsapp) – ilpenny@virgilio.it – Pagina Facebook
URL:https://www.eventiintoscana.it/evento/collezionare-in-piazza-prato
CATEGORIES:Fiere e Mercatini,Prato
ATTACH;FMTTYPE=image/jpeg:https://www.eventiintoscana.it/wp-content/uploads/2026/01/Collezionare-in-Piazza-Prato.jpeg
END:VEVENT
BEGIN:VEVENT
DTSTART;TZID=Europe/Rome:20260307T100000
DTEND;TZID=Europe/Rome:20260329T180000
DTSTAMP:20260420T215444
CREATED:20260225T135538Z
LAST-MODIFIED:20260319T214832Z
UID:323596-1772877600-1774807200@www.eventiintoscana.it
SUMMARY:Mostra delle Antiche Camelie\, Sant'Andrea e Pieve di Compito
DESCRIPTION:L’evento primaverile che trasforma i borghi di Sant’Andrea e Pieve di Compito (Capannori)\, attirando appassionati di botanica\, cultura e tradizioni\, si svolge nei quattro fine settimana di marzo: 7-8\, 14-15\, 21-22 e 28-29. La Mostra delle Antiche Camelie celebra le antiche varietà di camelia coltivate da secoli in Lucchesia\, con migliaia di piante in fiore che colorano giardini\, cortili e ville storiche. Il cuore dell’evento è il Camellietum Compitese\, un giardino di eccellenza riconosciuto a livello internazionale\, dove sono esposte centinaia di cultivar di camelie (japonica\, sinensis\, higo e altre). Qui e nei giardini di ville storiche come Villa Orsi\, Villa Borrini e la Villa Reale di Marlia\, i visitatori possono ammirare esemplari secolari e partecipare a visite guidate botaniche. Il programma delle giornate include escursioni tematiche attraverso il Borgo delle Camelie\, con possibilità di salire alla torre medievale di avvistamento; laboratori creativi e attività per bambini; mostre fotografiche; rievocazioni storiche che raccontano tradizioni locali. Una parte fondamentale dell’esperienza è il legame con la cultura enogastronomica locale: nei punti ristoro del borgo si possono gustare piatti tipici lucchesi e offerte speciali come degustazioni di tè\, prodotto storico ottenuto dalla camelia sinensis\, coltivata all’Antica Chiusa Borrini\, la prima piantagione di tè in Italia. Orario: dalle ore 10 alle 18. Programma sul sito. \n\nInfo: 0583.977188 – www.camelielucchesia.it \n  \n \n  \n \n 
URL:https://www.eventiintoscana.it/evento/mostra-delle-antiche-camelie-santandrea-e-pieve-di-compito
CATEGORIES:Fiere e Mercatini,Lucca
ATTACH;FMTTYPE=image/jpeg:https://www.eventiintoscana.it/wp-content/uploads/2026/02/antiche-camelie.jpg
END:VEVENT
BEGIN:VEVENT
DTSTART;TZID=Europe/Rome:20260307T110000
DTEND;TZID=Europe/Rome:20260322T190000
DTSTAMP:20260420T215444
CREATED:20260224T150057Z
LAST-MODIFIED:20260224T150057Z
UID:323496-1772881200-1774206000@www.eventiintoscana.it
SUMMARY:Only Usato Market\, Firenze
DESCRIPTION:Il mercato di second hand & vintage è fissato per sabato 7 marzo\, dalle ore 11 alle ore 19\, in via Cirillo 1R\, il 15 alla Limonaia di Villa Strozzi ed il 22 al Coventino\, sempre dalle 11 alle 19. Only Usato Market è un mercato dedicato alla moda second hand\, al vintage e all’upcycling\, ovvero capi e accessori usati ma di qualità\, stilosi\, economici e sostenibili. L’evento è pensato per chi ama dare nuova vita a vestiti\, borse e oggetti invece di comprare sempre cose nuove\, con un forte spirito di shopping consapevole e creativo. Tra stand di abbigliamento vintage\, accessori e oggetti vari selezionati con gusto e stile\, il mercato si svolge all’aperto e coinvolge giovani creativi\, espositori indipendenti e amanti della scena vintage urbana. \n\nInfo: 055.7092563 – www.facebook.com/onlyusatomarket \n 
URL:https://www.eventiintoscana.it/evento/only-usato-market-firenze-2
CATEGORIES:Fiere e Mercatini,Firenze
ATTACH;FMTTYPE=image/jpeg:https://www.eventiintoscana.it/wp-content/uploads/2026/02/only-usato-market.jpg
END:VEVENT
BEGIN:VEVENT
DTSTART;TZID=Europe/Rome:20260312T083000
DTEND;TZID=Europe/Rome:20260313T200000
DTSTAMP:20260420T215444
CREATED:20260224T160549Z
LAST-MODIFIED:20260224T160549Z
UID:323562-1773304200-1773432000@www.eventiintoscana.it
SUMMARY:Seatchnology\, Marina di Carrara
DESCRIPTION:Seatechnology è l’evoluzione dell’appuntamento professionale Seatec e si tiene il 12 e 13 marzo negli spazi di Carrara Fiere a Marina di Carrara. È un evento di riferimento per l’innovazione tecnologica nella Yachting Industry\, focalizzato su tecnologie avanzate\, componentistica\, design\, materiali compositi e sostenibilità applicati alla nautica da diporto e navale\, inserito nella ‘Tuscany Yachting Week’. Il programma delle due giornate prevede incontri B2B\, networking tra aziende\, progettisti e operatori del settore\, premi per innovazione e design e talk tematici. Il 12 alle 14.30 il convegno ‘Use of AI in yacht design’\, il 13 alle 8.30 il seminario del Rina dal titolo ‘Nuove normative nel settore yachting’. All’interno dell’evento sono incluse aree dedicate all’innovazione delle start-up. \n\nInfo: 0585.787963 – www.sea-tec.it \n 
URL:https://www.eventiintoscana.it/evento/seatchnology-marina-di-carrara
CATEGORIES:Fiere e Mercatini,Massa e Carrara
ATTACH;FMTTYPE=image/jpeg:https://www.eventiintoscana.it/wp-content/uploads/2026/02/seatechnology.jpg
END:VEVENT
BEGIN:VEVENT
DTSTART;TZID=Europe/Rome:20260313T090000
DTEND;TZID=Europe/Rome:20260315T200000
DTSTAMP:20260420T215444
CREATED:20260224T144759Z
LAST-MODIFIED:20260226T104440Z
UID:323485-1773392400-1773604800@www.eventiintoscana.it
SUMMARY:Mercatino regionale francese\, Scandicci
DESCRIPTION:L’appuntamento enogastronomico e culturale ricco di degustazioni\, artigianato e specialità d’oltralpe si svolge in piazza Pantin da venerdì 13 a domenica 15 marzo. Il Mercatino regionale francese è organizzato in collaborazione con il Comune di Scandicci e porta in città una piccola ‘frazione di Francia’ con prodotti tipici\, profumi\, sapori e artigianato d’oltralpe. Il mercatino offre una ricca selezione di prodotti enogastronomici: più di 80 tipi di formaggi dalle varie regioni della Francia (Mont d’Or\, Camembert\, Brie…)\, una vasta gamma di vini francesi (dallo Champagne al Bordeaux)\, degustazioni di dolci\, prodotti da forno freschi come baguette e croissant. E ancora artigianato tipico francese: lavanda\, saponi\, profumi\, tovaglie provenzali\, accessori moda e altri prodotti dalle regioni francesi. Orari: venerdì dalle ore 12 alle 20\, sabato e domenica dalle 9 alle 20. \n\nInfo: 347.3387137 – www.facebook.com/mercatinoregionalefrancese
URL:https://www.eventiintoscana.it/evento/mercatino-regionale-francese-scandicci
CATEGORIES:Fiere e Mercatini,Firenze
ATTACH;FMTTYPE=image/jpeg:https://www.eventiintoscana.it/wp-content/uploads/2026/02/mercatino-regionale-francese-scandicci.jpg
END:VEVENT
END:VCALENDAR